BEGIN:VCALENDAR
PRODID:-//gdesolutions.com//MV Framework 1.0.0.1607 Calendar//EN
VERSION:2.0
METHOD:PUBLISH
CALSCALE:GREGORIAN
BEGIN:VEVENT
UID:gdlpb@games.golnetwork.com
LOCATION:Central Tech - Field 3
CREATED:20181029T183425Z
DTSTART:20181106T010000Z
DTEND:20181106T020000Z
DTSTAMP:20260421T061252Z
SUMMARY:Goal-bergine F.C. vs. Let's Get Schwifty
DESCRIPTION:Let's Get Schwifty vs. Goal-bergine F.C.More info: #95
X-ALT-DESC;FMTTYPE=text/html:<!DOCTYPE HTML PUBLIC "-//W3C//DTD HTML 3.2//E
	N">\n<HTML>\n<HEAD>\n<TITLE></TITLE>\n</HEAD>\n<BODY>\n<h3>Let's Get Schwif
	ty vs. Goal-bergine F.C.</h3>More info: <a href="https://www.golnetwork.com
	/game/v/134938/">#95</a>\n\n</BODY>\n</HTML>
STATUS:CONFIRMED
CLASS:PUBLIC
URL:https://www.golnetwork.com/game/v/134938/
X-MICROSOFT-CDO-BUSYSTATUS:BUSY
X-MICROSOFT-CDO-IMPORTANCE:1
END:VEVENT
BEGIN:VEVENT
UID:gdlpd@games.golnetwork.com
LOCATION:Central Tech - Field 3
CREATED:20181029T183433Z
DTSTART:20181106T030000Z
DTEND:20181106T040000Z
DTSTAMP:20260421T061252Z
SUMMARY:Nippon Ham Fighters vs. Kiss My Pass
DESCRIPTION:Kiss My Pass vs. Nippon Ham FightersMore info: #101
X-ALT-DESC;FMTTYPE=text/html:<!DOCTYPE HTML PUBLIC "-//W3C//DTD HTML 3.2//E
	N">\n<HTML>\n<HEAD>\n<TITLE></TITLE>\n</HEAD>\n<BODY>\n<h3>Kiss My Pass vs.
	 Nippon Ham Fighters</h3>More info: <a href="https://www.golnetwork.com/gam
	e/v/134939/">#101</a>\n\n</BODY>\n</HTML>
STATUS:CONFIRMED
CLASS:PUBLIC
URL:https://www.golnetwork.com/game/v/134939/
X-MICROSOFT-CDO-BUSYSTATUS:BUSY
X-MICROSOFT-CDO-IMPORTANCE:1
END:VEVENT
BEGIN:VEVENT
UID:gdlpf@games.golnetwork.com
LOCATION:Central Tech - Field 3
CREATED:20181029T183443Z
DTSTART:20181106T040000Z
DTEND:20181106T050000Z
DTSTAMP:20260421T061252Z
SUMMARY:The Business vs. OLE
DESCRIPTION:OLE vs. The BusinessMore info: #104
X-ALT-DESC;FMTTYPE=text/html:<!DOCTYPE HTML PUBLIC "-//W3C//DTD HTML 3.2//E
	N">\n<HTML>\n<HEAD>\n<TITLE></TITLE>\n</HEAD>\n<BODY>\n<h3>OLE vs. The Busi
	ness</h3>More info: <a href="https://www.golnetwork.com/game/v/134940/">#10
	4</a>\n\n</BODY>\n</HTML>
STATUS:CONFIRMED
CLASS:PUBLIC
URL:https://www.golnetwork.com/game/v/134940/
X-MICROSOFT-CDO-BUSYSTATUS:BUSY
X-MICROSOFT-CDO-IMPORTANCE:1
END:VEVENT
BEGIN:VEVENT
UID:gdlph@games.golnetwork.com
LOCATION:Central Tech - Field 3
CREATED:20181029T183454Z
DTSTART:20181113T010000Z
DTEND:20181113T020000Z
DTSTAMP:20260421T061252Z
SUMMARY:Nippon Ham Fighters vs. The Business
DESCRIPTION:The Business vs. Nippon Ham FightersMore info: #176
X-ALT-DESC;FMTTYPE=text/html:<!DOCTYPE HTML PUBLIC "-//W3C//DTD HTML 3.2//E
	N">\n<HTML>\n<HEAD>\n<TITLE></TITLE>\n</HEAD>\n<BODY>\n<h3>The Business vs.
	 Nippon Ham Fighters</h3>More info: <a href="https://www.golnetwork.com/gam
	e/v/134941/">#176</a>\n\n</BODY>\n</HTML>
STATUS:CONFIRMED
CLASS:PUBLIC
URL:https://www.golnetwork.com/game/v/134941/
X-MICROSOFT-CDO-BUSYSTATUS:BUSY
X-MICROSOFT-CDO-IMPORTANCE:1
END:VEVENT
BEGIN:VEVENT
UID:gdlpj@games.golnetwork.com
LOCATION:Central Tech - Field 3
CREATED:20181029T183501Z
DTSTART:20181113T020000Z
DTEND:20181113T030000Z
DTSTAMP:20260421T061252Z
SUMMARY:Goal-bergine F.C. vs. OLE
DESCRIPTION:OLE vs. Goal-bergine F.C.More info: #179
X-ALT-DESC;FMTTYPE=text/html:<!DOCTYPE HTML PUBLIC "-//W3C//DTD HTML 3.2//E
	N">\n<HTML>\n<HEAD>\n<TITLE></TITLE>\n</HEAD>\n<BODY>\n<h3>OLE vs. Goal-ber
	gine F.C.</h3>More info: <a href="https://www.golnetwork.com/game/v/134942/
	">#179</a>\n\n</BODY>\n</HTML>
STATUS:CONFIRMED
CLASS:PUBLIC
URL:https://www.golnetwork.com/game/v/134942/
X-MICROSOFT-CDO-BUSYSTATUS:BUSY
X-MICROSOFT-CDO-IMPORTANCE:1
END:VEVENT
BEGIN:VEVENT
UID:gdlpl@games.golnetwork.com
LOCATION:Central Tech - Field 3
CREATED:20181029T183509Z
DTSTART:20181113T040000Z
DTEND:20181113T050000Z
DTSTAMP:20260421T061252Z
SUMMARY:Kiss My Pass vs. Let's Get Schwifty
DESCRIPTION:Let's Get Schwifty vs. Kiss My PassMore info: #185
X-ALT-DESC;FMTTYPE=text/html:<!DOCTYPE HTML PUBLIC "-//W3C//DTD HTML 3.2//E
	N">\n<HTML>\n<HEAD>\n<TITLE></TITLE>\n</HEAD>\n<BODY>\n<h3>Let's Get Schwif
	ty vs. Kiss My Pass</h3>More info: <a href="https://www.golnetwork.com/game
	/v/134943/">#185</a>\n\n</BODY>\n</HTML>
STATUS:CONFIRMED
CLASS:PUBLIC
URL:https://www.golnetwork.com/game/v/134943/
X-MICROSOFT-CDO-BUSYSTATUS:BUSY
X-MICROSOFT-CDO-IMPORTANCE:1
END:VEVENT
BEGIN:VEVENT
UID:gdlpn@games.golnetwork.com
LOCATION:Central Tech - Field 3
CREATED:20181029T183520Z
DTSTART:20181120T010000Z
DTEND:20181120T020000Z
DTSTAMP:20260421T061252Z
SUMMARY:Kiss My Pass vs. The Business
DESCRIPTION:The Business vs. Kiss My PassMore info: #268
X-ALT-DESC;FMTTYPE=text/html:<!DOCTYPE HTML PUBLIC "-//W3C//DTD HTML 3.2//E
	N">\n<HTML>\n<HEAD>\n<TITLE></TITLE>\n</HEAD>\n<BODY>\n<h3>The Business vs.
	 Kiss My Pass</h3>More info: <a href="https://www.golnetwork.com/game/v/134
	944/">#268</a>\n\n</BODY>\n</HTML>
STATUS:CONFIRMED
CLASS:PUBLIC
URL:https://www.golnetwork.com/game/v/134944/
X-MICROSOFT-CDO-BUSYSTATUS:BUSY
X-MICROSOFT-CDO-IMPORTANCE:1
END:VEVENT
BEGIN:VEVENT
UID:gdlpp@games.golnetwork.com
LOCATION:Central Tech - Field 3
CREATED:20181029T183528Z
DTSTART:20181120T030000Z
DTEND:20181120T040000Z
DTSTAMP:20260421T061252Z
SUMMARY:OLE vs. Let's Get Schwifty
DESCRIPTION:Let's Get Schwifty vs. OLEMore info: #274
X-ALT-DESC;FMTTYPE=text/html:<!DOCTYPE HTML PUBLIC "-//W3C//DTD HTML 3.2//E
	N">\n<HTML>\n<HEAD>\n<TITLE></TITLE>\n</HEAD>\n<BODY>\n<h3>Let's Get Schwif
	ty vs. OLE</h3>More info: <a href="https://www.golnetwork.com/game/v/134945
	/">#274</a>\n\n</BODY>\n</HTML>
STATUS:CONFIRMED
CLASS:PUBLIC
URL:https://www.golnetwork.com/game/v/134945/
X-MICROSOFT-CDO-BUSYSTATUS:BUSY
X-MICROSOFT-CDO-IMPORTANCE:1
END:VEVENT
BEGIN:VEVENT
UID:gdlq0@games.golnetwork.com
LOCATION:Central Tech - Field 3
CREATED:20181029T183536Z
DTSTART:20181120T040000Z
DTEND:20181120T050000Z
DTSTAMP:20260421T061252Z
SUMMARY:Goal-bergine F.C. vs. Nippon Ham Fighters
DESCRIPTION:Nippon Ham Fighters vs. Goal-bergine F.C.More info: #277
X-ALT-DESC;FMTTYPE=text/html:<!DOCTYPE HTML PUBLIC "-//W3C//DTD HTML 3.2//E
	N">\n<HTML>\n<HEAD>\n<TITLE></TITLE>\n</HEAD>\n<BODY>\n<h3>Nippon Ham Fight
	ers vs. Goal-bergine F.C.</h3>More info: <a href="https://www.golnetwork.co
	m/game/v/134946/">#277</a>\n\n</BODY>\n</HTML>
STATUS:CONFIRMED
CLASS:PUBLIC
URL:https://www.golnetwork.com/game/v/134946/
X-MICROSOFT-CDO-BUSYSTATUS:BUSY
X-MICROSOFT-CDO-IMPORTANCE:1
END:VEVENT
BEGIN:VEVENT
UID:gdlq2@games.golnetwork.com
LOCATION:Central Tech - Field 3
CREATED:20181029T183547Z
DTSTART:20181127T010000Z
DTEND:20181127T020000Z
DTSTAMP:20260421T061252Z
SUMMARY:OLE vs. Nippon Ham Fighters
DESCRIPTION:Nippon Ham Fighters vs. OLEMore info: #361
X-ALT-DESC;FMTTYPE=text/html:<!DOCTYPE HTML PUBLIC "-//W3C//DTD HTML 3.2//E
	N">\n<HTML>\n<HEAD>\n<TITLE></TITLE>\n</HEAD>\n<BODY>\n<h3>Nippon Ham Fight
	ers vs. OLE</h3>More info: <a href="https://www.golnetwork.com/game/v/13494
	7/">#361</a>\n\n</BODY>\n</HTML>
STATUS:CONFIRMED
CLASS:PUBLIC
URL:https://www.golnetwork.com/game/v/134947/
X-MICROSOFT-CDO-BUSYSTATUS:BUSY
X-MICROSOFT-CDO-IMPORTANCE:1
END:VEVENT
BEGIN:VEVENT
UID:gdlq4@games.golnetwork.com
LOCATION:Central Tech - Field 3
CREATED:20181029T183555Z
DTSTART:20181127T020000Z
DTEND:20181127T030000Z
DTSTAMP:20260421T061252Z
SUMMARY:Let's Get Schwifty vs. The Business
DESCRIPTION:The Business vs. Let's Get SchwiftyMore info: #364
X-ALT-DESC;FMTTYPE=text/html:<!DOCTYPE HTML PUBLIC "-//W3C//DTD HTML 3.2//E
	N">\n<HTML>\n<HEAD>\n<TITLE></TITLE>\n</HEAD>\n<BODY>\n<h3>The Business vs.
	 Let's Get Schwifty</h3>More info: <a href="https://www.golnetwork.com/game
	/v/134948/">#364</a>\n\n</BODY>\n</HTML>
STATUS:CONFIRMED
CLASS:PUBLIC
URL:https://www.golnetwork.com/game/v/134948/
X-MICROSOFT-CDO-BUSYSTATUS:BUSY
X-MICROSOFT-CDO-IMPORTANCE:1
END:VEVENT
BEGIN:VEVENT
UID:gdlq6@games.golnetwork.com
LOCATION:Central Tech - Field 3
CREATED:20181029T183603Z
DTSTART:20181127T040000Z
DTEND:20181127T050000Z
DTSTAMP:20260421T061252Z
SUMMARY:Kiss My Pass vs. Goal-bergine F.C.
DESCRIPTION:Goal-bergine F.C. vs. Kiss My PassMore info: #370
X-ALT-DESC;FMTTYPE=text/html:<!DOCTYPE HTML PUBLIC "-//W3C//DTD HTML 3.2//E
	N">\n<HTML>\n<HEAD>\n<TITLE></TITLE>\n</HEAD>\n<BODY>\n<h3>Goal-bergine F.C
	. vs. Kiss My Pass</h3>More info: <a href="https://www.golnetwork.com/game/
	v/134949/">#370</a>\n\n</BODY>\n</HTML>
STATUS:CONFIRMED
CLASS:PUBLIC
URL:https://www.golnetwork.com/game/v/134949/
X-MICROSOFT-CDO-BUSYSTATUS:BUSY
X-MICROSOFT-CDO-IMPORTANCE:1
END:VEVENT
BEGIN:VEVENT
UID:gdlq8@games.golnetwork.com
LOCATION:Central Tech - Field 3
CREATED:20181029T183614Z
DTSTART:20181204T010000Z
DTEND:20181204T020000Z
DTSTAMP:20260421T061252Z
SUMMARY:OLE vs. Kiss My Pass
DESCRIPTION:Kiss My Pass vs. OLEMore info: #453
X-ALT-DESC;FMTTYPE=text/html:<!DOCTYPE HTML PUBLIC "-//W3C//DTD HTML 3.2//E
	N">\n<HTML>\n<HEAD>\n<TITLE></TITLE>\n</HEAD>\n<BODY>\n<h3>Kiss My Pass vs.
	 OLE</h3>More info: <a href="https://www.golnetwork.com/game/v/134950/">#45
	3</a>\n\n</BODY>\n</HTML>
STATUS:CONFIRMED
CLASS:PUBLIC
URL:https://www.golnetwork.com/game/v/134950/
X-MICROSOFT-CDO-BUSYSTATUS:BUSY
X-MICROSOFT-CDO-IMPORTANCE:1
END:VEVENT
BEGIN:VEVENT
UID:gdlqa@games.golnetwork.com
LOCATION:Central Tech - Field 3
CREATED:20181029T183623Z
DTSTART:20181204T030000Z
DTEND:20181204T040000Z
DTSTAMP:20260421T061252Z
SUMMARY:The Business vs. Goal-bergine F.C.
DESCRIPTION:Goal-bergine F.C. vs. The BusinessMore info: #459
X-ALT-DESC;FMTTYPE=text/html:<!DOCTYPE HTML PUBLIC "-//W3C//DTD HTML 3.2//E
	N">\n<HTML>\n<HEAD>\n<TITLE></TITLE>\n</HEAD>\n<BODY>\n<h3>Goal-bergine F.C
	. vs. The Business</h3>More info: <a href="https://www.golnetwork.com/game/
	v/134951/">#459</a>\n\n</BODY>\n</HTML>
STATUS:CONFIRMED
CLASS:PUBLIC
URL:https://www.golnetwork.com/game/v/134951/
X-MICROSOFT-CDO-BUSYSTATUS:BUSY
X-MICROSOFT-CDO-IMPORTANCE:1
END:VEVENT
BEGIN:VEVENT
UID:gdlqc@games.golnetwork.com
LOCATION:Central Tech - Field 3
CREATED:20181029T183631Z
DTSTART:20181204T040000Z
DTEND:20181204T050000Z
DTSTAMP:20260421T061252Z
SUMMARY:Nippon Ham Fighters vs. Let's Get Schwifty
DESCRIPTION:Let's Get Schwifty vs. Nippon Ham FightersMore info: #462
X-ALT-DESC;FMTTYPE=text/html:<!DOCTYPE HTML PUBLIC "-//W3C//DTD HTML 3.2//E
	N">\n<HTML>\n<HEAD>\n<TITLE></TITLE>\n</HEAD>\n<BODY>\n<h3>Let's Get Schwif
	ty vs. Nippon Ham Fighters</h3>More info: <a href="https://www.golnetwork.c
	om/game/v/134952/">#462</a>\n\n</BODY>\n</HTML>
STATUS:CONFIRMED
CLASS:PUBLIC
URL:https://www.golnetwork.com/game/v/134952/
X-MICROSOFT-CDO-BUSYSTATUS:BUSY
X-MICROSOFT-CDO-IMPORTANCE:1
END:VEVENT
BEGIN:VEVENT
UID:gdlqe@games.golnetwork.com
LOCATION:Central Tech - Field 3
CREATED:20181029T183642Z
DTSTART:20181211T010000Z
DTEND:20181211T020000Z
DTSTAMP:20260421T061252Z
SUMMARY:Goal-bergine F.C. vs. Let's Get Schwifty
DESCRIPTION:Let's Get Schwifty vs. Goal-bergine F.C.More info: #546
X-ALT-DESC;FMTTYPE=text/html:<!DOCTYPE HTML PUBLIC "-//W3C//DTD HTML 3.2//E
	N">\n<HTML>\n<HEAD>\n<TITLE></TITLE>\n</HEAD>\n<BODY>\n<h3>Let's Get Schwif
	ty vs. Goal-bergine F.C.</h3>More info: <a href="https://www.golnetwork.com
	/game/v/134953/">#546</a>\n\n</BODY>\n</HTML>
STATUS:CONFIRMED
CLASS:PUBLIC
URL:https://www.golnetwork.com/game/v/134953/
X-MICROSOFT-CDO-BUSYSTATUS:BUSY
X-MICROSOFT-CDO-IMPORTANCE:1
END:VEVENT
BEGIN:VEVENT
UID:gdlqg@games.golnetwork.com
LOCATION:Central Tech - Field 3
CREATED:20181029T183650Z
DTSTART:20181211T020000Z
DTEND:20181211T030000Z
DTSTAMP:20260421T061252Z
SUMMARY:Nippon Ham Fighters vs. Kiss My Pass
DESCRIPTION:Kiss My Pass vs. Nippon Ham FightersMore info: #549
X-ALT-DESC;FMTTYPE=text/html:<!DOCTYPE HTML PUBLIC "-//W3C//DTD HTML 3.2//E
	N">\n<HTML>\n<HEAD>\n<TITLE></TITLE>\n</HEAD>\n<BODY>\n<h3>Kiss My Pass vs.
	 Nippon Ham Fighters</h3>More info: <a href="https://www.golnetwork.com/gam
	e/v/134954/">#549</a>\n\n</BODY>\n</HTML>
STATUS:CONFIRMED
CLASS:PUBLIC
URL:https://www.golnetwork.com/game/v/134954/
X-MICROSOFT-CDO-BUSYSTATUS:BUSY
X-MICROSOFT-CDO-IMPORTANCE:1
END:VEVENT
BEGIN:VEVENT
UID:gdlqi@games.golnetwork.com
LOCATION:Central Tech - Field 3
CREATED:20181029T183659Z
DTSTART:20181211T040000Z
DTEND:20181211T050000Z
DTSTAMP:20260421T061252Z
SUMMARY:The Business vs. OLE
DESCRIPTION:OLE vs. The BusinessMore info: #555
X-ALT-DESC;FMTTYPE=text/html:<!DOCTYPE HTML PUBLIC "-//W3C//DTD HTML 3.2//E
	N">\n<HTML>\n<HEAD>\n<TITLE></TITLE>\n</HEAD>\n<BODY>\n<h3>OLE vs. The Busi
	ness</h3>More info: <a href="https://www.golnetwork.com/game/v/134955/">#55
	5</a>\n\n</BODY>\n</HTML>
STATUS:CONFIRMED
CLASS:PUBLIC
URL:https://www.golnetwork.com/game/v/134955/
X-MICROSOFT-CDO-BUSYSTATUS:BUSY
X-MICROSOFT-CDO-IMPORTANCE:1
END:VEVENT
BEGIN:VEVENT
UID:gdlqk@games.golnetwork.com
LOCATION:Central Tech - Field 2
GEO:43.6637272;-79.4087613
CREATED:20181029T183714Z
DTSTART:20181218T020000Z
DTEND:20181218T030000Z
DTSTAMP:20260421T061252Z
SUMMARY:Nippon Ham Fighters vs. The Business
DESCRIPTION:The Business vs. Nippon Ham FightersMore info: #639
X-ALT-DESC;FMTTYPE=text/html:<!DOCTYPE HTML PUBLIC "-//W3C//DTD HTML 3.2//E
	N">\n<HTML>\n<HEAD>\n<TITLE></TITLE>\n</HEAD>\n<BODY>\n<h3>The Business vs.
	 Nippon Ham Fighters</h3>More info: <a href="https://www.golnetwork.com/gam
	e/v/134956/">#639</a>\n\n</BODY>\n</HTML>
STATUS:CONFIRMED
CLASS:PUBLIC
URL:https://www.golnetwork.com/game/v/134956/
X-MICROSOFT-CDO-BUSYSTATUS:BUSY
X-MICROSOFT-CDO-IMPORTANCE:1
END:VEVENT
BEGIN:VEVENT
UID:gdlqm@games.golnetwork.com
LOCATION:Central Tech - Field 3
CREATED:20181029T183721Z
DTSTART:20181218T020000Z
DTEND:20181218T030000Z
DTSTAMP:20260421T061252Z
SUMMARY:Goal-bergine F.C. vs. OLE
DESCRIPTION:OLE vs. Goal-bergine F.C.More info: #641
X-ALT-DESC;FMTTYPE=text/html:<!DOCTYPE HTML PUBLIC "-//W3C//DTD HTML 3.2//E
	N">\n<HTML>\n<HEAD>\n<TITLE></TITLE>\n</HEAD>\n<BODY>\n<h3>OLE vs. Goal-ber
	gine F.C.</h3>More info: <a href="https://www.golnetwork.com/game/v/134957/
	">#641</a>\n\n</BODY>\n</HTML>
STATUS:CONFIRMED
CLASS:PUBLIC
URL:https://www.golnetwork.com/game/v/134957/
X-MICROSOFT-CDO-BUSYSTATUS:BUSY
X-MICROSOFT-CDO-IMPORTANCE:1
END:VEVENT
BEGIN:VEVENT
UID:gdlqo@games.golnetwork.com
LOCATION:Central Tech - Field 3
CREATED:20181029T183729Z
DTSTART:20181218T030000Z
DTEND:20181218T040000Z
DTSTAMP:20260421T061252Z
SUMMARY:Kiss My Pass vs. Let's Get Schwifty
DESCRIPTION:Let's Get Schwifty vs. Kiss My PassMore info: #644
X-ALT-DESC;FMTTYPE=text/html:<!DOCTYPE HTML PUBLIC "-//W3C//DTD HTML 3.2//E
	N">\n<HTML>\n<HEAD>\n<TITLE></TITLE>\n</HEAD>\n<BODY>\n<h3>Let's Get Schwif
	ty vs. Kiss My Pass</h3>More info: <a href="https://www.golnetwork.com/game
	/v/134958/">#644</a>\n\n</BODY>\n</HTML>
STATUS:CONFIRMED
CLASS:PUBLIC
URL:https://www.golnetwork.com/game/v/134958/
X-MICROSOFT-CDO-BUSYSTATUS:BUSY
X-MICROSOFT-CDO-IMPORTANCE:1
END:VEVENT
BEGIN:VEVENT
UID:gdlqq@games.golnetwork.com
LOCATION:Central Tech - Field 3
CREATED:20181029T183738Z
DTSTART:20190108T030000Z
DTEND:20190108T040000Z
DTSTAMP:20260421T061252Z
SUMMARY:Goal-bergine F.C. vs. Nippon Ham Fighters
DESCRIPTION:Nippon Ham Fighters vs. Goal-bergine F.C.More info: #742
X-ALT-DESC;FMTTYPE=text/html:<!DOCTYPE HTML PUBLIC "-//W3C//DTD HTML 3.2//E
	N">\n<HTML>\n<HEAD>\n<TITLE></TITLE>\n</HEAD>\n<BODY>\n<h3>Nippon Ham Fight
	ers vs. Goal-bergine F.C.</h3>More info: <a href="https://www.golnetwork.co
	m/game/v/134959/">#742</a>\n\n</BODY>\n</HTML>
STATUS:CONFIRMED
CLASS:PUBLIC
URL:https://www.golnetwork.com/game/v/134959/
X-MICROSOFT-CDO-BUSYSTATUS:BUSY
X-MICROSOFT-CDO-IMPORTANCE:1
END:VEVENT
BEGIN:VEVENT
UID:gdm01@games.golnetwork.com
LOCATION:Central Tech - Field 3
CREATED:20181029T183743Z
DTSTART:20190115T030000Z
DTEND:20190115T040000Z
DTSTAMP:20260421T061252Z
SUMMARY:The Business vs. Nippon Ham Fighters
DESCRIPTION:Nippon Ham Fighters vs. The BusinessMore info: #795
X-ALT-DESC;FMTTYPE=text/html:<!DOCTYPE HTML PUBLIC "-//W3C//DTD HTML 3.2//E
	N">\n<HTML>\n<HEAD>\n<TITLE></TITLE>\n</HEAD>\n<BODY>\n<h3>Nippon Ham Fight
	ers vs. The Business</h3>More info: <a href="https://www.golnetwork.com/gam
	e/v/134960/">#795</a>\n\n</BODY>\n</HTML>
STATUS:CONFIRMED
CLASS:PUBLIC
URL:https://www.golnetwork.com/game/v/134960/
X-MICROSOFT-CDO-BUSYSTATUS:BUSY
X-MICROSOFT-CDO-IMPORTANCE:1
END:VEVENT
BEGIN:VEVENT
UID:gdm03@games.golnetwork.com
LOCATION:Central Tech - Field 3
CREATED:20181029T183746Z
DTSTART:20190115T040000Z
DTEND:20190115T050000Z
DTSTAMP:20260421T061252Z
SUMMARY:Nippon Ham Fighters vs. Goal-bergine F.C.
DESCRIPTION:Goal-bergine F.C. vs. Nippon Ham FightersMore info: #798
X-ALT-DESC;FMTTYPE=text/html:<!DOCTYPE HTML PUBLIC "-//W3C//DTD HTML 3.2//E
	N">\n<HTML>\n<HEAD>\n<TITLE></TITLE>\n</HEAD>\n<BODY>\n<h3>Goal-bergine F.C
	. vs. Nippon Ham Fighters</h3>More info: <a href="https://www.golnetwork.co
	m/game/v/134961/">#798</a>\n\n</BODY>\n</HTML>
STATUS:CONFIRMED
CLASS:PUBLIC
URL:https://www.golnetwork.com/game/v/134961/
X-MICROSOFT-CDO-BUSYSTATUS:BUSY
X-MICROSOFT-CDO-IMPORTANCE:1
END:VEVENT
END:VCALENDAR
