BEGIN:VCALENDAR
PRODID:-//gdesolutions.com//MV Framework 1.0.0.1607 Calendar//EN
VERSION:2.0
METHOD:PUBLISH
CALSCALE:GREGORIAN
BEGIN:VEVENT
UID:gdo5k@games.golnetwork.com
LOCATION:Central Tech - Field 3
CREATED:20181112T193515Z
DTSTART:20181117T000000Z
DTEND:20181117T005000Z
DTSTAMP:20260422T040724Z
SUMMARY:Drawers vs. We'll Get Em Next Week
DESCRIPTION:We'll Get Em Next Week vs. DrawersMore info: #109
X-ALT-DESC;FMTTYPE=text/html:<!DOCTYPE HTML PUBLIC "-//W3C//DTD HTML 3.2//E
	N">\n<HTML>\n<HEAD>\n<TITLE></TITLE>\n</HEAD>\n<BODY>\n<h3>We'll Get Em Nex
	t Week vs. Drawers</h3>More info: <a href="https://www.golnetwork.com/game/
	v/135766/">#109</a>\n\n</BODY>\n</HTML>
STATUS:CONFIRMED
CLASS:PUBLIC
URL:https://www.golnetwork.com/game/v/135766/
X-MICROSOFT-CDO-BUSYSTATUS:BUSY
X-MICROSOFT-CDO-IMPORTANCE:1
END:VEVENT
BEGIN:VEVENT
UID:gdo5m@games.golnetwork.com
LOCATION:Central Tech - Field 3
CREATED:20181112T193526Z
DTSTART:20181117T010000Z
DTEND:20181117T015000Z
DTSTAMP:20260422T040724Z
SUMMARY:GTA United vs. Soccer Team
DESCRIPTION:Soccer Team vs. GTA UnitedMore info: #111
X-ALT-DESC;FMTTYPE=text/html:<!DOCTYPE HTML PUBLIC "-//W3C//DTD HTML 3.2//E
	N">\n<HTML>\n<HEAD>\n<TITLE></TITLE>\n</HEAD>\n<BODY>\n<h3>Soccer Team vs. 
	GTA United</h3>More info: <a href="https://www.golnetwork.com/game/v/135767
	/">#111</a>\n\n</BODY>\n</HTML>
STATUS:CONFIRMED
CLASS:PUBLIC
URL:https://www.golnetwork.com/game/v/135767/
X-MICROSOFT-CDO-BUSYSTATUS:BUSY
X-MICROSOFT-CDO-IMPORTANCE:1
END:VEVENT
BEGIN:VEVENT
UID:gdo5o@games.golnetwork.com
LOCATION:Central Tech - Field 3
CREATED:20181112T193535Z
DTSTART:20181117T020000Z
DTEND:20181117T025000Z
DTSTAMP:20260422T040724Z
SUMMARY:The Lads FC vs. Reis Arriaga
DESCRIPTION:Reis Arriaga vs. The Lads FCMore info: #116
X-ALT-DESC;FMTTYPE=text/html:<!DOCTYPE HTML PUBLIC "-//W3C//DTD HTML 3.2//E
	N">\n<HTML>\n<HEAD>\n<TITLE></TITLE>\n</HEAD>\n<BODY>\n<h3>Reis Arriaga vs.
	 The Lads FC</h3>More info: <a href="https://www.golnetwork.com/game/v/1357
	68/">#116</a>\n\n</BODY>\n</HTML>
STATUS:CONFIRMED
CLASS:PUBLIC
URL:https://www.golnetwork.com/game/v/135768/
X-MICROSOFT-CDO-BUSYSTATUS:BUSY
X-MICROSOFT-CDO-IMPORTANCE:1
END:VEVENT
BEGIN:VEVENT
UID:gdo5q@games.golnetwork.com
LOCATION:Central Tech - Field 3
CREATED:20181112T193543Z
DTSTART:20181117T030000Z
DTEND:20181117T035000Z
DTSTAMP:20260422T040724Z
SUMMARY:Surfing llamas vs. CITY FC
DESCRIPTION:CITY FC vs. Surfing llamasMore info: #119
X-ALT-DESC;FMTTYPE=text/html:<!DOCTYPE HTML PUBLIC "-//W3C//DTD HTML 3.2//E
	N">\n<HTML>\n<HEAD>\n<TITLE></TITLE>\n</HEAD>\n<BODY>\n<h3>CITY FC vs. Surf
	ing llamas</h3>More info: <a href="https://www.golnetwork.com/game/v/135769
	/">#119</a>\n\n</BODY>\n</HTML>
STATUS:CONFIRMED
CLASS:PUBLIC
URL:https://www.golnetwork.com/game/v/135769/
X-MICROSOFT-CDO-BUSYSTATUS:BUSY
X-MICROSOFT-CDO-IMPORTANCE:1
END:VEVENT
BEGIN:VEVENT
UID:gdo61@games.golnetwork.com
LOCATION:Central Tech - Field 3
CREATED:20181112T193552Z
DTSTART:20181117T040000Z
DTEND:20181117T045000Z
DTSTAMP:20260422T040724Z
SUMMARY:Blue Eagles vs. Los Diablos
DESCRIPTION:Los Diablos vs. Blue EaglesMore info: #121
X-ALT-DESC;FMTTYPE=text/html:<!DOCTYPE HTML PUBLIC "-//W3C//DTD HTML 3.2//E
	N">\n<HTML>\n<HEAD>\n<TITLE></TITLE>\n</HEAD>\n<BODY>\n<h3>Los Diablos vs. 
	Blue Eagles</h3>More info: <a href="https://www.golnetwork.com/game/v/13577
	0/">#121</a>\n\n</BODY>\n</HTML>
STATUS:CONFIRMED
CLASS:PUBLIC
URL:https://www.golnetwork.com/game/v/135770/
X-MICROSOFT-CDO-BUSYSTATUS:BUSY
X-MICROSOFT-CDO-IMPORTANCE:1
END:VEVENT
BEGIN:VEVENT
UID:gdo63@games.golnetwork.com
LOCATION:Central Tech - Field 3
CREATED:20181112T193615Z
DTSTART:20181124T000000Z
DTEND:20181124T005000Z
DTSTAMP:20260422T040724Z
SUMMARY:Soccer Team vs. Blue Eagles
DESCRIPTION:Blue Eagles vs. Soccer TeamMore info: #161
X-ALT-DESC;FMTTYPE=text/html:<!DOCTYPE HTML PUBLIC "-//W3C//DTD HTML 3.2//E
	N">\n<HTML>\n<HEAD>\n<TITLE></TITLE>\n</HEAD>\n<BODY>\n<h3>Blue Eagles vs. 
	Soccer Team</h3>More info: <a href="https://www.golnetwork.com/game/v/13577
	1/">#161</a>\n\n</BODY>\n</HTML>
STATUS:CONFIRMED
CLASS:PUBLIC
URL:https://www.golnetwork.com/game/v/135771/
X-MICROSOFT-CDO-BUSYSTATUS:BUSY
X-MICROSOFT-CDO-IMPORTANCE:1
END:VEVENT
BEGIN:VEVENT
UID:gdo65@games.golnetwork.com
LOCATION:Central Tech - Field 3
CREATED:20181112T193625Z
DTSTART:20181124T010000Z
DTEND:20181124T015000Z
DTSTAMP:20260422T040724Z
SUMMARY:We'll Get Em Next Week vs. The Lads FC
DESCRIPTION:The Lads FC vs. We'll Get Em Next WeekMore info: #163
X-ALT-DESC;FMTTYPE=text/html:<!DOCTYPE HTML PUBLIC "-//W3C//DTD HTML 3.2//E
	N">\n<HTML>\n<HEAD>\n<TITLE></TITLE>\n</HEAD>\n<BODY>\n<h3>The Lads FC vs. 
	We'll Get Em Next Week</h3>More info: <a href="https://www.golnetwork.com/g
	ame/v/135772/">#163</a>\n\n</BODY>\n</HTML>
STATUS:CONFIRMED
CLASS:PUBLIC
URL:https://www.golnetwork.com/game/v/135772/
X-MICROSOFT-CDO-BUSYSTATUS:BUSY
X-MICROSOFT-CDO-IMPORTANCE:1
END:VEVENT
BEGIN:VEVENT
UID:gdo67@games.golnetwork.com
LOCATION:Central Tech - Field 2
GEO:43.6637272;-79.4087613
CREATED:20181112T193638Z
DTSTART:20181124T030000Z
DTEND:20181124T035000Z
DTSTAMP:20260422T040724Z
SUMMARY:CITY FC vs. GTA United
DESCRIPTION:GTA United vs. CITY FCMore info: #166
X-ALT-DESC;FMTTYPE=text/html:<!DOCTYPE HTML PUBLIC "-//W3C//DTD HTML 3.2//E
	N">\n<HTML>\n<HEAD>\n<TITLE></TITLE>\n</HEAD>\n<BODY>\n<h3>GTA United vs. C
	ITY FC</h3>More info: <a href="https://www.golnetwork.com/game/v/135773/">#
	166</a>\n\n</BODY>\n</HTML>
STATUS:CONFIRMED
CLASS:PUBLIC
URL:https://www.golnetwork.com/game/v/135773/
X-MICROSOFT-CDO-BUSYSTATUS:BUSY
X-MICROSOFT-CDO-IMPORTANCE:1
END:VEVENT
BEGIN:VEVENT
UID:gdo69@games.golnetwork.com
LOCATION:Central Tech - Field 3
CREATED:20181112T193649Z
DTSTART:20181124T030000Z
DTEND:20181124T035000Z
DTSTAMP:20260422T040724Z
SUMMARY:Los Diablos vs. Drawers
DESCRIPTION:Drawers vs. Los DiablosMore info: #168
X-ALT-DESC;FMTTYPE=text/html:<!DOCTYPE HTML PUBLIC "-//W3C//DTD HTML 3.2//E
	N">\n<HTML>\n<HEAD>\n<TITLE></TITLE>\n</HEAD>\n<BODY>\n<h3>Drawers vs. Los 
	Diablos</h3>More info: <a href="https://www.golnetwork.com/game/v/135774/">
	#168</a>\n\n</BODY>\n</HTML>
STATUS:CONFIRMED
CLASS:PUBLIC
URL:https://www.golnetwork.com/game/v/135774/
X-MICROSOFT-CDO-BUSYSTATUS:BUSY
X-MICROSOFT-CDO-IMPORTANCE:1
END:VEVENT
BEGIN:VEVENT
UID:gdo6b@games.golnetwork.com
LOCATION:Central Tech - Field 3
CREATED:20181112T193706Z
DTSTART:20181124T040000Z
DTEND:20181124T045000Z
DTSTAMP:20260422T040724Z
SUMMARY:Reis Arriaga vs. Surfing llamas
DESCRIPTION:Surfing llamas vs. Reis ArriagaMore info: #171
X-ALT-DESC;FMTTYPE=text/html:<!DOCTYPE HTML PUBLIC "-//W3C//DTD HTML 3.2//E
	N">\n<HTML>\n<HEAD>\n<TITLE></TITLE>\n</HEAD>\n<BODY>\n<h3>Surfing llamas v
	s. Reis Arriaga</h3>More info: <a href="https://www.golnetwork.com/game/v/1
	35775/">#171</a>\n\n</BODY>\n</HTML>
STATUS:CONFIRMED
CLASS:PUBLIC
URL:https://www.golnetwork.com/game/v/135775/
X-MICROSOFT-CDO-BUSYSTATUS:BUSY
X-MICROSOFT-CDO-IMPORTANCE:1
END:VEVENT
BEGIN:VEVENT
UID:gdo6d@games.golnetwork.com
LOCATION:Central Tech - Field 3
CREATED:20181112T193910Z
DTSTART:20181201T000000Z
DTEND:20181201T005000Z
DTSTAMP:20260422T040724Z
SUMMARY:The Lads FC vs. Los Diablos
DESCRIPTION:Los Diablos vs. The Lads FCMore info: #210
X-ALT-DESC;FMTTYPE=text/html:<!DOCTYPE HTML PUBLIC "-//W3C//DTD HTML 3.2//E
	N">\n<HTML>\n<HEAD>\n<TITLE></TITLE>\n</HEAD>\n<BODY>\n<h3>Los Diablos vs. 
	The Lads FC</h3>More info: <a href="https://www.golnetwork.com/game/v/13577
	6/">#210</a>\n\n</BODY>\n</HTML>
STATUS:CONFIRMED
CLASS:PUBLIC
URL:https://www.golnetwork.com/game/v/135776/
X-MICROSOFT-CDO-BUSYSTATUS:BUSY
X-MICROSOFT-CDO-IMPORTANCE:1
END:VEVENT
BEGIN:VEVENT
UID:gdo6f@games.golnetwork.com
LOCATION:Central Tech - Field 2
GEO:43.6637272;-79.4087613
CREATED:20181112T193921Z
DTSTART:20181201T020000Z
DTEND:20181201T025000Z
DTSTAMP:20260422T040724Z
SUMMARY:Surfing llamas vs. We'll Get Em Next Week
DESCRIPTION:We'll Get Em Next Week vs. Surfing llamasMore info: #212
X-ALT-DESC;FMTTYPE=text/html:<!DOCTYPE HTML PUBLIC "-//W3C//DTD HTML 3.2//E
	N">\n<HTML>\n<HEAD>\n<TITLE></TITLE>\n</HEAD>\n<BODY>\n<h3>We'll Get Em Nex
	t Week vs. Surfing llamas</h3>More info: <a href="https://www.golnetwork.co
	m/game/v/135777/">#212</a>\n\n</BODY>\n</HTML>
STATUS:CONFIRMED
CLASS:PUBLIC
URL:https://www.golnetwork.com/game/v/135777/
X-MICROSOFT-CDO-BUSYSTATUS:BUSY
X-MICROSOFT-CDO-IMPORTANCE:1
END:VEVENT
BEGIN:VEVENT
UID:gdo6h@games.golnetwork.com
LOCATION:Central Tech - Field 2
GEO:43.6637272;-79.4087613
CREATED:20181112T193930Z
DTSTART:20181201T030000Z
DTEND:20181201T035000Z
DTSTAMP:20260422T040724Z
SUMMARY:GTA United vs. Reis Arriaga
DESCRIPTION:Reis Arriaga vs. GTA UnitedMore info: #216
X-ALT-DESC;FMTTYPE=text/html:<!DOCTYPE HTML PUBLIC "-//W3C//DTD HTML 3.2//E
	N">\n<HTML>\n<HEAD>\n<TITLE></TITLE>\n</HEAD>\n<BODY>\n<h3>Reis Arriaga vs.
	 GTA United</h3>More info: <a href="https://www.golnetwork.com/game/v/13577
	8/">#216</a>\n\n</BODY>\n</HTML>
STATUS:CONFIRMED
CLASS:PUBLIC
URL:https://www.golnetwork.com/game/v/135778/
X-MICROSOFT-CDO-BUSYSTATUS:BUSY
X-MICROSOFT-CDO-IMPORTANCE:1
END:VEVENT
BEGIN:VEVENT
UID:gdo6j@games.golnetwork.com
LOCATION:Central Tech - Field 3
CREATED:20181112T193939Z
DTSTART:20181201T030000Z
DTEND:20181201T035000Z
DTSTAMP:20260422T040724Z
SUMMARY:Blue Eagles vs. CITY FC
DESCRIPTION:CITY FC vs. Blue EaglesMore info: #219
X-ALT-DESC;FMTTYPE=text/html:<!DOCTYPE HTML PUBLIC "-//W3C//DTD HTML 3.2//E
	N">\n<HTML>\n<HEAD>\n<TITLE></TITLE>\n</HEAD>\n<BODY>\n<h3>CITY FC vs. Blue
	 Eagles</h3>More info: <a href="https://www.golnetwork.com/game/v/135779/">
	#219</a>\n\n</BODY>\n</HTML>
STATUS:CONFIRMED
CLASS:PUBLIC
URL:https://www.golnetwork.com/game/v/135779/
X-MICROSOFT-CDO-BUSYSTATUS:BUSY
X-MICROSOFT-CDO-IMPORTANCE:1
END:VEVENT
BEGIN:VEVENT
UID:gdo6l@games.golnetwork.com
LOCATION:Central Tech - Field 2
GEO:43.6637272;-79.4087613
CREATED:20181112T193949Z
DTSTART:20181201T040000Z
DTEND:20181201T045000Z
DTSTAMP:20260422T040724Z
SUMMARY:Drawers vs. Soccer Team
DESCRIPTION:Soccer Team vs. DrawersMore info: #220
X-ALT-DESC;FMTTYPE=text/html:<!DOCTYPE HTML PUBLIC "-//W3C//DTD HTML 3.2//E
	N">\n<HTML>\n<HEAD>\n<TITLE></TITLE>\n</HEAD>\n<BODY>\n<h3>Soccer Team vs. 
	Drawers</h3>More info: <a href="https://www.golnetwork.com/game/v/135780/">
	#220</a>\n\n</BODY>\n</HTML>
STATUS:CONFIRMED
CLASS:PUBLIC
URL:https://www.golnetwork.com/game/v/135780/
X-MICROSOFT-CDO-BUSYSTATUS:BUSY
X-MICROSOFT-CDO-IMPORTANCE:1
END:VEVENT
BEGIN:VEVENT
UID:gdo76@games.golnetwork.com
LOCATION:Central Tech - Field 3
CREATED:20181112T194112Z
DTSTART:20181208T010000Z
DTEND:20181208T015000Z
DTSTAMP:20260422T040724Z
SUMMARY:Reis Arriaga vs. Blue Eagles
DESCRIPTION:Blue Eagles vs. Reis ArriagaMore info: #268
X-ALT-DESC;FMTTYPE=text/html:<!DOCTYPE HTML PUBLIC "-//W3C//DTD HTML 3.2//E
	N">\n<HTML>\n<HEAD>\n<TITLE></TITLE>\n</HEAD>\n<BODY>\n<h3>Blue Eagles vs. 
	Reis Arriaga</h3>More info: <a href="https://www.golnetwork.com/game/v/1357
	86/">#268</a>\n\n</BODY>\n</HTML>
STATUS:CONFIRMED
CLASS:PUBLIC
URL:https://www.golnetwork.com/game/v/135786/
X-MICROSOFT-CDO-BUSYSTATUS:BUSY
X-MICROSOFT-CDO-IMPORTANCE:1
END:VEVENT
BEGIN:VEVENT
UID:gdo7a@games.golnetwork.com
LOCATION:Central Tech - Field 2
GEO:43.6637272;-79.4087613
CREATED:20181112T194124Z
DTSTART:20181208T020000Z
DTEND:20181208T025000Z
DTSTAMP:20260422T040724Z
SUMMARY:Los Diablos vs. Surfing llamas
DESCRIPTION:Surfing llamas vs. Los DiablosMore info: #269
X-ALT-DESC;FMTTYPE=text/html:<!DOCTYPE HTML PUBLIC "-//W3C//DTD HTML 3.2//E
	N">\n<HTML>\n<HEAD>\n<TITLE></TITLE>\n</HEAD>\n<BODY>\n<h3>Surfing llamas v
	s. Los Diablos</h3>More info: <a href="https://www.golnetwork.com/game/v/13
	5788/">#269</a>\n\n</BODY>\n</HTML>
STATUS:CONFIRMED
CLASS:PUBLIC
URL:https://www.golnetwork.com/game/v/135788/
X-MICROSOFT-CDO-BUSYSTATUS:BUSY
X-MICROSOFT-CDO-IMPORTANCE:1
END:VEVENT
BEGIN:VEVENT
UID:gdo7g@games.golnetwork.com
LOCATION:Central Tech - Field 2
GEO:43.6637272;-79.4087613
CREATED:20181112T194143Z
DTSTART:20181208T030000Z
DTEND:20181208T035000Z
DTSTAMP:20260422T040724Z
SUMMARY:CITY FC vs. Drawers
DESCRIPTION:Drawers vs. CITY FCMore info: #272
X-ALT-DESC;FMTTYPE=text/html:<!DOCTYPE HTML PUBLIC "-//W3C//DTD HTML 3.2//E
	N">\n<HTML>\n<HEAD>\n<TITLE></TITLE>\n</HEAD>\n<BODY>\n<h3>Drawers vs. CITY
	 FC</h3>More info: <a href="https://www.golnetwork.com/game/v/135791/">#272
	</a>\n\n</BODY>\n</HTML>
STATUS:CONFIRMED
CLASS:PUBLIC
URL:https://www.golnetwork.com/game/v/135791/
X-MICROSOFT-CDO-BUSYSTATUS:BUSY
X-MICROSOFT-CDO-IMPORTANCE:1
END:VEVENT
BEGIN:VEVENT
UID:gdo7i@games.golnetwork.com
LOCATION:Central Tech - Field 3
CREATED:20181112T194153Z
DTSTART:20181208T030000Z
DTEND:20181208T035000Z
DTSTAMP:20260422T040724Z
SUMMARY:Soccer Team vs. The Lads FC
DESCRIPTION:The Lads FC vs. Soccer TeamMore info: #273
X-ALT-DESC;FMTTYPE=text/html:<!DOCTYPE HTML PUBLIC "-//W3C//DTD HTML 3.2//E
	N">\n<HTML>\n<HEAD>\n<TITLE></TITLE>\n</HEAD>\n<BODY>\n<h3>The Lads FC vs. 
	Soccer Team</h3>More info: <a href="https://www.golnetwork.com/game/v/13579
	2/">#273</a>\n\n</BODY>\n</HTML>
STATUS:CONFIRMED
CLASS:PUBLIC
URL:https://www.golnetwork.com/game/v/135792/
X-MICROSOFT-CDO-BUSYSTATUS:BUSY
X-MICROSOFT-CDO-IMPORTANCE:1
END:VEVENT
BEGIN:VEVENT
UID:gdo7m@games.golnetwork.com
LOCATION:Central Tech - Field 2
GEO:43.6637272;-79.4087613
CREATED:20181112T194203Z
DTSTART:20181208T040000Z
DTEND:20181208T045000Z
DTSTAMP:20260422T040724Z
SUMMARY:We'll Get Em Next Week vs. GTA United
DESCRIPTION:GTA United vs. We'll Get Em Next WeekMore info: #274
X-ALT-DESC;FMTTYPE=text/html:<!DOCTYPE HTML PUBLIC "-//W3C//DTD HTML 3.2//E
	N">\n<HTML>\n<HEAD>\n<TITLE></TITLE>\n</HEAD>\n<BODY>\n<h3>GTA United vs. W
	e'll Get Em Next Week</h3>More info: <a href="https://www.golnetwork.com/ga
	me/v/135794/">#274</a>\n\n</BODY>\n</HTML>
STATUS:CONFIRMED
CLASS:PUBLIC
URL:https://www.golnetwork.com/game/v/135794/
X-MICROSOFT-CDO-BUSYSTATUS:BUSY
X-MICROSOFT-CDO-IMPORTANCE:1
END:VEVENT
BEGIN:VEVENT
UID:gdo7q@games.golnetwork.com
LOCATION:Central Tech - Field 3
CREATED:20181112T194219Z
DTSTART:20181214T230000Z
DTEND:20181214T235000Z
DTSTAMP:20260422T040724Z
SUMMARY:Blue Eagles vs. Surfing llamas
DESCRIPTION:Surfing llamas vs. Blue EaglesMore info: #314
X-ALT-DESC;FMTTYPE=text/html:<!DOCTYPE HTML PUBLIC "-//W3C//DTD HTML 3.2//E
	N">\n<HTML>\n<HEAD>\n<TITLE></TITLE>\n</HEAD>\n<BODY>\n<h3>Surfing llamas v
	s. Blue Eagles</h3>More info: <a href="https://www.golnetwork.com/game/v/13
	5796/">#314</a>\n\n</BODY>\n</HTML>
STATUS:CONFIRMED
CLASS:PUBLIC
URL:https://www.golnetwork.com/game/v/135796/
X-MICROSOFT-CDO-BUSYSTATUS:BUSY
X-MICROSOFT-CDO-IMPORTANCE:1
END:VEVENT
BEGIN:VEVENT
UID:gdo81@games.golnetwork.com
LOCATION:Central Tech - Field 2
GEO:43.6637272;-79.4087613
CREATED:20181112T194231Z
DTSTART:20181215T020000Z
DTEND:20181215T025000Z
DTSTAMP:20260422T040724Z
SUMMARY:GTA United vs. Drawers
DESCRIPTION:Drawers vs. GTA UnitedMore info: #320
X-ALT-DESC;FMTTYPE=text/html:<!DOCTYPE HTML PUBLIC "-//W3C//DTD HTML 3.2//E
	N">\n<HTML>\n<HEAD>\n<TITLE></TITLE>\n</HEAD>\n<BODY>\n<h3>Drawers vs. GTA 
	United</h3>More info: <a href="https://www.golnetwork.com/game/v/135797/">#
	320</a>\n\n</BODY>\n</HTML>
STATUS:CONFIRMED
CLASS:PUBLIC
URL:https://www.golnetwork.com/game/v/135797/
X-MICROSOFT-CDO-BUSYSTATUS:BUSY
X-MICROSOFT-CDO-IMPORTANCE:1
END:VEVENT
BEGIN:VEVENT
UID:gdo85@games.golnetwork.com
LOCATION:Central Tech - Field 2
GEO:43.6637272;-79.4087613
CREATED:20181112T194240Z
DTSTART:20181215T030000Z
DTEND:20181215T035000Z
DTSTAMP:20260422T040724Z
SUMMARY:Soccer Team vs. We'll Get Em Next Week
DESCRIPTION:We'll Get Em Next Week vs. Soccer TeamMore info: #323
X-ALT-DESC;FMTTYPE=text/html:<!DOCTYPE HTML PUBLIC "-//W3C//DTD HTML 3.2//E
	N">\n<HTML>\n<HEAD>\n<TITLE></TITLE>\n</HEAD>\n<BODY>\n<h3>We'll Get Em Nex
	t Week vs. Soccer Team</h3>More info: <a href="https://www.golnetwork.com/g
	ame/v/135799/">#323</a>\n\n</BODY>\n</HTML>
STATUS:CONFIRMED
CLASS:PUBLIC
URL:https://www.golnetwork.com/game/v/135799/
X-MICROSOFT-CDO-BUSYSTATUS:BUSY
X-MICROSOFT-CDO-IMPORTANCE:1
END:VEVENT
BEGIN:VEVENT
UID:gdo89@games.golnetwork.com
LOCATION:Central Tech - Field 2
GEO:43.6637272;-79.4087613
CREATED:20181112T194255Z
DTSTART:20181215T040000Z
DTEND:20181215T045000Z
DTSTAMP:20260422T040724Z
SUMMARY:Los Diablos vs. Reis Arriaga
DESCRIPTION:Reis Arriaga vs. Los DiablosMore info: #326
X-ALT-DESC;FMTTYPE=text/html:<!DOCTYPE HTML PUBLIC "-//W3C//DTD HTML 3.2//E
	N">\n<HTML>\n<HEAD>\n<TITLE></TITLE>\n</HEAD>\n<BODY>\n<h3>Reis Arriaga vs.
	 Los Diablos</h3>More info: <a href="https://www.golnetwork.com/game/v/1358
	01/">#326</a>\n\n</BODY>\n</HTML>
STATUS:CONFIRMED
CLASS:PUBLIC
URL:https://www.golnetwork.com/game/v/135801/
X-MICROSOFT-CDO-BUSYSTATUS:BUSY
X-MICROSOFT-CDO-IMPORTANCE:1
END:VEVENT
BEGIN:VEVENT
UID:gdo8b@games.golnetwork.com
LOCATION:Central Tech - Field 3
CREATED:20181112T194303Z
DTSTART:20181215T040000Z
DTEND:20181215T045000Z
DTSTAMP:20260422T040724Z
SUMMARY:The Lads FC vs. CITY FC
DESCRIPTION:CITY FC vs. The Lads FCMore info: #327
X-ALT-DESC;FMTTYPE=text/html:<!DOCTYPE HTML PUBLIC "-//W3C//DTD HTML 3.2//E
	N">\n<HTML>\n<HEAD>\n<TITLE></TITLE>\n</HEAD>\n<BODY>\n<h3>CITY FC vs. The 
	Lads FC</h3>More info: <a href="https://www.golnetwork.com/game/v/135802/">
	#327</a>\n\n</BODY>\n</HTML>
STATUS:CONFIRMED
CLASS:PUBLIC
URL:https://www.golnetwork.com/game/v/135802/
X-MICROSOFT-CDO-BUSYSTATUS:BUSY
X-MICROSOFT-CDO-IMPORTANCE:1
END:VEVENT
BEGIN:VEVENT
UID:gdo8f@games.golnetwork.com
LOCATION:Central Tech - Field 3
CREATED:20181112T194317Z
DTSTART:20181221T230000Z
DTEND:20181221T235000Z
DTSTAMP:20260422T040724Z
SUMMARY:Drawers vs. Reis Arriaga
DESCRIPTION:Reis Arriaga vs. DrawersMore info: #366
X-ALT-DESC;FMTTYPE=text/html:<!DOCTYPE HTML PUBLIC "-//W3C//DTD HTML 3.2//E
	N">\n<HTML>\n<HEAD>\n<TITLE></TITLE>\n</HEAD>\n<BODY>\n<h3>Reis Arriaga vs.
	 Drawers</h3>More info: <a href="https://www.golnetwork.com/game/v/135804/"
	>#366</a>\n\n</BODY>\n</HTML>
STATUS:CONFIRMED
CLASS:PUBLIC
URL:https://www.golnetwork.com/game/v/135804/
X-MICROSOFT-CDO-BUSYSTATUS:BUSY
X-MICROSOFT-CDO-IMPORTANCE:1
END:VEVENT
BEGIN:VEVENT
UID:gdo8h@games.golnetwork.com
LOCATION:Central Tech - Field 3
CREATED:20181112T194325Z
DTSTART:20181222T000000Z
DTEND:20181222T005000Z
DTSTAMP:20260422T040724Z
SUMMARY:Los Diablos vs. We'll Get Em Next Week
DESCRIPTION:We'll Get Em Next Week vs. Los DiablosMore info: #368
X-ALT-DESC;FMTTYPE=text/html:<!DOCTYPE HTML PUBLIC "-//W3C//DTD HTML 3.2//E
	N">\n<HTML>\n<HEAD>\n<TITLE></TITLE>\n</HEAD>\n<BODY>\n<h3>We'll Get Em Nex
	t Week vs. Los Diablos</h3>More info: <a href="https://www.golnetwork.com/g
	ame/v/135805/">#368</a>\n\n</BODY>\n</HTML>
STATUS:CONFIRMED
CLASS:PUBLIC
URL:https://www.golnetwork.com/game/v/135805/
X-MICROSOFT-CDO-BUSYSTATUS:BUSY
X-MICROSOFT-CDO-IMPORTANCE:1
END:VEVENT
BEGIN:VEVENT
UID:gdo8l@games.golnetwork.com
LOCATION:Central Tech - Field 3
CREATED:20181112T194337Z
DTSTART:20181222T020000Z
DTEND:20181222T025000Z
DTSTAMP:20260422T040724Z
SUMMARY:Blue Eagles vs. GTA United
DESCRIPTION:GTA United vs. Blue EaglesMore info: #375
X-ALT-DESC;FMTTYPE=text/html:<!DOCTYPE HTML PUBLIC "-//W3C//DTD HTML 3.2//E
	N">\n<HTML>\n<HEAD>\n<TITLE></TITLE>\n</HEAD>\n<BODY>\n<h3>GTA United vs. B
	lue Eagles</h3>More info: <a href="https://www.golnetwork.com/game/v/135807
	/">#375</a>\n\n</BODY>\n</HTML>
STATUS:CONFIRMED
CLASS:PUBLIC
URL:https://www.golnetwork.com/game/v/135807/
X-MICROSOFT-CDO-BUSYSTATUS:BUSY
X-MICROSOFT-CDO-IMPORTANCE:1
END:VEVENT
BEGIN:VEVENT
UID:gdo8p@games.golnetwork.com
LOCATION:Central Tech - Field 3
CREATED:20181112T194348Z
DTSTART:20181222T030000Z
DTEND:20181222T035000Z
DTSTAMP:20260422T040724Z
SUMMARY:Surfing llamas vs. The Lads FC
DESCRIPTION:The Lads FC vs. Surfing llamasMore info: #379
X-ALT-DESC;FMTTYPE=text/html:<!DOCTYPE HTML PUBLIC "-//W3C//DTD HTML 3.2//E
	N">\n<HTML>\n<HEAD>\n<TITLE></TITLE>\n</HEAD>\n<BODY>\n<h3>The Lads FC vs. 
	Surfing llamas</h3>More info: <a href="https://www.golnetwork.com/game/v/13
	5809/">#379</a>\n\n</BODY>\n</HTML>
STATUS:CONFIRMED
CLASS:PUBLIC
URL:https://www.golnetwork.com/game/v/135809/
X-MICROSOFT-CDO-BUSYSTATUS:BUSY
X-MICROSOFT-CDO-IMPORTANCE:1
END:VEVENT
BEGIN:VEVENT
UID:gdo90@games.golnetwork.com
LOCATION:Central Tech - Field 3
CREATED:20181112T194356Z
DTSTART:20181222T040000Z
DTEND:20181222T045000Z
DTSTAMP:20260422T040724Z
SUMMARY:Soccer Team vs. CITY FC
DESCRIPTION:CITY FC vs. Soccer TeamMore info: #381
X-ALT-DESC;FMTTYPE=text/html:<!DOCTYPE HTML PUBLIC "-//W3C//DTD HTML 3.2//E
	N">\n<HTML>\n<HEAD>\n<TITLE></TITLE>\n</HEAD>\n<BODY>\n<h3>CITY FC vs. Socc
	er Team</h3>More info: <a href="https://www.golnetwork.com/game/v/135810/">
	#381</a>\n\n</BODY>\n</HTML>
STATUS:CONFIRMED
CLASS:PUBLIC
URL:https://www.golnetwork.com/game/v/135810/
X-MICROSOFT-CDO-BUSYSTATUS:BUSY
X-MICROSOFT-CDO-IMPORTANCE:1
END:VEVENT
BEGIN:VEVENT
UID:gdo94@games.golnetwork.com
LOCATION:Central Tech - Field 3
CREATED:20181112T194408Z
DTSTART:20190104T230000Z
DTEND:20190104T235000Z
DTSTAMP:20260422T040724Z
SUMMARY:Los Diablos vs. Soccer Team
DESCRIPTION:Soccer Team vs. Los DiablosMore info: #389
X-ALT-DESC;FMTTYPE=text/html:<!DOCTYPE HTML PUBLIC "-//W3C//DTD HTML 3.2//E
	N">\n<HTML>\n<HEAD>\n<TITLE></TITLE>\n</HEAD>\n<BODY>\n<h3>Soccer Team vs. 
	Los Diablos</h3>More info: <a href="https://www.golnetwork.com/game/v/13581
	2/">#389</a>\n\n</BODY>\n</HTML>
STATUS:CONFIRMED
CLASS:PUBLIC
URL:https://www.golnetwork.com/game/v/135812/
X-MICROSOFT-CDO-BUSYSTATUS:BUSY
X-MICROSOFT-CDO-IMPORTANCE:1
END:VEVENT
BEGIN:VEVENT
UID:gdo9i@games.golnetwork.com
LOCATION:Central Tech - Field 3
CREATED:20181112T194453Z
DTSTART:20190105T000000Z
DTEND:20190105T005000Z
DTSTAMP:20260422T040724Z
SUMMARY:GTA United vs. Surfing llamas
DESCRIPTION:Surfing llamas vs. GTA UnitedMore info: #392
X-ALT-DESC;FMTTYPE=text/html:<!DOCTYPE HTML PUBLIC "-//W3C//DTD HTML 3.2//E
	N">\n<HTML>\n<HEAD>\n<TITLE></TITLE>\n</HEAD>\n<BODY>\n<h3>Surfing llamas v
	s. GTA United</h3>More info: <a href="https://www.golnetwork.com/game/v/135
	819/">#392</a>\n\n</BODY>\n</HTML>
STATUS:CONFIRMED
CLASS:PUBLIC
URL:https://www.golnetwork.com/game/v/135819/
X-MICROSOFT-CDO-BUSYSTATUS:BUSY
X-MICROSOFT-CDO-IMPORTANCE:1
END:VEVENT
BEGIN:VEVENT
UID:gdo98@games.golnetwork.com
LOCATION:Central Tech - Field 2
GEO:43.6637272;-79.4087613
CREATED:20181112T194423Z
DTSTART:20190105T020000Z
DTEND:20190105T025000Z
DTSTAMP:20260422T040724Z
SUMMARY:Blue Eagles vs. We'll Get Em Next Week
DESCRIPTION:We'll Get Em Next Week vs. Blue EaglesMore info: #394
X-ALT-DESC;FMTTYPE=text/html:<!DOCTYPE HTML PUBLIC "-//W3C//DTD HTML 3.2//E
	N">\n<HTML>\n<HEAD>\n<TITLE></TITLE>\n</HEAD>\n<BODY>\n<h3>We'll Get Em Nex
	t Week vs. Blue Eagles</h3>More info: <a href="https://www.golnetwork.com/g
	ame/v/135814/">#394</a>\n\n</BODY>\n</HTML>
STATUS:CONFIRMED
CLASS:PUBLIC
URL:https://www.golnetwork.com/game/v/135814/
X-MICROSOFT-CDO-BUSYSTATUS:BUSY
X-MICROSOFT-CDO-IMPORTANCE:1
END:VEVENT
BEGIN:VEVENT
UID:gdo9c@games.golnetwork.com
LOCATION:Central Tech - Field 3
CREATED:20181112T194433Z
DTSTART:20190105T020000Z
DTEND:20190105T025000Z
DTSTAMP:20260422T040724Z
SUMMARY:The Lads FC vs. Drawers
DESCRIPTION:Drawers vs. The Lads FCMore info: #395
X-ALT-DESC;FMTTYPE=text/html:<!DOCTYPE HTML PUBLIC "-//W3C//DTD HTML 3.2//E
	N">\n<HTML>\n<HEAD>\n<TITLE></TITLE>\n</HEAD>\n<BODY>\n<h3>Drawers vs. The 
	Lads FC</h3>More info: <a href="https://www.golnetwork.com/game/v/135816/">
	#395</a>\n\n</BODY>\n</HTML>
STATUS:CONFIRMED
CLASS:PUBLIC
URL:https://www.golnetwork.com/game/v/135816/
X-MICROSOFT-CDO-BUSYSTATUS:BUSY
X-MICROSOFT-CDO-IMPORTANCE:1
END:VEVENT
BEGIN:VEVENT
UID:gdo9e@games.golnetwork.com
LOCATION:Central Tech - Field 3
CREATED:20181112T194444Z
DTSTART:20190105T030000Z
DTEND:20190105T035000Z
DTSTAMP:20260422T040724Z
SUMMARY:CITY FC vs. Reis Arriaga
DESCRIPTION:Reis Arriaga vs. CITY FCMore info: #399
X-ALT-DESC;FMTTYPE=text/html:<!DOCTYPE HTML PUBLIC "-//W3C//DTD HTML 3.2//E
	N">\n<HTML>\n<HEAD>\n<TITLE></TITLE>\n</HEAD>\n<BODY>\n<h3>Reis Arriaga vs.
	 CITY FC</h3>More info: <a href="https://www.golnetwork.com/game/v/135817/"
	>#399</a>\n\n</BODY>\n</HTML>
STATUS:CONFIRMED
CLASS:PUBLIC
URL:https://www.golnetwork.com/game/v/135817/
X-MICROSOFT-CDO-BUSYSTATUS:BUSY
X-MICROSOFT-CDO-IMPORTANCE:1
END:VEVENT
BEGIN:VEVENT
UID:ge635@games.golnetwork.com
LOCATION:Central Tech - Field 3
CREATED:20190110T154536Z
DTSTART:20190111T230000Z
DTEND:20190111T235000Z
DTSTAMP:20260422T040724Z
SUMMARY:Surfing llamas vs. Reis Arriaga
DESCRIPTION:Reis Arriaga vs. Surfing llamasMore info: #423
X-ALT-DESC;FMTTYPE=text/html:<!DOCTYPE HTML PUBLIC "-//W3C//DTD HTML 3.2//E
	N">\n<HTML>\n<HEAD>\n<TITLE></TITLE>\n</HEAD>\n<BODY>\n<h3>Reis Arriaga vs.
	 Surfing llamas</h3>More info: <a href="https://www.golnetwork.com/game/v/1
	39012/">#423</a>\n\n</BODY>\n</HTML>
STATUS:CONFIRMED
CLASS:PUBLIC
URL:https://www.golnetwork.com/game/v/139012/
X-MICROSOFT-CDO-BUSYSTATUS:BUSY
X-MICROSOFT-CDO-IMPORTANCE:1
END:VEVENT
BEGIN:VEVENT
UID:gdo9o@games.golnetwork.com
LOCATION:Central Tech - Field 3
CREATED:20181112T194508Z
DTSTART:20190112T020000Z
DTEND:20190112T025000Z
DTSTAMP:20260422T040724Z
SUMMARY:Drawers vs. GTA United
DESCRIPTION:GTA United vs. DrawersMore info: #431
X-ALT-DESC;FMTTYPE=text/html:<!DOCTYPE HTML PUBLIC "-//W3C//DTD HTML 3.2//E
	N">\n<HTML>\n<HEAD>\n<TITLE></TITLE>\n</HEAD>\n<BODY>\n<h3>GTA United vs. D
	rawers</h3>More info: <a href="https://www.golnetwork.com/game/v/135822/">#
	431</a>\n\n</BODY>\n</HTML>
STATUS:CONFIRMED
CLASS:PUBLIC
URL:https://www.golnetwork.com/game/v/135822/
X-MICROSOFT-CDO-BUSYSTATUS:BUSY
X-MICROSOFT-CDO-IMPORTANCE:1
END:VEVENT
BEGIN:VEVENT
UID:gdo9q@games.golnetwork.com
LOCATION:Central Tech - Field 3
CREATED:20181112T194511Z
DTSTART:20190112T040000Z
DTEND:20190112T045000Z
DTSTAMP:20260422T040724Z
SUMMARY:Blue Eagles vs. Soccer Team
DESCRIPTION:Soccer Team vs. Blue EaglesMore info: #436
X-ALT-DESC;FMTTYPE=text/html:<!DOCTYPE HTML PUBLIC "-//W3C//DTD HTML 3.2//E
	N">\n<HTML>\n<HEAD>\n<TITLE></TITLE>\n</HEAD>\n<BODY>\n<h3>Soccer Team vs. 
	Blue Eagles</h3>More info: <a href="https://www.golnetwork.com/game/v/13582
	3/">#436</a>\n\n</BODY>\n</HTML>
STATUS:CONFIRMED
CLASS:PUBLIC
URL:https://www.golnetwork.com/game/v/135823/
X-MICROSOFT-CDO-BUSYSTATUS:BUSY
X-MICROSOFT-CDO-IMPORTANCE:1
END:VEVENT
BEGIN:VEVENT
UID:gdoa7@games.golnetwork.com
LOCATION:Central Tech - Field 3
CREATED:20181112T194529Z
DTSTART:20190118T230000Z
DTEND:20190118T235000Z
DTSTAMP:20260422T040724Z
SUMMARY:Drawers vs. Blue Eagles
DESCRIPTION:Blue Eagles vs. DrawersMore info: #448
X-ALT-DESC;FMTTYPE=text/html:<!DOCTYPE HTML PUBLIC "-//W3C//DTD HTML 3.2//E
	N">\n<HTML>\n<HEAD>\n<TITLE></TITLE>\n</HEAD>\n<BODY>\n<h3>Blue Eagles vs. 
	Drawers</h3>More info: <a href="https://www.golnetwork.com/game/v/135827/">
	#448</a>\n\n</BODY>\n</HTML>
STATUS:CONFIRMED
CLASS:PUBLIC
URL:https://www.golnetwork.com/game/v/135827/
X-MICROSOFT-CDO-BUSYSTATUS:BUSY
X-MICROSOFT-CDO-IMPORTANCE:1
END:VEVENT
BEGIN:VEVENT
UID:gdoa5@games.golnetwork.com
LOCATION:Central Tech - Field 3
CREATED:20181112T194524Z
DTSTART:20190119T020000Z
DTEND:20190119T025000Z
DTSTAMP:20260422T040724Z
SUMMARY:Reis Arriaga vs. Soccer Team
DESCRIPTION:Soccer Team vs. Reis ArriagaMore info: #454
X-ALT-DESC;FMTTYPE=text/html:<!DOCTYPE HTML PUBLIC "-//W3C//DTD HTML 3.2//E
	N">\n<HTML>\n<HEAD>\n<TITLE></TITLE>\n</HEAD>\n<BODY>\n<h3>Soccer Team vs. 
	Reis Arriaga</h3>More info: <a href="https://www.golnetwork.com/game/v/1358
	26/">#454</a>\n\n</BODY>\n</HTML>
STATUS:CONFIRMED
CLASS:PUBLIC
URL:https://www.golnetwork.com/game/v/135826/
X-MICROSOFT-CDO-BUSYSTATUS:BUSY
X-MICROSOFT-CDO-IMPORTANCE:1
END:VEVENT
BEGIN:VEVENT
UID:gdoa3@games.golnetwork.com
LOCATION:Central Tech - Field 3
CREATED:20181112T194521Z
DTSTART:20190119T030000Z
DTEND:20190119T035000Z
DTSTAMP:20260422T040724Z
SUMMARY:Surfing llamas vs. GTA United
DESCRIPTION:GTA United vs. Surfing llamasMore info: #457
X-ALT-DESC;FMTTYPE=text/html:<!DOCTYPE HTML PUBLIC "-//W3C//DTD HTML 3.2//E
	N">\n<HTML>\n<HEAD>\n<TITLE></TITLE>\n</HEAD>\n<BODY>\n<h3>GTA United vs. S
	urfing llamas</h3>More info: <a href="https://www.golnetwork.com/game/v/135
	825/">#457</a>\n\n</BODY>\n</HTML>
STATUS:CONFIRMED
CLASS:PUBLIC
URL:https://www.golnetwork.com/game/v/135825/
X-MICROSOFT-CDO-BUSYSTATUS:BUSY
X-MICROSOFT-CDO-IMPORTANCE:1
END:VEVENT
BEGIN:VEVENT
UID:gdoa1@games.golnetwork.com
LOCATION:Central Tech - Field 3
CREATED:20181112T194516Z
DTSTART:20190119T040000Z
DTEND:20190119T045000Z
DTSTAMP:20260422T040724Z
SUMMARY:We'll Get Em Next Week vs. CITY FC
DESCRIPTION:CITY FC vs. We'll Get Em Next WeekMore info: #462
X-ALT-DESC;FMTTYPE=text/html:<!DOCTYPE HTML PUBLIC "-//W3C//DTD HTML 3.2//E
	N">\n<HTML>\n<HEAD>\n<TITLE></TITLE>\n</HEAD>\n<BODY>\n<h3>CITY FC vs. We'l
	l Get Em Next Week</h3>More info: <a href="https://www.golnetwork.com/game/
	v/135824/">#462</a>\n\n</BODY>\n</HTML>
STATUS:CONFIRMED
CLASS:PUBLIC
URL:https://www.golnetwork.com/game/v/135824/
X-MICROSOFT-CDO-BUSYSTATUS:BUSY
X-MICROSOFT-CDO-IMPORTANCE:1
END:VEVENT
END:VCALENDAR
