BEGIN:VCALENDAR
PRODID:-//gdesolutions.com//MV Framework 1.0.0.1607 Calendar//EN
VERSION:2.0
METHOD:PUBLISH
CALSCALE:GREGORIAN
BEGIN:VEVENT
UID:gdchi@games.golnetwork.com
LOCATION:Monarch Park Stadium - Field 2
GEO:43.6792789;-79.3234873
CREATED:20181018T182304Z
DTSTART:20181212T000000Z
DTEND:20181212T010000Z
DTSTAMP:20260425T150605Z
SUMMARY:Misfires vs. Not Sure Yet
DESCRIPTION:Not Sure Yet vs. MisfiresMore info: #560
X-ALT-DESC;FMTTYPE=text/html:<!DOCTYPE HTML PUBLIC "-//W3C//DTD HTML 3.2//E
	N">\n<HTML>\n<HEAD>\n<TITLE></TITLE>\n</HEAD>\n<BODY>\n<h3>Not Sure Yet vs.
	 Misfires</h3>More info: <a href="https://www.golnetwork.com/game/v/131553/
	">#560</a>\n\n</BODY>\n</HTML>
STATUS:CONFIRMED
CLASS:PUBLIC
URL:https://www.golnetwork.com/game/v/131553/
X-MICROSOFT-CDO-BUSYSTATUS:BUSY
X-MICROSOFT-CDO-IMPORTANCE:1
END:VEVENT
BEGIN:VEVENT
UID:gdchk@games.golnetwork.com
LOCATION:Monarch Park Stadium - Field 2
GEO:43.6792789;-79.3234873
CREATED:20181018T182304Z
DTSTART:20181212T010000Z
DTEND:20181212T020000Z
DTSTAMP:20260425T150605Z
SUMMARY:IWP vs. Galacticos FC
DESCRIPTION:Galacticos FC vs. IWPMore info: #563
X-ALT-DESC;FMTTYPE=text/html:<!DOCTYPE HTML PUBLIC "-//W3C//DTD HTML 3.2//E
	N">\n<HTML>\n<HEAD>\n<TITLE></TITLE>\n</HEAD>\n<BODY>\n<h3>Galacticos FC vs
	. IWP</h3>More info: <a href="https://www.golnetwork.com/game/v/131554/">#5
	63</a>\n\n</BODY>\n</HTML>
STATUS:CONFIRMED
CLASS:PUBLIC
URL:https://www.golnetwork.com/game/v/131554/
X-MICROSOFT-CDO-BUSYSTATUS:BUSY
X-MICROSOFT-CDO-IMPORTANCE:1
END:VEVENT
BEGIN:VEVENT
UID:gdchm@games.golnetwork.com
LOCATION:Monarch Park Stadium - Field 2
GEO:43.6792789;-79.3234873
CREATED:20181018T182304Z
DTSTART:20181219T010000Z
DTEND:20181219T020000Z
DTSTAMP:20260425T150605Z
SUMMARY:Galacticos FC vs. Not Sure Yet
DESCRIPTION:Not Sure Yet vs. Galacticos FCMore info: #654
X-ALT-DESC;FMTTYPE=text/html:<!DOCTYPE HTML PUBLIC "-//W3C//DTD HTML 3.2//E
	N">\n<HTML>\n<HEAD>\n<TITLE></TITLE>\n</HEAD>\n<BODY>\n<h3>Not Sure Yet vs.
	 Galacticos FC</h3>More info: <a href="https://www.golnetwork.com/game/v/13
	1555/">#654</a>\n\n</BODY>\n</HTML>
STATUS:CONFIRMED
CLASS:PUBLIC
URL:https://www.golnetwork.com/game/v/131555/
X-MICROSOFT-CDO-BUSYSTATUS:BUSY
X-MICROSOFT-CDO-IMPORTANCE:1
END:VEVENT
END:VCALENDAR
