BEGIN:VCALENDAR
PRODID:-//gdesolutions.com//MV Framework 1.0.0.1607 Calendar//EN
VERSION:2.0
METHOD:PUBLISH
CALSCALE:GREGORIAN
BEGIN:VEVENT
UID:gdd2o@games.golnetwork.com
LOCATION:Monarch Park Stadium - Field 3
GEO:43.6792789;-79.3234873
CREATED:20181019T193132Z
DTSTART:20181214T010000Z
DTEND:20181214T020000Z
DTSTAMP:20260422T065506Z
SUMMARY:Don't Worry Be Abbey vs. Head Trauma
DESCRIPTION:Head Trauma vs. Don't Worry Be AbbeyMore info: #589
X-ALT-DESC;FMTTYPE=text/html:<!DOCTYPE HTML PUBLIC "-//W3C//DTD HTML 3.2//E
	N">\n<HTML>\n<HEAD>\n<TITLE></TITLE>\n</HEAD>\n<BODY>\n<h3>Head Trauma vs. 
	Don't Worry Be Abbey</h3>More info: <a href="https://www.golnetwork.com/gam
	e/v/131718/">#589</a>\n\n</BODY>\n</HTML>
STATUS:CONFIRMED
CLASS:PUBLIC
URL:https://www.golnetwork.com/game/v/131718/
X-MICROSOFT-CDO-BUSYSTATUS:BUSY
X-MICROSOFT-CDO-IMPORTANCE:1
END:VEVENT
BEGIN:VEVENT
UID:gdd2q@games.golnetwork.com
LOCATION:Monarch Park Stadium - Field 3
GEO:43.6792789;-79.3234873
CREATED:20181019T193132Z
DTSTART:20181214T020000Z
DTEND:20181214T030000Z
DTSTAMP:20260422T065506Z
SUMMARY:Blues vs. The Fair Players
DESCRIPTION:The Fair Players vs. BluesMore info: #592
X-ALT-DESC;FMTTYPE=text/html:<!DOCTYPE HTML PUBLIC "-//W3C//DTD HTML 3.2//E
	N">\n<HTML>\n<HEAD>\n<TITLE></TITLE>\n</HEAD>\n<BODY>\n<h3>The Fair Players
	 vs. Blues</h3>More info: <a href="https://www.golnetwork.com/game/v/131719
	/">#592</a>\n\n</BODY>\n</HTML>
STATUS:CONFIRMED
CLASS:PUBLIC
URL:https://www.golnetwork.com/game/v/131719/
X-MICROSOFT-CDO-BUSYSTATUS:BUSY
X-MICROSOFT-CDO-IMPORTANCE:1
END:VEVENT
BEGIN:VEVENT
UID:gdd31@games.golnetwork.com
LOCATION:Monarch Park - Field 1
CREATED:20181019T193132Z
DTSTART:20181221T020000Z
DTEND:20181221T030000Z
DTSTAMP:20260422T065506Z
SUMMARY:The Fair Players vs. Head Trauma
DESCRIPTION:Head Trauma vs. The Fair PlayersMore info: #684
X-ALT-DESC;FMTTYPE=text/html:<!DOCTYPE HTML PUBLIC "-//W3C//DTD HTML 3.2//E
	N">\n<HTML>\n<HEAD>\n<TITLE></TITLE>\n</HEAD>\n<BODY>\n<h3>Head Trauma vs. 
	The Fair Players</h3>More info: <a href="https://www.golnetwork.com/game/v/
	131720/">#684</a>\n\n</BODY>\n</HTML>
STATUS:CONFIRMED
CLASS:PUBLIC
URL:https://www.golnetwork.com/game/v/131720/
X-MICROSOFT-CDO-BUSYSTATUS:BUSY
X-MICROSOFT-CDO-IMPORTANCE:1
END:VEVENT
END:VCALENDAR
