BEGIN:VCALENDAR
PRODID:-//gdesolutions.com//MV Framework 1.0.0.1607 Calendar//EN
VERSION:2.0
METHOD:PUBLISH
CALSCALE:GREGORIAN
BEGIN:VEVENT
UID:gdl4a@games.golnetwork.com
LOCATION:Monarch Park Stadium - Field 3
GEO:43.6792789;-79.3234873
CREATED:20181025T145606Z
DTSTART:20181217T010000Z
DTEND:20181217T020000Z
DTSTAMP:20260422T065610Z
SUMMARY:Can We Kick It? vs. True North
DESCRIPTION:True North vs. Can We Kick It?More info: #629
X-ALT-DESC;FMTTYPE=text/html:<!DOCTYPE HTML PUBLIC "-//W3C//DTD HTML 3.2//E
	N">\n<HTML>\n<HEAD>\n<TITLE></TITLE>\n</HEAD>\n<BODY>\n<h3>True North vs. C
	an We Kick It?</h3>More info: <a href="https://www.golnetwork.com/game/v/13
	4654/">#629</a>\n\n</BODY>\n</HTML>
STATUS:CONFIRMED
CLASS:PUBLIC
URL:https://www.golnetwork.com/game/v/134654/
X-MICROSOFT-CDO-BUSYSTATUS:BUSY
X-MICROSOFT-CDO-IMPORTANCE:1
END:VEVENT
BEGIN:VEVENT
UID:gdl4c@games.golnetwork.com
LOCATION:Monarch Park Stadium - Field 3
GEO:43.6792789;-79.3234873
CREATED:20181025T145606Z
DTSTART:20181217T020000Z
DTEND:20181217T030000Z
DTSTAMP:20260422T065610Z
SUMMARY:Care Bears vs. Front Street Football Club
DESCRIPTION:Front Street Football Club vs. Care BearsMore info: #632
X-ALT-DESC;FMTTYPE=text/html:<!DOCTYPE HTML PUBLIC "-//W3C//DTD HTML 3.2//E
	N">\n<HTML>\n<HEAD>\n<TITLE></TITLE>\n</HEAD>\n<BODY>\n<h3>Front Street Foo
	tball Club vs. Care Bears</h3>More info: <a href="https://www.golnetwork.co
	m/game/v/134655/">#632</a>\n\n</BODY>\n</HTML>
STATUS:CONFIRMED
CLASS:PUBLIC
URL:https://www.golnetwork.com/game/v/134655/
X-MICROSOFT-CDO-BUSYSTATUS:BUSY
X-MICROSOFT-CDO-IMPORTANCE:1
END:VEVENT
BEGIN:VEVENT
UID:gdl4e@games.golnetwork.com
LOCATION:Monarch Park Stadium - Field 3
GEO:43.6792789;-79.3234873
CREATED:20181025T145606Z
DTSTART:20190107T000000Z
DTEND:20190107T010000Z
DTSTAMP:20260422T065610Z
SUMMARY:Front Street Football Club vs. True North
DESCRIPTION:True North vs. Front Street Football ClubMore info: #731
X-ALT-DESC;FMTTYPE=text/html:<!DOCTYPE HTML PUBLIC "-//W3C//DTD HTML 3.2//E
	N">\n<HTML>\n<HEAD>\n<TITLE></TITLE>\n</HEAD>\n<BODY>\n<h3>True North vs. F
	ront Street Football Club</h3>More info: <a href="https://www.golnetwork.co
	m/game/v/134656/">#731</a>\n\n</BODY>\n</HTML>
STATUS:CONFIRMED
CLASS:PUBLIC
URL:https://www.golnetwork.com/game/v/134656/
X-MICROSOFT-CDO-BUSYSTATUS:BUSY
X-MICROSOFT-CDO-IMPORTANCE:1
END:VEVENT
END:VCALENDAR
