BEGIN:VCALENDAR
PRODID:-//gdesolutions.com//MV Framework 1.0.0.1607 Calendar//EN
VERSION:2.0
METHOD:PUBLISH
CALSCALE:GREGORIAN
BEGIN:VEVENT
UID:gdlll@games.golnetwork.com
LOCATION:Monarch Park - Field 1
CREATED:20181029T160541Z
DTSTART:20190108T010000Z
DTEND:20190108T020000Z
DTSTAMP:20260421T143538Z
SUMMARY:Surf on Turf vs. Gravy Train
DESCRIPTION:Gravy Train vs. Surf on TurfMore info: #735
X-ALT-DESC;FMTTYPE=text/html:<!DOCTYPE HTML PUBLIC "-//W3C//DTD HTML 3.2//E
	N">\n<HTML>\n<HEAD>\n<TITLE></TITLE>\n</HEAD>\n<BODY>\n<h3>Gravy Train vs. 
	Surf on Turf</h3>More info: <a href="https://www.golnetwork.com/game/v/1348
	89/">#735</a>\n\n</BODY>\n</HTML>
STATUS:CONFIRMED
CLASS:PUBLIC
URL:https://www.golnetwork.com/game/v/134889/
X-MICROSOFT-CDO-BUSYSTATUS:BUSY
X-MICROSOFT-CDO-IMPORTANCE:1
END:VEVENT
BEGIN:VEVENT
UID:gdlln@games.golnetwork.com
LOCATION:Monarch Park - Field 1
CREATED:20181029T160541Z
DTSTART:20190108T020000Z
DTEND:20190108T030000Z
DTSTAMP:20260421T143538Z
SUMMARY:XTSC Monday Night Madness vs. Net Six and Chill
DESCRIPTION:Net Six and Chill vs. XTSC Monday Night MadnessMore info: #738
X-ALT-DESC;FMTTYPE=text/html:<!DOCTYPE HTML PUBLIC "-//W3C//DTD HTML 3.2//E
	N">\n<HTML>\n<HEAD>\n<TITLE></TITLE>\n</HEAD>\n<BODY>\n<h3>Net Six and Chil
	l vs. XTSC Monday Night Madness</h3>More info: <a href="https://www.golnetw
	ork.com/game/v/134890/">#738</a>\n\n</BODY>\n</HTML>
STATUS:CONFIRMED
CLASS:PUBLIC
URL:https://www.golnetwork.com/game/v/134890/
X-MICROSOFT-CDO-BUSYSTATUS:BUSY
X-MICROSOFT-CDO-IMPORTANCE:1
END:VEVENT
BEGIN:VEVENT
UID:gdllp@games.golnetwork.com
LOCATION:Monarch Park - Field 1
CREATED:20181029T160541Z
DTSTART:20190115T010000Z
DTEND:20190115T020000Z
DTSTAMP:20260421T143538Z
SUMMARY:Net Six and Chill vs. Surf on Turf
DESCRIPTION:Surf on Turf vs. Net Six and ChillMore info: #788
X-ALT-DESC;FMTTYPE=text/html:<!DOCTYPE HTML PUBLIC "-//W3C//DTD HTML 3.2//E
	N">\n<HTML>\n<HEAD>\n<TITLE></TITLE>\n</HEAD>\n<BODY>\n<h3>Surf on Turf vs.
	 Net Six and Chill</h3>More info: <a href="https://www.golnetwork.com/game/
	v/134891/">#788</a>\n\n</BODY>\n</HTML>
STATUS:CONFIRMED
CLASS:PUBLIC
URL:https://www.golnetwork.com/game/v/134891/
X-MICROSOFT-CDO-BUSYSTATUS:BUSY
X-MICROSOFT-CDO-IMPORTANCE:1
END:VEVENT
END:VCALENDAR
