BEGIN:VCALENDAR
PRODID:-//gdesolutions.com//MV Framework 1.0.0.1607 Calendar//EN
VERSION:2.0
METHOD:PUBLISH
CALSCALE:GREGORIAN
BEGIN:VEVENT
UID:gdp5j@games.golnetwork.com
LOCATION:Jesse Ketchum Public School
GEO:43.6730545;-79.3911034
CREATED:20181128T173425Z
DTSTART:20190204T233000Z
DTEND:20190205T003000Z
DTSTAMP:20260420T163510Z
SUMMARY:XTSC Overdrive vs. Surfing Llamas
DESCRIPTION:Surfing Llamas vs. XTSC OverdriveMore info: #19
X-ALT-DESC;FMTTYPE=text/html:<!DOCTYPE HTML PUBLIC "-//W3C//DTD HTML 3.2//E
	N">\n<HTML>\n<HEAD>\n<TITLE></TITLE>\n</HEAD>\n<BODY>\n<h3>Surfing Llamas v
	s. XTSC Overdrive</h3>More info: <a href="https://www.golnetwork.com/game/v
	/136130/">#19</a>\n\n</BODY>\n</HTML>
STATUS:CONFIRMED
CLASS:PUBLIC
URL:https://www.golnetwork.com/game/v/136130/
X-MICROSOFT-CDO-BUSYSTATUS:BUSY
X-MICROSOFT-CDO-IMPORTANCE:1
END:VEVENT
BEGIN:VEVENT
UID:gdp5h@games.golnetwork.com
LOCATION:Jesse Ketchum Public School
GEO:43.6730545;-79.3911034
CREATED:20181128T173425Z
DTSTART:20190205T003000Z
DTEND:20190205T013000Z
DTSTAMP:20260420T163510Z
SUMMARY:Squirtle Squad vs. Rooney Tunes
DESCRIPTION:Rooney Tunes vs. Squirtle SquadMore info: #20
X-ALT-DESC;FMTTYPE=text/html:<!DOCTYPE HTML PUBLIC "-//W3C//DTD HTML 3.2//E
	N">\n<HTML>\n<HEAD>\n<TITLE></TITLE>\n</HEAD>\n<BODY>\n<h3>Rooney Tunes vs.
	 Squirtle Squad</h3>More info: <a href="https://www.golnetwork.com/game/v/1
	36129/">#20</a>\n\n</BODY>\n</HTML>
STATUS:CONFIRMED
CLASS:PUBLIC
URL:https://www.golnetwork.com/game/v/136129/
X-MICROSOFT-CDO-BUSYSTATUS:BUSY
X-MICROSOFT-CDO-IMPORTANCE:1
END:VEVENT
BEGIN:VEVENT
UID:gdp5l@games.golnetwork.com
LOCATION:Jesse Ketchum Public School
GEO:43.6730545;-79.3911034
CREATED:20181128T173425Z
DTSTART:20190212T013000Z
DTEND:20190212T023000Z
DTSTAMP:20260420T163510Z
SUMMARY:Surfing Llamas vs. Rooney Tunes
DESCRIPTION:Rooney Tunes vs. Surfing LlamasMore info: #24
X-ALT-DESC;FMTTYPE=text/html:<!DOCTYPE HTML PUBLIC "-//W3C//DTD HTML 3.2//E
	N">\n<HTML>\n<HEAD>\n<TITLE></TITLE>\n</HEAD>\n<BODY>\n<h3>Rooney Tunes vs.
	 Surfing Llamas</h3>More info: <a href="https://www.golnetwork.com/game/v/1
	36131/">#24</a>\n\n</BODY>\n</HTML>
STATUS:CONFIRMED
CLASS:PUBLIC
URL:https://www.golnetwork.com/game/v/136131/
X-MICROSOFT-CDO-BUSYSTATUS:BUSY
X-MICROSOFT-CDO-IMPORTANCE:1
END:VEVENT
END:VCALENDAR
