BEGIN:VCALENDAR
PRODID:-//gdesolutions.com//MV Framework 1.0.0.1607 Calendar//EN
VERSION:2.0
METHOD:PUBLISH
CALSCALE:GREGORIAN
BEGIN:VEVENT
UID:geeeq@games.golnetwork.com
LOCATION:Canoe Landing - Field 1
GEO:43.6396144;-79.3970577
CREATED:20190424T161541Z
DTSTART:20190508T223000Z
DTEND:20190508T233000Z
DTSTAMP:20260420T054217Z
SUMMARY:Souvlakies FC vs. vodaQUAD
DESCRIPTION:vodaQUAD vs. Souvlakies FCMore info: #100
X-ALT-DESC;FMTTYPE=text/html:<!DOCTYPE HTML PUBLIC "-//W3C//DTD HTML 3.2//E
	N">\n<HTML>\n<HEAD>\n<TITLE></TITLE>\n</HEAD>\n<BODY>\n<h3>vodaQUAD vs. Sou
	vlakies FC</h3>More info: <a href="https://www.golnetwork.com/game/v/142087
	/">#100</a>\n\n</BODY>\n</HTML>
STATUS:CONFIRMED
CLASS:PUBLIC
URL:https://www.golnetwork.com/game/v/142087/
X-MICROSOFT-CDO-BUSYSTATUS:BUSY
X-MICROSOFT-CDO-IMPORTANCE:1
END:VEVENT
BEGIN:VEVENT
UID:geef1@games.golnetwork.com
LOCATION:Canoe Landing - Field 2
GEO:43.6396144;-79.3970577
CREATED:20190424T161550Z
DTSTART:20190508T223000Z
DTEND:20190508T233000Z
DTSTAMP:20260420T054217Z
SUMMARY:Let's Get Fiscal vs. Mighty Frogs
DESCRIPTION:Mighty Frogs vs. Let's Get FiscalMore info: #101
X-ALT-DESC;FMTTYPE=text/html:<!DOCTYPE HTML PUBLIC "-//W3C//DTD HTML 3.2//E
	N">\n<HTML>\n<HEAD>\n<TITLE></TITLE>\n</HEAD>\n<BODY>\n<h3>Mighty Frogs vs.
	 Let's Get Fiscal</h3>More info: <a href="https://www.golnetwork.com/game/v
	/142088/">#101</a>\n\n</BODY>\n</HTML>
STATUS:CONFIRMED
CLASS:PUBLIC
URL:https://www.golnetwork.com/game/v/142088/
X-MICROSOFT-CDO-BUSYSTATUS:BUSY
X-MICROSOFT-CDO-IMPORTANCE:1
END:VEVENT
BEGIN:VEVENT
UID:geef3@games.golnetwork.com
LOCATION:Canoe Landing - Field 1
GEO:43.6396144;-79.3970577
CREATED:20190424T161600Z
DTSTART:20190508T233000Z
DTEND:20190509T003000Z
DTSTAMP:20260420T054217Z
SUMMARY:Leckie Goals FC vs. Vader United
DESCRIPTION:Vader United vs. Leckie Goals FCMore info: #103
X-ALT-DESC;FMTTYPE=text/html:<!DOCTYPE HTML PUBLIC "-//W3C//DTD HTML 3.2//E
	N">\n<HTML>\n<HEAD>\n<TITLE></TITLE>\n</HEAD>\n<BODY>\n<h3>Vader United vs.
	 Leckie Goals FC</h3>More info: <a href="https://www.golnetwork.com/game/v/
	142089/">#103</a>\n\n</BODY>\n</HTML>
STATUS:CONFIRMED
CLASS:PUBLIC
URL:https://www.golnetwork.com/game/v/142089/
X-MICROSOFT-CDO-BUSYSTATUS:BUSY
X-MICROSOFT-CDO-IMPORTANCE:1
END:VEVENT
BEGIN:VEVENT
UID:geef5@games.golnetwork.com
LOCATION:Canoe Landing - Field 2
GEO:43.6396144;-79.3970577
CREATED:20190424T161608Z
DTSTART:20190508T233000Z
DTEND:20190509T003000Z
DTSTAMP:20260420T054217Z
SUMMARY:FC Porto Youts vs. RSA FC
DESCRIPTION:RSA FC vs. FC Porto YoutsMore info: #104
X-ALT-DESC;FMTTYPE=text/html:<!DOCTYPE HTML PUBLIC "-//W3C//DTD HTML 3.2//E
	N">\n<HTML>\n<HEAD>\n<TITLE></TITLE>\n</HEAD>\n<BODY>\n<h3>RSA FC vs. FC Po
	rto Youts</h3>More info: <a href="https://www.golnetwork.com/game/v/142090/
	">#104</a>\n\n</BODY>\n</HTML>
STATUS:CONFIRMED
CLASS:PUBLIC
URL:https://www.golnetwork.com/game/v/142090/
X-MICROSOFT-CDO-BUSYSTATUS:BUSY
X-MICROSOFT-CDO-IMPORTANCE:1
END:VEVENT
BEGIN:VEVENT
UID:geefj@games.golnetwork.com
LOCATION:Canoe Landing - Field 1
GEO:43.6396144;-79.3970577
CREATED:20190424T161720Z
DTSTART:20190515T223000Z
DTEND:20190515T233000Z
DTSTAMP:20260420T054217Z
SUMMARY:vodaQUAD vs. Leckie Goals FC
DESCRIPTION:Leckie Goals FC vs. vodaQUADMore info: #142
X-ALT-DESC;FMTTYPE=text/html:<!DOCTYPE HTML PUBLIC "-//W3C//DTD HTML 3.2//E
	N">\n<HTML>\n<HEAD>\n<TITLE></TITLE>\n</HEAD>\n<BODY>\n<h3>Leckie Goals FC 
	vs. vodaQUAD</h3>More info: <a href="https://www.golnetwork.com/game/v/1420
	97/">#142</a>\n\n</BODY>\n</HTML>
STATUS:RESCHEDULED
CLASS:PUBLIC
URL:https://www.golnetwork.com/game/v/142097/
X-MICROSOFT-CDO-BUSYSTATUS:BUSY
X-MICROSOFT-CDO-IMPORTANCE:1
END:VEVENT
BEGIN:VEVENT
UID:geefl@games.golnetwork.com
LOCATION:Canoe Landing - Field 1
GEO:43.6396144;-79.3970577
CREATED:20190424T161728Z
DTSTART:20190515T233000Z
DTEND:20190516T003000Z
DTSTAMP:20260420T054217Z
SUMMARY:FC Porto Youts vs. Souvlakies FC
DESCRIPTION:Souvlakies FC vs. FC Porto YoutsMore info: #145
X-ALT-DESC;FMTTYPE=text/html:<!DOCTYPE HTML PUBLIC "-//W3C//DTD HTML 3.2//E
	N">\n<HTML>\n<HEAD>\n<TITLE></TITLE>\n</HEAD>\n<BODY>\n<h3>Souvlakies FC vs
	. FC Porto Youts</h3>More info: <a href="https://www.golnetwork.com/game/v/
	142098/">#145</a>\n\n</BODY>\n</HTML>
STATUS:CONFIRMED
CLASS:PUBLIC
URL:https://www.golnetwork.com/game/v/142098/
X-MICROSOFT-CDO-BUSYSTATUS:BUSY
X-MICROSOFT-CDO-IMPORTANCE:1
END:VEVENT
BEGIN:VEVENT
UID:geefp@games.golnetwork.com
LOCATION:Canoe Landing - Field 1
GEO:43.6396144;-79.3970577
CREATED:20190424T161752Z
DTSTART:20190516T003000Z
DTEND:20190516T013000Z
DTSTAMP:20260420T054217Z
SUMMARY:Let's Get Fiscal vs. Vader United
DESCRIPTION:Vader United vs. Let's Get FiscalMore info: #148
X-ALT-DESC;FMTTYPE=text/html:<!DOCTYPE HTML PUBLIC "-//W3C//DTD HTML 3.2//E
	N">\n<HTML>\n<HEAD>\n<TITLE></TITLE>\n</HEAD>\n<BODY>\n<h3>Vader United vs.
	 Let's Get Fiscal</h3>More info: <a href="https://www.golnetwork.com/game/v
	/142100/">#148</a>\n\n</BODY>\n</HTML>
STATUS:CONFIRMED
CLASS:PUBLIC
URL:https://www.golnetwork.com/game/v/142100/
X-MICROSOFT-CDO-BUSYSTATUS:BUSY
X-MICROSOFT-CDO-IMPORTANCE:1
END:VEVENT
BEGIN:VEVENT
UID:geeg0@games.golnetwork.com
LOCATION:Canoe Landing - Field 2
GEO:43.6396144;-79.3970577
CREATED:20190424T161801Z
DTSTART:20190516T003000Z
DTEND:20190516T013000Z
DTSTAMP:20260420T054217Z
SUMMARY:Dirty Churros FC vs. RSA FC
DESCRIPTION:RSA FC vs. Dirty Churros FCMore info: #149
X-ALT-DESC;FMTTYPE=text/html:<!DOCTYPE HTML PUBLIC "-//W3C//DTD HTML 3.2//E
	N">\n<HTML>\n<HEAD>\n<TITLE></TITLE>\n</HEAD>\n<BODY>\n<h3>RSA FC vs. Dirty
	 Churros FC</h3>More info: <a href="https://www.golnetwork.com/game/v/14210
	1/">#149</a>\n\n</BODY>\n</HTML>
STATUS:CONFIRMED
CLASS:PUBLIC
URL:https://www.golnetwork.com/game/v/142101/
X-MICROSOFT-CDO-BUSYSTATUS:BUSY
X-MICROSOFT-CDO-IMPORTANCE:1
END:VEVENT
BEGIN:VEVENT
UID:geef9@games.golnetwork.com
LOCATION:Canoe Landing - Field 1
GEO:43.6396144;-79.3970577
CREATED:20190424T161630Z
DTSTART:20190522T223000Z
DTEND:20190522T233000Z
DTSTAMP:20260420T054217Z
SUMMARY:FC Porto Youts vs. vodaQUAD
DESCRIPTION:vodaQUAD vs. FC Porto YoutsMore info: #176
X-ALT-DESC;FMTTYPE=text/html:<!DOCTYPE HTML PUBLIC "-//W3C//DTD HTML 3.2//E
	N">\n<HTML>\n<HEAD>\n<TITLE></TITLE>\n</HEAD>\n<BODY>\n<h3>vodaQUAD vs. FC 
	Porto Youts</h3>More info: <a href="https://www.golnetwork.com/game/v/14209
	2/">#176</a>\n\n</BODY>\n</HTML>
STATUS:CONFIRMED
CLASS:PUBLIC
URL:https://www.golnetwork.com/game/v/142092/
X-MICROSOFT-CDO-BUSYSTATUS:BUSY
X-MICROSOFT-CDO-IMPORTANCE:1
END:VEVENT
BEGIN:VEVENT
UID:geefd@games.golnetwork.com
LOCATION:Canoe Landing - Field 1
GEO:43.6396144;-79.3970577
CREATED:20190424T161649Z
DTSTART:20190522T233000Z
DTEND:20190523T003000Z
DTSTAMP:20260420T054217Z
SUMMARY:Dirty Churros FC vs. Leckie Goals FC
DESCRIPTION:Leckie Goals FC vs. Dirty Churros FCMore info: #180
X-ALT-DESC;FMTTYPE=text/html:<!DOCTYPE HTML PUBLIC "-//W3C//DTD HTML 3.2//E
	N">\n<HTML>\n<HEAD>\n<TITLE></TITLE>\n</HEAD>\n<BODY>\n<h3>Leckie Goals FC 
	vs. Dirty Churros FC</h3>More info: <a href="https://www.golnetwork.com/gam
	e/v/142094/">#180</a>\n\n</BODY>\n</HTML>
STATUS:CONFIRMED
CLASS:PUBLIC
URL:https://www.golnetwork.com/game/v/142094/
X-MICROSOFT-CDO-BUSYSTATUS:BUSY
X-MICROSOFT-CDO-IMPORTANCE:1
END:VEVENT
BEGIN:VEVENT
UID:geeff@games.golnetwork.com
LOCATION:Canoe Landing - Field 1
GEO:43.6396144;-79.3970577
CREATED:20190424T161658Z
DTSTART:20190523T003000Z
DTEND:20190523T013000Z
DTSTAMP:20260420T054217Z
SUMMARY:Souvlakies FC vs. Let's Get Fiscal
DESCRIPTION:Let's Get Fiscal vs. Souvlakies FCMore info: #184
X-ALT-DESC;FMTTYPE=text/html:<!DOCTYPE HTML PUBLIC "-//W3C//DTD HTML 3.2//E
	N">\n<HTML>\n<HEAD>\n<TITLE></TITLE>\n</HEAD>\n<BODY>\n<h3>Let's Get Fiscal
	 vs. Souvlakies FC</h3>More info: <a href="https://www.golnetwork.com/game/
	v/142095/">#184</a>\n\n</BODY>\n</HTML>
STATUS:CONFIRMED
CLASS:PUBLIC
URL:https://www.golnetwork.com/game/v/142095/
X-MICROSOFT-CDO-BUSYSTATUS:BUSY
X-MICROSOFT-CDO-IMPORTANCE:1
END:VEVENT
BEGIN:VEVENT
UID:geefh@games.golnetwork.com
LOCATION:Canoe Landing - Field 2
GEO:43.6396144;-79.3970577
CREATED:20190424T161707Z
DTSTART:20190523T003000Z
DTEND:20190523T013000Z
DTSTAMP:20260420T054217Z
SUMMARY:RSA FC vs. Mighty Frogs
DESCRIPTION:Mighty Frogs vs. RSA FCMore info: #185
X-ALT-DESC;FMTTYPE=text/html:<!DOCTYPE HTML PUBLIC "-//W3C//DTD HTML 3.2//E
	N">\n<HTML>\n<HEAD>\n<TITLE></TITLE>\n</HEAD>\n<BODY>\n<h3>Mighty Frogs vs.
	 RSA FC</h3>More info: <a href="https://www.golnetwork.com/game/v/142096/">
	#185</a>\n\n</BODY>\n</HTML>
STATUS:CONFIRMED
CLASS:PUBLIC
URL:https://www.golnetwork.com/game/v/142096/
X-MICROSOFT-CDO-BUSYSTATUS:BUSY
X-MICROSOFT-CDO-IMPORTANCE:1
END:VEVENT
BEGIN:VEVENT
UID:geeg2@games.golnetwork.com
LOCATION:Canoe Landing - Field 1
GEO:43.6396144;-79.3970577
CREATED:20190424T161832Z
DTSTART:20190529T223000Z
DTEND:20190529T233000Z
DTSTAMP:20260420T054217Z
SUMMARY:vodaQUAD vs. Let's Get Fiscal
DESCRIPTION:Let's Get Fiscal vs. vodaQUADMore info: #219
X-ALT-DESC;FMTTYPE=text/html:<!DOCTYPE HTML PUBLIC "-//W3C//DTD HTML 3.2//E
	N">\n<HTML>\n<HEAD>\n<TITLE></TITLE>\n</HEAD>\n<BODY>\n<h3>Let's Get Fiscal
	 vs. vodaQUAD</h3>More info: <a href="https://www.golnetwork.com/game/v/142
	102/">#219</a>\n\n</BODY>\n</HTML>
STATUS:CONFIRMED
CLASS:PUBLIC
URL:https://www.golnetwork.com/game/v/142102/
X-MICROSOFT-CDO-BUSYSTATUS:BUSY
X-MICROSOFT-CDO-IMPORTANCE:1
END:VEVENT
BEGIN:VEVENT
UID:geeg6@games.golnetwork.com
LOCATION:Canoe Landing - Field 1
GEO:43.6396144;-79.3970577
CREATED:20190424T161858Z
DTSTART:20190529T233000Z
DTEND:20190530T003000Z
DTSTAMP:20260420T054217Z
SUMMARY:Souvlakies FC vs. RSA FC
DESCRIPTION:RSA FC vs. Souvlakies FCMore info: #226
X-ALT-DESC;FMTTYPE=text/html:<!DOCTYPE HTML PUBLIC "-//W3C//DTD HTML 3.2//E
	N">\n<HTML>\n<HEAD>\n<TITLE></TITLE>\n</HEAD>\n<BODY>\n<h3>RSA FC vs. Souvl
	akies FC</h3>More info: <a href="https://www.golnetwork.com/game/v/142104/"
	>#226</a>\n\n</BODY>\n</HTML>
STATUS:CONFIRMED
CLASS:PUBLIC
URL:https://www.golnetwork.com/game/v/142104/
X-MICROSOFT-CDO-BUSYSTATUS:BUSY
X-MICROSOFT-CDO-IMPORTANCE:1
END:VEVENT
BEGIN:VEVENT
UID:geeg8@games.golnetwork.com
LOCATION:Canoe Landing - Field 2
GEO:43.6396144;-79.3970577
CREATED:20190424T161910Z
DTSTART:20190529T233000Z
DTEND:20190530T003000Z
DTSTAMP:20260420T054217Z
SUMMARY:Dirty Churros FC vs. Mighty Frogs
DESCRIPTION:Mighty Frogs vs. Dirty Churros FCMore info: #227
X-ALT-DESC;FMTTYPE=text/html:<!DOCTYPE HTML PUBLIC "-//W3C//DTD HTML 3.2//E
	N">\n<HTML>\n<HEAD>\n<TITLE></TITLE>\n</HEAD>\n<BODY>\n<h3>Mighty Frogs vs.
	 Dirty Churros FC</h3>More info: <a href="https://www.golnetwork.com/game/v
	/142105/">#227</a>\n\n</BODY>\n</HTML>
STATUS:CONFIRMED
CLASS:PUBLIC
URL:https://www.golnetwork.com/game/v/142105/
X-MICROSOFT-CDO-BUSYSTATUS:BUSY
X-MICROSOFT-CDO-IMPORTANCE:1
END:VEVENT
BEGIN:VEVENT
UID:geega@games.golnetwork.com
LOCATION:Canoe Landing - Field 1
GEO:43.6396144;-79.3970577
CREATED:20190424T161928Z
DTSTART:20190530T003000Z
DTEND:20190530T013000Z
DTSTAMP:20260420T054217Z
SUMMARY:FC Porto Youts vs. Vader United
DESCRIPTION:Vader United vs. FC Porto YoutsMore info: #233
X-ALT-DESC;FMTTYPE=text/html:<!DOCTYPE HTML PUBLIC "-//W3C//DTD HTML 3.2//E
	N">\n<HTML>\n<HEAD>\n<TITLE></TITLE>\n</HEAD>\n<BODY>\n<h3>Vader United vs.
	 FC Porto Youts</h3>More info: <a href="https://www.golnetwork.com/game/v/1
	42106/">#233</a>\n\n</BODY>\n</HTML>
STATUS:CONFIRMED
CLASS:PUBLIC
URL:https://www.golnetwork.com/game/v/142106/
X-MICROSOFT-CDO-BUSYSTATUS:BUSY
X-MICROSOFT-CDO-IMPORTANCE:1
END:VEVENT
BEGIN:VEVENT
UID:geegc@games.golnetwork.com
LOCATION:Canoe Landing - Field 1
GEO:43.6396144;-79.3970577
CREATED:20190424T162334Z
DTSTART:20190605T223000Z
DTEND:20190605T233000Z
DTSTAMP:20260420T054217Z
SUMMARY:Dirty Churros FC vs. Souvlakies FC
DESCRIPTION:Souvlakies FC vs. Dirty Churros FCMore info: #284
X-ALT-DESC;FMTTYPE=text/html:<!DOCTYPE HTML PUBLIC "-//W3C//DTD HTML 3.2//E
	N">\n<HTML>\n<HEAD>\n<TITLE></TITLE>\n</HEAD>\n<BODY>\n<h3>Souvlakies FC vs
	. Dirty Churros FC</h3>More info: <a href="https://www.golnetwork.com/game/
	v/142107/">#284</a>\n\n</BODY>\n</HTML>
STATUS:CONFIRMED
CLASS:PUBLIC
URL:https://www.golnetwork.com/game/v/142107/
X-MICROSOFT-CDO-BUSYSTATUS:BUSY
X-MICROSOFT-CDO-IMPORTANCE:1
END:VEVENT
BEGIN:VEVENT
UID:geege@games.golnetwork.com
LOCATION:Canoe Landing - Field 2
GEO:43.6396144;-79.3970577
CREATED:20190424T162341Z
DTSTART:20190605T223000Z
DTEND:20190605T233000Z
DTSTAMP:20260420T054217Z
SUMMARY:FC Porto Youts vs. Let's Get Fiscal
DESCRIPTION:Let's Get Fiscal vs. FC Porto YoutsMore info: #285
X-ALT-DESC;FMTTYPE=text/html:<!DOCTYPE HTML PUBLIC "-//W3C//DTD HTML 3.2//E
	N">\n<HTML>\n<HEAD>\n<TITLE></TITLE>\n</HEAD>\n<BODY>\n<h3>Let's Get Fiscal
	 vs. FC Porto Youts</h3>More info: <a href="https://www.golnetwork.com/game
	/v/142108/">#285</a>\n\n</BODY>\n</HTML>
STATUS:CONFIRMED
CLASS:PUBLIC
URL:https://www.golnetwork.com/game/v/142108/
X-MICROSOFT-CDO-BUSYSTATUS:BUSY
X-MICROSOFT-CDO-IMPORTANCE:1
END:VEVENT
BEGIN:VEVENT
UID:geegg@games.golnetwork.com
LOCATION:Canoe Landing - Field 1
GEO:43.6396144;-79.3970577
CREATED:20190424T162352Z
DTSTART:20190605T233000Z
DTEND:20190606T003000Z
DTSTAMP:20260420T054217Z
SUMMARY:Vader United vs. RSA FC
DESCRIPTION:RSA FC vs. Vader UnitedMore info: #291
X-ALT-DESC;FMTTYPE=text/html:<!DOCTYPE HTML PUBLIC "-//W3C//DTD HTML 3.2//E
	N">\n<HTML>\n<HEAD>\n<TITLE></TITLE>\n</HEAD>\n<BODY>\n<h3>RSA FC vs. Vader
	 United</h3>More info: <a href="https://www.golnetwork.com/game/v/142109/">
	#291</a>\n\n</BODY>\n</HTML>
STATUS:CONFIRMED
CLASS:PUBLIC
URL:https://www.golnetwork.com/game/v/142109/
X-MICROSOFT-CDO-BUSYSTATUS:BUSY
X-MICROSOFT-CDO-IMPORTANCE:1
END:VEVENT
BEGIN:VEVENT
UID:geegi@games.golnetwork.com
LOCATION:Canoe Landing - Field 1
GEO:43.6396144;-79.3970577
CREATED:20190424T162400Z
DTSTART:20190606T003000Z
DTEND:20190606T013000Z
DTSTAMP:20260420T054217Z
SUMMARY:Mighty Frogs vs. Leckie Goals FC
DESCRIPTION:Leckie Goals FC vs. Mighty FrogsMore info: #297
X-ALT-DESC;FMTTYPE=text/html:<!DOCTYPE HTML PUBLIC "-//W3C//DTD HTML 3.2//E
	N">\n<HTML>\n<HEAD>\n<TITLE></TITLE>\n</HEAD>\n<BODY>\n<h3>Leckie Goals FC 
	vs. Mighty Frogs</h3>More info: <a href="https://www.golnetwork.com/game/v/
	142110/">#297</a>\n\n</BODY>\n</HTML>
STATUS:CONFIRMED
CLASS:PUBLIC
URL:https://www.golnetwork.com/game/v/142110/
X-MICROSOFT-CDO-BUSYSTATUS:BUSY
X-MICROSOFT-CDO-IMPORTANCE:1
END:VEVENT
BEGIN:VEVENT
UID:geegm@games.golnetwork.com
LOCATION:Canoe Landing - Field 1
GEO:43.6396144;-79.3970577
CREATED:20190424T162448Z
DTSTART:20190612T223000Z
DTEND:20190612T233000Z
DTSTAMP:20260420T054217Z
SUMMARY:Dirty Churros FC vs. vodaQUAD
DESCRIPTION:vodaQUAD vs. Dirty Churros FCMore info: #343
X-ALT-DESC;FMTTYPE=text/html:<!DOCTYPE HTML PUBLIC "-//W3C//DTD HTML 3.2//E
	N">\n<HTML>\n<HEAD>\n<TITLE></TITLE>\n</HEAD>\n<BODY>\n<h3>vodaQUAD vs. Dir
	ty Churros FC</h3>More info: <a href="https://www.golnetwork.com/game/v/142
	112/">#343</a>\n\n</BODY>\n</HTML>
STATUS:CONFIRMED
CLASS:PUBLIC
URL:https://www.golnetwork.com/game/v/142112/
X-MICROSOFT-CDO-BUSYSTATUS:BUSY
X-MICROSOFT-CDO-IMPORTANCE:1
END:VEVENT
BEGIN:VEVENT
UID:geego@games.golnetwork.com
LOCATION:Canoe Landing - Field 1
GEO:43.6396144;-79.3970577
CREATED:20190424T162457Z
DTSTART:20190612T233000Z
DTEND:20190613T003000Z
DTSTAMP:20260420T054217Z
SUMMARY:Let's Get Fiscal vs. RSA FC
DESCRIPTION:RSA FC vs. Let's Get FiscalMore info: #350
X-ALT-DESC;FMTTYPE=text/html:<!DOCTYPE HTML PUBLIC "-//W3C//DTD HTML 3.2//E
	N">\n<HTML>\n<HEAD>\n<TITLE></TITLE>\n</HEAD>\n<BODY>\n<h3>RSA FC vs. Let's
	 Get Fiscal</h3>More info: <a href="https://www.golnetwork.com/game/v/14211
	3/">#350</a>\n\n</BODY>\n</HTML>
STATUS:CONFIRMED
CLASS:PUBLIC
URL:https://www.golnetwork.com/game/v/142113/
X-MICROSOFT-CDO-BUSYSTATUS:BUSY
X-MICROSOFT-CDO-IMPORTANCE:1
END:VEVENT
BEGIN:VEVENT
UID:geeh1@games.golnetwork.com
LOCATION:Canoe Landing - Field 1
GEO:43.6396144;-79.3970577
CREATED:20190424T162513Z
DTSTART:20190613T003000Z
DTEND:20190613T013000Z
DTSTAMP:20260420T054217Z
SUMMARY:Mighty Frogs vs. Vader United
DESCRIPTION:Vader United vs. Mighty FrogsMore info: #357
X-ALT-DESC;FMTTYPE=text/html:<!DOCTYPE HTML PUBLIC "-//W3C//DTD HTML 3.2//E
	N">\n<HTML>\n<HEAD>\n<TITLE></TITLE>\n</HEAD>\n<BODY>\n<h3>Vader United vs.
	 Mighty Frogs</h3>More info: <a href="https://www.golnetwork.com/game/v/142
	115/">#357</a>\n\n</BODY>\n</HTML>
STATUS:CONFIRMED
CLASS:PUBLIC
URL:https://www.golnetwork.com/game/v/142115/
X-MICROSOFT-CDO-BUSYSTATUS:BUSY
X-MICROSOFT-CDO-IMPORTANCE:1
END:VEVENT
BEGIN:VEVENT
UID:geeh3@games.golnetwork.com
LOCATION:Canoe Landing - Field 2
GEO:43.6396144;-79.3970577
CREATED:20190424T162520Z
DTSTART:20190613T003000Z
DTEND:20190613T013000Z
DTSTAMP:20260420T054217Z
SUMMARY:Leckie Goals FC vs. FC Porto Youts
DESCRIPTION:FC Porto Youts vs. Leckie Goals FCMore info: #358
X-ALT-DESC;FMTTYPE=text/html:<!DOCTYPE HTML PUBLIC "-//W3C//DTD HTML 3.2//E
	N">\n<HTML>\n<HEAD>\n<TITLE></TITLE>\n</HEAD>\n<BODY>\n<h3>FC Porto Youts v
	s. Leckie Goals FC</h3>More info: <a href="https://www.golnetwork.com/game/
	v/142116/">#358</a>\n\n</BODY>\n</HTML>
STATUS:CONFIRMED
CLASS:PUBLIC
URL:https://www.golnetwork.com/game/v/142116/
X-MICROSOFT-CDO-BUSYSTATUS:BUSY
X-MICROSOFT-CDO-IMPORTANCE:1
END:VEVENT
BEGIN:VEVENT
UID:geeh5@games.golnetwork.com
LOCATION:Canoe Landing - Field 1
GEO:43.6396144;-79.3970577
CREATED:20190424T162533Z
DTSTART:20190619T223000Z
DTEND:20190619T233000Z
DTSTAMP:20260420T054217Z
SUMMARY:vodaQUAD vs. RSA FC
DESCRIPTION:RSA FC vs. vodaQUADMore info: #391
X-ALT-DESC;FMTTYPE=text/html:<!DOCTYPE HTML PUBLIC "-//W3C//DTD HTML 3.2//E
	N">\n<HTML>\n<HEAD>\n<TITLE></TITLE>\n</HEAD>\n<BODY>\n<h3>RSA FC vs. vodaQ
	UAD</h3>More info: <a href="https://www.golnetwork.com/game/v/142117/">#391
	</a>\n\n</BODY>\n</HTML>
STATUS:CONFIRMED
CLASS:PUBLIC
URL:https://www.golnetwork.com/game/v/142117/
X-MICROSOFT-CDO-BUSYSTATUS:BUSY
X-MICROSOFT-CDO-IMPORTANCE:1
END:VEVENT
BEGIN:VEVENT
UID:geeh7@games.golnetwork.com
LOCATION:Canoe Landing - Field 2
GEO:43.6396144;-79.3970577
CREATED:20190424T162541Z
DTSTART:20190619T223000Z
DTEND:20190619T233000Z
DTSTAMP:20260420T054217Z
SUMMARY:Leckie Goals FC vs. Souvlakies FC
DESCRIPTION:Souvlakies FC vs. Leckie Goals FCMore info: #392
X-ALT-DESC;FMTTYPE=text/html:<!DOCTYPE HTML PUBLIC "-//W3C//DTD HTML 3.2//E
	N">\n<HTML>\n<HEAD>\n<TITLE></TITLE>\n</HEAD>\n<BODY>\n<h3>Souvlakies FC vs
	. Leckie Goals FC</h3>More info: <a href="https://www.golnetwork.com/game/v
	/142118/">#392</a>\n\n</BODY>\n</HTML>
STATUS:CONFIRMED
CLASS:PUBLIC
URL:https://www.golnetwork.com/game/v/142118/
X-MICROSOFT-CDO-BUSYSTATUS:BUSY
X-MICROSOFT-CDO-IMPORTANCE:1
END:VEVENT
BEGIN:VEVENT
UID:geeh9@games.golnetwork.com
LOCATION:Canoe Landing - Field 1
GEO:43.6396144;-79.3970577
CREATED:20190424T162550Z
DTSTART:20190619T233000Z
DTEND:20190620T003000Z
DTSTAMP:20260420T054217Z
SUMMARY:FC Porto Youts vs. Mighty Frogs
DESCRIPTION:Mighty Frogs vs. FC Porto YoutsMore info: #398
X-ALT-DESC;FMTTYPE=text/html:<!DOCTYPE HTML PUBLIC "-//W3C//DTD HTML 3.2//E
	N">\n<HTML>\n<HEAD>\n<TITLE></TITLE>\n</HEAD>\n<BODY>\n<h3>Mighty Frogs vs.
	 FC Porto Youts</h3>More info: <a href="https://www.golnetwork.com/game/v/1
	42119/">#398</a>\n\n</BODY>\n</HTML>
STATUS:CONFIRMED
CLASS:PUBLIC
URL:https://www.golnetwork.com/game/v/142119/
X-MICROSOFT-CDO-BUSYSTATUS:BUSY
X-MICROSOFT-CDO-IMPORTANCE:1
END:VEVENT
BEGIN:VEVENT
UID:geehd@games.golnetwork.com
LOCATION:Canoe Landing - Field 1
GEO:43.6396144;-79.3970577
CREATED:20190424T162608Z
DTSTART:20190620T003000Z
DTEND:20190620T013000Z
DTSTAMP:20260420T054217Z
SUMMARY:Vader United vs. Dirty Churros FC
DESCRIPTION:Dirty Churros FC vs. Vader UnitedMore info: #405
X-ALT-DESC;FMTTYPE=text/html:<!DOCTYPE HTML PUBLIC "-//W3C//DTD HTML 3.2//E
	N">\n<HTML>\n<HEAD>\n<TITLE></TITLE>\n</HEAD>\n<BODY>\n<h3>Dirty Churros FC
	 vs. Vader United</h3>More info: <a href="https://www.golnetwork.com/game/v
	/142121/">#405</a>\n\n</BODY>\n</HTML>
STATUS:CONFIRMED
CLASS:PUBLIC
URL:https://www.golnetwork.com/game/v/142121/
X-MICROSOFT-CDO-BUSYSTATUS:BUSY
X-MICROSOFT-CDO-IMPORTANCE:1
END:VEVENT
BEGIN:VEVENT
UID:gei39@games.golnetwork.com
LOCATION:Canoe Landing - Field 1
GEO:43.6396144;-79.3970577
CREATED:20190510T162210Z
DTSTART:20190626T223000Z
DTEND:20190626T233000Z
DTSTAMP:20260420T054217Z
SUMMARY:vodaQUAD vs. Mighty Frogs
DESCRIPTION:Mighty Frogs vs. vodaQUADMore info: #446
X-ALT-DESC;FMTTYPE=text/html:<!DOCTYPE HTML PUBLIC "-//W3C//DTD HTML 3.2//E
	N">\n<HTML>\n<HEAD>\n<TITLE></TITLE>\n</HEAD>\n<BODY>\n<h3>Mighty Frogs vs.
	 vodaQUAD</h3>More info: <a href="https://www.golnetwork.com/game/v/143388/
	">#446</a>\n\n</BODY>\n</HTML>
STATUS:CONFIRMED
CLASS:PUBLIC
URL:https://www.golnetwork.com/game/v/143388/
X-MICROSOFT-CDO-BUSYSTATUS:BUSY
X-MICROSOFT-CDO-IMPORTANCE:1
END:VEVENT
BEGIN:VEVENT
UID:gej85@games.golnetwork.com
LOCATION:Canoe Landing - Field 1
GEO:43.6396144;-79.3970577
CREATED:20190516T162458Z
DTSTART:20190626T233000Z
DTEND:20190627T003000Z
DTSTAMP:20260420T054217Z
SUMMARY:vodaQUAD vs. Leckie Goals FC
DESCRIPTION:Leckie Goals FC vs. vodaQUADMore info: R#142
X-ALT-DESC;FMTTYPE=text/html:<!DOCTYPE HTML PUBLIC "-//W3C//DTD HTML 3.2//E
	N">\n<HTML>\n<HEAD>\n<TITLE></TITLE>\n</HEAD>\n<BODY>\n<h3>Leckie Goals FC 
	vs. vodaQUAD</h3>More info: <a href="https://www.golnetwork.com/game/v/1438
	18/">R#142</a>\n\n</BODY>\n</HTML>
STATUS:CONFIRMED
CLASS:PUBLIC
URL:https://www.golnetwork.com/game/v/143818/
X-MICROSOFT-CDO-BUSYSTATUS:BUSY
X-MICROSOFT-CDO-IMPORTANCE:1
END:VEVENT
BEGIN:VEVENT
UID:gei3f@games.golnetwork.com
LOCATION:Canoe Landing - Field 2
GEO:43.6396144;-79.3970577
CREATED:20190510T162234Z
DTSTART:20190626T233000Z
DTEND:20190627T003000Z
DTSTAMP:20260420T054217Z
SUMMARY:Dirty Churros FC vs. Mighty Frogs
DESCRIPTION:Mighty Frogs vs. Dirty Churros FCMore info: #454
X-ALT-DESC;FMTTYPE=text/html:<!DOCTYPE HTML PUBLIC "-//W3C//DTD HTML 3.2//E
	N">\n<HTML>\n<HEAD>\n<TITLE></TITLE>\n</HEAD>\n<BODY>\n<h3>Mighty Frogs vs.
	 Dirty Churros FC</h3>More info: <a href="https://www.golnetwork.com/game/v
	/143391/">#454</a>\n\n</BODY>\n</HTML>
STATUS:CONFIRMED
CLASS:PUBLIC
URL:https://www.golnetwork.com/game/v/143391/
X-MICROSOFT-CDO-BUSYSTATUS:BUSY
X-MICROSOFT-CDO-IMPORTANCE:1
END:VEVENT
BEGIN:VEVENT
UID:gei3b@games.golnetwork.com
LOCATION:Canoe Landing - Field 1
GEO:43.6396144;-79.3970577
CREATED:20190510T162218Z
DTSTART:20190627T003000Z
DTEND:20190627T013000Z
DTSTAMP:20260420T054217Z
SUMMARY:Let's Get Fiscal vs. Leckie Goals FC
DESCRIPTION:Leckie Goals FC vs. Let's Get FiscalMore info: #460
X-ALT-DESC;FMTTYPE=text/html:<!DOCTYPE HTML PUBLIC "-//W3C//DTD HTML 3.2//E
	N">\n<HTML>\n<HEAD>\n<TITLE></TITLE>\n</HEAD>\n<BODY>\n<h3>Leckie Goals FC 
	vs. Let's Get Fiscal</h3>More info: <a href="https://www.golnetwork.com/gam
	e/v/143389/">#460</a>\n\n</BODY>\n</HTML>
STATUS:CONFIRMED
CLASS:PUBLIC
URL:https://www.golnetwork.com/game/v/143389/
X-MICROSOFT-CDO-BUSYSTATUS:BUSY
X-MICROSOFT-CDO-IMPORTANCE:1
END:VEVENT
BEGIN:VEVENT
UID:gei3d@games.golnetwork.com
LOCATION:Canoe Landing - Field 2
GEO:43.6396144;-79.3970577
CREATED:20190510T162228Z
DTSTART:20190627T003000Z
DTEND:20190627T013000Z
DTSTAMP:20260420T054217Z
SUMMARY:Vader United vs. Souvlakies FC
DESCRIPTION:Souvlakies FC vs. Vader UnitedMore info: #461
X-ALT-DESC;FMTTYPE=text/html:<!DOCTYPE HTML PUBLIC "-//W3C//DTD HTML 3.2//E
	N">\n<HTML>\n<HEAD>\n<TITLE></TITLE>\n</HEAD>\n<BODY>\n<h3>Souvlakies FC vs
	. Vader United</h3>More info: <a href="https://www.golnetwork.com/game/v/14
	3390/">#461</a>\n\n</BODY>\n</HTML>
STATUS:CONFIRMED
CLASS:PUBLIC
URL:https://www.golnetwork.com/game/v/143390/
X-MICROSOFT-CDO-BUSYSTATUS:BUSY
X-MICROSOFT-CDO-IMPORTANCE:1
END:VEVENT
BEGIN:VEVENT
UID:geehf@games.golnetwork.com
LOCATION:Canoe Landing - Field 1
GEO:43.6396144;-79.3970577
CREATED:20190424T162616Z
DTSTART:20190703T223000Z
DTEND:20190703T233000Z
DTSTAMP:20260420T054217Z
SUMMARY:vodaQUAD vs. Let's Get Fiscal
DESCRIPTION:Let's Get Fiscal vs. vodaQUADMore info: #480
X-ALT-DESC;FMTTYPE=text/html:<!DOCTYPE HTML PUBLIC "-//W3C//DTD HTML 3.2//E
	N">\n<HTML>\n<HEAD>\n<TITLE></TITLE>\n</HEAD>\n<BODY>\n<h3>Let's Get Fiscal
	 vs. vodaQUAD</h3>More info: <a href="https://www.golnetwork.com/game/v/142
	122/">#480</a>\n\n</BODY>\n</HTML>
STATUS:CONFIRMED
CLASS:PUBLIC
URL:https://www.golnetwork.com/game/v/142122/
X-MICROSOFT-CDO-BUSYSTATUS:BUSY
X-MICROSOFT-CDO-IMPORTANCE:1
END:VEVENT
BEGIN:VEVENT
UID:geehj@games.golnetwork.com
LOCATION:Canoe Landing - Field 2
GEO:43.6396144;-79.3970577
CREATED:20190424T162625Z
DTSTART:20190704T003000Z
DTEND:20190704T013000Z
DTSTAMP:20260420T054217Z
SUMMARY:Dirty Churros FC vs. RSA FC
DESCRIPTION:RSA FC vs. Dirty Churros FCMore info: #494
X-ALT-DESC;FMTTYPE=text/html:<!DOCTYPE HTML PUBLIC "-//W3C//DTD HTML 3.2//E
	N">\n<HTML>\n<HEAD>\n<TITLE></TITLE>\n</HEAD>\n<BODY>\n<h3>RSA FC vs. Dirty
	 Churros FC</h3>More info: <a href="https://www.golnetwork.com/game/v/14212
	4/">#494</a>\n\n</BODY>\n</HTML>
STATUS:CONFIRMED
CLASS:PUBLIC
URL:https://www.golnetwork.com/game/v/142124/
X-MICROSOFT-CDO-BUSYSTATUS:BUSY
X-MICROSOFT-CDO-IMPORTANCE:1
END:VEVENT
BEGIN:VEVENT
UID:geehl@games.golnetwork.com
LOCATION:Canoe Landing - Field 1
GEO:43.6396144;-79.3970577
CREATED:20190424T162638Z
DTSTART:20190710T223000Z
DTEND:20190710T233000Z
DTSTAMP:20260420T054217Z
SUMMARY:Let's Get Fiscal vs. Mighty Frogs
DESCRIPTION:Mighty Frogs vs. Let's Get FiscalMore info: #518
X-ALT-DESC;FMTTYPE=text/html:<!DOCTYPE HTML PUBLIC "-//W3C//DTD HTML 3.2//E
	N">\n<HTML>\n<HEAD>\n<TITLE></TITLE>\n</HEAD>\n<BODY>\n<h3>Mighty Frogs vs.
	 Let's Get Fiscal</h3>More info: <a href="https://www.golnetwork.com/game/v
	/142125/">#518</a>\n\n</BODY>\n</HTML>
STATUS:CONFIRMED
CLASS:PUBLIC
URL:https://www.golnetwork.com/game/v/142125/
X-MICROSOFT-CDO-BUSYSTATUS:BUSY
X-MICROSOFT-CDO-IMPORTANCE:1
END:VEVENT
BEGIN:VEVENT
UID:gej87@games.golnetwork.com
LOCATION:Canoe Landing - Field 2
GEO:43.6396144;-79.3970577
CREATED:20190516T162638Z
DTSTART:20190710T223000Z
DTEND:20190710T233000Z
DTSTAMP:20260420T054217Z
SUMMARY:Souvlakies FC vs. Vader United
DESCRIPTION:Vader United vs. Souvlakies FCMore info: #519
X-ALT-DESC;FMTTYPE=text/html:<!DOCTYPE HTML PUBLIC "-//W3C//DTD HTML 3.2//E
	N">\n<HTML>\n<HEAD>\n<TITLE></TITLE>\n</HEAD>\n<BODY>\n<h3>Vader United vs.
	 Souvlakies FC</h3>More info: <a href="https://www.golnetwork.com/game/v/14
	3819/">#519</a>\n\n</BODY>\n</HTML>
STATUS:CONFIRMED
CLASS:PUBLIC
URL:https://www.golnetwork.com/game/v/143819/
X-MICROSOFT-CDO-BUSYSTATUS:BUSY
X-MICROSOFT-CDO-IMPORTANCE:1
END:VEVENT
BEGIN:VEVENT
UID:geehn@games.golnetwork.com
LOCATION:Canoe Landing  - Field 3
CREATED:20190424T162651Z
DTSTART:20190710T223000Z
DTEND:20190710T233000Z
DTSTAMP:20260420T054217Z
SUMMARY:vodaQUAD vs. RSA FC
DESCRIPTION:RSA FC vs. vodaQUADMore info: #520
X-ALT-DESC;FMTTYPE=text/html:<!DOCTYPE HTML PUBLIC "-//W3C//DTD HTML 3.2//E
	N">\n<HTML>\n<HEAD>\n<TITLE></TITLE>\n</HEAD>\n<BODY>\n<h3>RSA FC vs. vodaQ
	UAD</h3>More info: <a href="https://www.golnetwork.com/game/v/142126/">#520
	</a>\n\n</BODY>\n</HTML>
STATUS:CONFIRMED
CLASS:PUBLIC
URL:https://www.golnetwork.com/game/v/142126/
X-MICROSOFT-CDO-BUSYSTATUS:BUSY
X-MICROSOFT-CDO-IMPORTANCE:1
END:VEVENT
BEGIN:VEVENT
UID:geehp@games.golnetwork.com
LOCATION:Canoe Landing - Field 1
GEO:43.6396144;-79.3970577
CREATED:20190424T162655Z
DTSTART:20190711T003000Z
DTEND:20190711T013000Z
DTSTAMP:20260420T054217Z
SUMMARY:Dirty Churros FC vs. FIFA '98 for SEGA Dreamcast
DESCRIPTION:FIFA '98 for SEGA Dreamcast vs. Dirty Churros FCMore info: #532
X-ALT-DESC;FMTTYPE=text/html:<!DOCTYPE HTML PUBLIC "-//W3C//DTD HTML 3.2//E
	N">\n<HTML>\n<HEAD>\n<TITLE></TITLE>\n</HEAD>\n<BODY>\n<h3>FIFA '98 for SEG
	A Dreamcast vs. Dirty Churros FC</h3>More info: <a href="https://www.golnet
	work.com/game/v/142127/">#532</a>\n\n</BODY>\n</HTML>
STATUS:CONFIRMED
CLASS:PUBLIC
URL:https://www.golnetwork.com/game/v/142127/
X-MICROSOFT-CDO-BUSYSTATUS:BUSY
X-MICROSOFT-CDO-IMPORTANCE:1
END:VEVENT
END:VCALENDAR
