BEGIN:VCALENDAR
PRODID:-//gdesolutions.com//MV Framework 1.0.0.1607 Calendar//EN
VERSION:2.0
METHOD:PUBLISH
CALSCALE:GREGORIAN
BEGIN:VEVENT
UID:geejh@games.golnetwork.com
LOCATION:Ben Franklin Dome Field 3
GEO:45.10662;-94.578209
CREATED:20190424T183259Z
DTSTART:20190428T200000Z
DTEND:20190428T210000Z
DTSTAMP:20260425T031859Z
SUMMARY:Goalfinger vs. The Destroyers
DESCRIPTION:The Destroyers vs. GoalfingerMore info: #50
X-ALT-DESC;FMTTYPE=text/html:<!DOCTYPE HTML PUBLIC "-//W3C//DTD HTML 3.2//E
	N">\n<HTML>\n<HEAD>\n<TITLE></TITLE>\n</HEAD>\n<BODY>\n<h3>The Destroyers v
	s. Goalfinger</h3>More info: <a href="https://www.golnetwork.com/game/v/142
	150/">#50</a>\n\n</BODY>\n</HTML>
STATUS:CONFIRMED
CLASS:PUBLIC
URL:https://www.golnetwork.com/game/v/142150/
X-MICROSOFT-CDO-BUSYSTATUS:BUSY
X-MICROSOFT-CDO-IMPORTANCE:1
END:VEVENT
BEGIN:VEVENT
UID:geejf@games.golnetwork.com
LOCATION:Hornet's Nest #1
GEO:45.4428309;-75.575268
CREATED:20190424T183212Z
DTSTART:20190428T210000Z
DTEND:20190428T220000Z
DTSTAMP:20260425T031859Z
SUMMARY:Liquorpool FC vs. Dartmouth
DESCRIPTION:Dartmouth vs. Liquorpool FCMore info: #51
X-ALT-DESC;FMTTYPE=text/html:<!DOCTYPE HTML PUBLIC "-//W3C//DTD HTML 3.2//E
	N">\n<HTML>\n<HEAD>\n<TITLE></TITLE>\n</HEAD>\n<BODY>\n<h3>Dartmouth vs. Li
	quorpool FC</h3>More info: <a href="https://www.golnetwork.com/game/v/14214
	9/">#51</a>\n\n</BODY>\n</HTML>
STATUS:CONFIRMED
CLASS:PUBLIC
URL:https://www.golnetwork.com/game/v/142149/
X-MICROSOFT-CDO-BUSYSTATUS:BUSY
X-MICROSOFT-CDO-IMPORTANCE:1
END:VEVENT
BEGIN:VEVENT
UID:geejj@games.golnetwork.com
LOCATION:Ben Franklin Dome Field 3
GEO:45.10662;-94.578209
CREATED:20190424T183310Z
DTSTART:20190428T210000Z
DTEND:20190428T220000Z
DTSTAMP:20260425T031859Z
SUMMARY:Raiders FC vs. Colombia FC
DESCRIPTION:Colombia FC vs. Raiders FCMore info: #52
X-ALT-DESC;FMTTYPE=text/html:<!DOCTYPE HTML PUBLIC "-//W3C//DTD HTML 3.2//E
	N">\n<HTML>\n<HEAD>\n<TITLE></TITLE>\n</HEAD>\n<BODY>\n<h3>Colombia FC vs. 
	Raiders FC</h3>More info: <a href="https://www.golnetwork.com/game/v/142151
	/">#52</a>\n\n</BODY>\n</HTML>
STATUS:CONFIRMED
CLASS:PUBLIC
URL:https://www.golnetwork.com/game/v/142151/
X-MICROSOFT-CDO-BUSYSTATUS:BUSY
X-MICROSOFT-CDO-IMPORTANCE:1
END:VEVENT
BEGIN:VEVENT
UID:geejl@games.golnetwork.com
LOCATION:Ben Franklin Dome Field 3
GEO:45.10662;-94.578209
CREATED:20190424T183322Z
DTSTART:20190428T220000Z
DTEND:20190428T230000Z
DTSTAMP:20260425T031859Z
SUMMARY:The Wildlings vs. Goal Busters
DESCRIPTION:Goal Busters vs. The WildlingsMore info: #54
X-ALT-DESC;FMTTYPE=text/html:<!DOCTYPE HTML PUBLIC "-//W3C//DTD HTML 3.2//E
	N">\n<HTML>\n<HEAD>\n<TITLE></TITLE>\n</HEAD>\n<BODY>\n<h3>Goal Busters vs.
	 The Wildlings</h3>More info: <a href="https://www.golnetwork.com/game/v/14
	2152/">#54</a>\n\n</BODY>\n</HTML>
STATUS:CONFIRMED
CLASS:PUBLIC
URL:https://www.golnetwork.com/game/v/142152/
X-MICROSOFT-CDO-BUSYSTATUS:BUSY
X-MICROSOFT-CDO-IMPORTANCE:1
END:VEVENT
BEGIN:VEVENT
UID:gefb4@games.golnetwork.com
LOCATION:Ben Franklin Dome Field 3
GEO:45.10662;-94.578209
CREATED:20190501T091016Z
DTSTART:20190505T200000Z
DTEND:20190505T210000Z
DTSTAMP:20260425T031859Z
SUMMARY:Dartmouth vs. The Wildlings
DESCRIPTION:The Wildlings vs. DartmouthMore info: #57
X-ALT-DESC;FMTTYPE=text/html:<!DOCTYPE HTML PUBLIC "-//W3C//DTD HTML 3.2//E
	N">\n<HTML>\n<HEAD>\n<TITLE></TITLE>\n</HEAD>\n<BODY>\n<h3>The Wildlings vs
	. Dartmouth</h3>More info: <a href="https://www.golnetwork.com/game/v/14240
	0/">#57</a>\n\n</BODY>\n</HTML>
STATUS:CONFIRMED
CLASS:PUBLIC
URL:https://www.golnetwork.com/game/v/142400/
X-MICROSOFT-CDO-BUSYSTATUS:BUSY
X-MICROSOFT-CDO-IMPORTANCE:1
END:VEVENT
BEGIN:VEVENT
UID:geimi@games.golnetwork.com
LOCATION:Hornet's Nest #1
GEO:45.4428309;-75.575268
CREATED:20190513T061735Z
DTSTART:20190505T210000Z
DTEND:20190505T220000Z
DTSTAMP:20260425T031859Z
SUMMARY:Liquorpool FC vs. Colombia FC
DESCRIPTION:Colombia FC vs. Liquorpool FCMore info: #58
X-ALT-DESC;FMTTYPE=text/html:<!DOCTYPE HTML PUBLIC "-//W3C//DTD HTML 3.2//E
	N">\n<HTML>\n<HEAD>\n<TITLE></TITLE>\n</HEAD>\n<BODY>\n<h3>Colombia FC vs. 
	Liquorpool FC</h3>More info: <a href="https://www.golnetwork.com/game/v/143
	649/">#58</a>\n\n</BODY>\n</HTML>
STATUS:CONFIRMED
CLASS:PUBLIC
URL:https://www.golnetwork.com/game/v/143649/
X-MICROSOFT-CDO-BUSYSTATUS:BUSY
X-MICROSOFT-CDO-IMPORTANCE:1
END:VEVENT
BEGIN:VEVENT
UID:gefb0@games.golnetwork.com
LOCATION:Ben Franklin Dome Field 3
GEO:45.10662;-94.578209
CREATED:20190501T090930Z
DTSTART:20190505T210000Z
DTEND:20190505T220000Z
DTSTAMP:20260425T031859Z
SUMMARY:The Destroyers vs. Goal Busters
DESCRIPTION:Goal Busters vs. The DestroyersMore info: #59
X-ALT-DESC;FMTTYPE=text/html:<!DOCTYPE HTML PUBLIC "-//W3C//DTD HTML 3.2//E
	N">\n<HTML>\n<HEAD>\n<TITLE></TITLE>\n</HEAD>\n<BODY>\n<h3>Goal Busters vs.
	 The Destroyers</h3>More info: <a href="https://www.golnetwork.com/game/v/1
	42398/">#59</a>\n\n</BODY>\n</HTML>
STATUS:CONFIRMED
CLASS:PUBLIC
URL:https://www.golnetwork.com/game/v/142398/
X-MICROSOFT-CDO-BUSYSTATUS:BUSY
X-MICROSOFT-CDO-IMPORTANCE:1
END:VEVENT
BEGIN:VEVENT
UID:gefb6@games.golnetwork.com
LOCATION:Ben Franklin Dome Field 3
GEO:45.10662;-94.578209
CREATED:20190501T091404Z
DTSTART:20190505T230000Z
DTEND:20190506T000000Z
DTSTAMP:20260425T031859Z
SUMMARY:Raiders FC vs. Goalfinger
DESCRIPTION:Goalfinger vs. Raiders FCMore info: #61
X-ALT-DESC;FMTTYPE=text/html:<!DOCTYPE HTML PUBLIC "-//W3C//DTD HTML 3.2//E
	N">\n<HTML>\n<HEAD>\n<TITLE></TITLE>\n</HEAD>\n<BODY>\n<h3>Goalfinger vs. R
	aiders FC</h3>More info: <a href="https://www.golnetwork.com/game/v/142401/
	">#61</a>\n\n</BODY>\n</HTML>
STATUS:CONFIRMED
CLASS:PUBLIC
URL:https://www.golnetwork.com/game/v/142401/
X-MICROSOFT-CDO-BUSYSTATUS:BUSY
X-MICROSOFT-CDO-IMPORTANCE:1
END:VEVENT
BEGIN:VEVENT
UID:gehc5@games.golnetwork.com
LOCATION:Ben Franklin Dome Field 3
GEO:45.10662;-94.578209
CREATED:20190510T044950Z
DTSTART:20190512T230000Z
DTEND:20190513T000000Z
DTSTAMP:20260425T031859Z
SUMMARY:The Wildlings vs. Goalfinger
DESCRIPTION:Goalfinger vs. The WildlingsMore info: #66
X-ALT-DESC;FMTTYPE=text/html:<!DOCTYPE HTML PUBLIC "-//W3C//DTD HTML 3.2//E
	N">\n<HTML>\n<HEAD>\n<TITLE></TITLE>\n</HEAD>\n<BODY>\n<h3>Goalfinger vs. T
	he Wildlings</h3>More info: <a href="https://www.golnetwork.com/game/v/1431
	43/">#66</a>\n\n</BODY>\n</HTML>
STATUS:CONFIRMED
CLASS:PUBLIC
URL:https://www.golnetwork.com/game/v/143143/
X-MICROSOFT-CDO-BUSYSTATUS:BUSY
X-MICROSOFT-CDO-IMPORTANCE:1
END:VEVENT
BEGIN:VEVENT
UID:gehc1@games.golnetwork.com
LOCATION:Ben Franklin Dome Field 3
GEO:45.10662;-94.578209
CREATED:20190510T044918Z
DTSTART:20190513T000000Z
DTEND:20190513T010000Z
DTSTAMP:20260425T031859Z
SUMMARY:Liquorpool FC vs. Goal Busters
DESCRIPTION:Goal Busters vs. Liquorpool FCMore info: #67
X-ALT-DESC;FMTTYPE=text/html:<!DOCTYPE HTML PUBLIC "-//W3C//DTD HTML 3.2//E
	N">\n<HTML>\n<HEAD>\n<TITLE></TITLE>\n</HEAD>\n<BODY>\n<h3>Goal Busters vs.
	 Liquorpool FC</h3>More info: <a href="https://www.golnetwork.com/game/v/14
	3141/">#67</a>\n\n</BODY>\n</HTML>
STATUS:CONFIRMED
CLASS:PUBLIC
URL:https://www.golnetwork.com/game/v/143141/
X-MICROSOFT-CDO-BUSYSTATUS:BUSY
X-MICROSOFT-CDO-IMPORTANCE:1
END:VEVENT
END:VCALENDAR
