BEGIN:VCALENDAR
PRODID:-//gdesolutions.com//MV Framework 1.0.0.1607 Calendar//EN
VERSION:2.0
METHOD:PUBLISH
CALSCALE:GREGORIAN
BEGIN:VEVENT
UID:gea4g@games.golnetwork.com
LOCATION:Hornet's Nest #2
GEO:45.4428309;-75.575268
CREATED:20190228T072948Z
DTSTART:20190304T010000Z
DTEND:20190304T020000Z
DTSTAMP:20260426T014202Z
SUMMARY:The Destroyers vs. Hot Tub Time Machine
DESCRIPTION:Hot Tub Time Machine vs. The DestroyersMore info: #2
X-ALT-DESC;FMTTYPE=text/html:<!DOCTYPE HTML PUBLIC "-//W3C//DTD HTML 3.2//E
	N">\n<HTML>\n<HEAD>\n<TITLE></TITLE>\n</HEAD>\n<BODY>\n<h3>Hot Tub Time Mac
	hine vs. The Destroyers</h3>More info: <a href="https://www.golnetwork.com/
	game/v/140489/">#2</a>\n\n</BODY>\n</HTML>
STATUS:CONFIRMED
CLASS:PUBLIC
URL:https://www.golnetwork.com/game/v/140489/
X-MICROSOFT-CDO-BUSYSTATUS:BUSY
X-MICROSOFT-CDO-IMPORTANCE:1
END:VEVENT
BEGIN:VEVENT
UID:gea5n@games.golnetwork.com
LOCATION:Hornet's Nest #3
GEO:45.4428309;-75.575268
CREATED:20190301T180147Z
DTSTART:20190304T010000Z
DTEND:20190304T020000Z
DTSTAMP:20260426T014202Z
SUMMARY:Individuals vs. Dartmouth
DESCRIPTION:Dartmouth vs. IndividualsMore info: #3
X-ALT-DESC;FMTTYPE=text/html:<!DOCTYPE HTML PUBLIC "-//W3C//DTD HTML 3.2//E
	N">\n<HTML>\n<HEAD>\n<TITLE></TITLE>\n</HEAD>\n<BODY>\n<h3>Dartmouth vs. In
	dividuals</h3>More info: <a href="https://www.golnetwork.com/game/v/140506/
	">#3</a>\n\n</BODY>\n</HTML>
STATUS:CONFIRMED
CLASS:PUBLIC
URL:https://www.golnetwork.com/game/v/140506/
X-MICROSOFT-CDO-BUSYSTATUS:BUSY
X-MICROSOFT-CDO-IMPORTANCE:1
END:VEVENT
BEGIN:VEVENT
UID:gealj@games.golnetwork.com
LOCATION:Hornet's Nest #1
GEO:45.4428309;-75.575268
CREATED:20190306T195714Z
DTSTART:20190310T190000Z
DTEND:20190310T200000Z
DTSTAMP:20260426T014202Z
SUMMARY:Individuals vs. Flying Monkeys Reloaded
DESCRIPTION:Flying Monkeys Reloaded vs. IndividualsMore info: #6
X-ALT-DESC;FMTTYPE=text/html:<!DOCTYPE HTML PUBLIC "-//W3C//DTD HTML 3.2//E
	N">\n<HTML>\n<HEAD>\n<TITLE></TITLE>\n</HEAD>\n<BODY>\n<h3>Flying Monkeys R
	eloaded vs. Individuals</h3>More info: <a href="https://www.golnetwork.com/
	game/v/140720/">#6</a>\n\n</BODY>\n</HTML>
STATUS:CONFIRMED
CLASS:PUBLIC
URL:https://www.golnetwork.com/game/v/140720/
X-MICROSOFT-CDO-BUSYSTATUS:BUSY
X-MICROSOFT-CDO-IMPORTANCE:1
END:VEVENT
BEGIN:VEVENT
UID:geall@games.golnetwork.com
LOCATION:Hornet's Nest #2
GEO:45.4428309;-75.575268
CREATED:20190306T195724Z
DTSTART:20190310T190000Z
DTEND:20190310T200000Z
DTSTAMP:20260426T014202Z
SUMMARY:Hot Tub Time Machine vs. Winded FC
DESCRIPTION:Winded FC vs. Hot Tub Time MachineMore info: #7
X-ALT-DESC;FMTTYPE=text/html:<!DOCTYPE HTML PUBLIC "-//W3C//DTD HTML 3.2//E
	N">\n<HTML>\n<HEAD>\n<TITLE></TITLE>\n</HEAD>\n<BODY>\n<h3>Winded FC vs. Ho
	t Tub Time Machine</h3>More info: <a href="https://www.golnetwork.com/game/
	v/140721/">#7</a>\n\n</BODY>\n</HTML>
STATUS:CONFIRMED
CLASS:PUBLIC
URL:https://www.golnetwork.com/game/v/140721/
X-MICROSOFT-CDO-BUSYSTATUS:BUSY
X-MICROSOFT-CDO-IMPORTANCE:1
END:VEVENT
BEGIN:VEVENT
UID:gealn@games.golnetwork.com
LOCATION:Hornet's Nest #3
GEO:45.4428309;-75.575268
CREATED:20190306T195731Z
DTSTART:20190310T190000Z
DTEND:20190310T200000Z
DTSTAMP:20260426T014202Z
SUMMARY:Dartmouth vs. The Destroyers
DESCRIPTION:The Destroyers vs. DartmouthMore info: #8
X-ALT-DESC;FMTTYPE=text/html:<!DOCTYPE HTML PUBLIC "-//W3C//DTD HTML 3.2//E
	N">\n<HTML>\n<HEAD>\n<TITLE></TITLE>\n</HEAD>\n<BODY>\n<h3>The Destroyers v
	s. Dartmouth</h3>More info: <a href="https://www.golnetwork.com/game/v/1407
	22/">#8</a>\n\n</BODY>\n</HTML>
STATUS:CONFIRMED
CLASS:PUBLIC
URL:https://www.golnetwork.com/game/v/140722/
X-MICROSOFT-CDO-BUSYSTATUS:BUSY
X-MICROSOFT-CDO-IMPORTANCE:1
END:VEVENT
BEGIN:VEVENT
UID:gebni@games.golnetwork.com
LOCATION:Hornet's Nest #1
GEO:45.4428309;-75.575268
CREATED:20190312T202033Z
DTSTART:20190317T190000Z
DTEND:20190317T200000Z
DTSTAMP:20260426T014202Z
SUMMARY:Liquorpool FC vs. Dartmouth
DESCRIPTION:Dartmouth vs. Liquorpool FCMore info: #13
X-ALT-DESC;FMTTYPE=text/html:<!DOCTYPE HTML PUBLIC "-//W3C//DTD HTML 3.2//E
	N">\n<HTML>\n<HEAD>\n<TITLE></TITLE>\n</HEAD>\n<BODY>\n<h3>Dartmouth vs. Li
	quorpool FC</h3>More info: <a href="https://www.golnetwork.com/game/v/14111
	1/">#13</a>\n\n</BODY>\n</HTML>
STATUS:CONFIRMED
CLASS:PUBLIC
URL:https://www.golnetwork.com/game/v/141111/
X-MICROSOFT-CDO-BUSYSTATUS:BUSY
X-MICROSOFT-CDO-IMPORTANCE:1
END:VEVENT
BEGIN:VEVENT
UID:gebnk@games.golnetwork.com
LOCATION:Hornet's Nest #2
GEO:45.4428309;-75.575268
CREATED:20190312T202042Z
DTSTART:20190317T190000Z
DTEND:20190317T200000Z
DTSTAMP:20260426T014202Z
SUMMARY:Flying Monkeys Reloaded vs. Hot Tub Time Machine
DESCRIPTION:Hot Tub Time Machine vs. Flying Monkeys ReloadedMore info: #14
X-ALT-DESC;FMTTYPE=text/html:<!DOCTYPE HTML PUBLIC "-//W3C//DTD HTML 3.2//E
	N">\n<HTML>\n<HEAD>\n<TITLE></TITLE>\n</HEAD>\n<BODY>\n<h3>Hot Tub Time Mac
	hine vs. Flying Monkeys Reloaded</h3>More info: <a href="https://www.golnet
	work.com/game/v/141112/">#14</a>\n\n</BODY>\n</HTML>
STATUS:CONFIRMED
CLASS:PUBLIC
URL:https://www.golnetwork.com/game/v/141112/
X-MICROSOFT-CDO-BUSYSTATUS:BUSY
X-MICROSOFT-CDO-IMPORTANCE:1
END:VEVENT
BEGIN:VEVENT
UID:gebnm@games.golnetwork.com
LOCATION:Hornet's Nest #1
GEO:45.4428309;-75.575268
CREATED:20190312T202054Z
DTSTART:20190317T220000Z
DTEND:20190317T230000Z
DTSTAMP:20260426T014202Z
SUMMARY:The Destroyers vs. Winded FC
DESCRIPTION:Winded FC vs. The DestroyersMore info: #15
X-ALT-DESC;FMTTYPE=text/html:<!DOCTYPE HTML PUBLIC "-//W3C//DTD HTML 3.2//E
	N">\n<HTML>\n<HEAD>\n<TITLE></TITLE>\n</HEAD>\n<BODY>\n<h3>Winded FC vs. Th
	e Destroyers</h3>More info: <a href="https://www.golnetwork.com/game/v/1411
	13/">#15</a>\n\n</BODY>\n</HTML>
STATUS:CONFIRMED
CLASS:PUBLIC
URL:https://www.golnetwork.com/game/v/141113/
X-MICROSOFT-CDO-BUSYSTATUS:BUSY
X-MICROSOFT-CDO-IMPORTANCE:1
END:VEVENT
BEGIN:VEVENT
UID:gebno@games.golnetwork.com
LOCATION:Hornet's Nest #1
GEO:45.4428309;-75.575268
CREATED:20190312T202104Z
DTSTART:20190317T230000Z
DTEND:20190318T000000Z
DTSTAMP:20260426T014202Z
SUMMARY:Individuals vs. Winded FC
DESCRIPTION:Winded FC vs. IndividualsMore info: #16
X-ALT-DESC;FMTTYPE=text/html:<!DOCTYPE HTML PUBLIC "-//W3C//DTD HTML 3.2//E
	N">\n<HTML>\n<HEAD>\n<TITLE></TITLE>\n</HEAD>\n<BODY>\n<h3>Winded FC vs. In
	dividuals</h3>More info: <a href="https://www.golnetwork.com/game/v/141114/
	">#16</a>\n\n</BODY>\n</HTML>
STATUS:CONFIRMED
CLASS:PUBLIC
URL:https://www.golnetwork.com/game/v/141114/
X-MICROSOFT-CDO-BUSYSTATUS:BUSY
X-MICROSOFT-CDO-IMPORTANCE:1
END:VEVENT
BEGIN:VEVENT
UID:gebob@games.golnetwork.com
LOCATION:Hornet's Nest #1
GEO:45.4428309;-75.575268
CREATED:20190312T202213Z
DTSTART:20190324T190000Z
DTEND:20190324T200000Z
DTSTAMP:20260426T014202Z
SUMMARY:Individuals vs. Hot Tub Time Machine
DESCRIPTION:Hot Tub Time Machine vs. IndividualsMore info: #20
X-ALT-DESC;FMTTYPE=text/html:<!DOCTYPE HTML PUBLIC "-//W3C//DTD HTML 3.2//E
	N">\n<HTML>\n<HEAD>\n<TITLE></TITLE>\n</HEAD>\n<BODY>\n<h3>Hot Tub Time Mac
	hine vs. Individuals</h3>More info: <a href="https://www.golnetwork.com/gam
	e/v/141121/">#20</a>\n\n</BODY>\n</HTML>
STATUS:CONFIRMED
CLASS:PUBLIC
URL:https://www.golnetwork.com/game/v/141121/
X-MICROSOFT-CDO-BUSYSTATUS:BUSY
X-MICROSOFT-CDO-IMPORTANCE:1
END:VEVENT
BEGIN:VEVENT
UID:gebod@games.golnetwork.com
LOCATION:Hornet's Nest #2
GEO:45.4428309;-75.575268
CREATED:20190312T202221Z
DTSTART:20190324T190000Z
DTEND:20190324T200000Z
DTSTAMP:20260426T014202Z
SUMMARY:Winded FC vs. Flying Monkeys Reloaded
DESCRIPTION:Flying Monkeys Reloaded vs. Winded FCMore info: #21
X-ALT-DESC;FMTTYPE=text/html:<!DOCTYPE HTML PUBLIC "-//W3C//DTD HTML 3.2//E
	N">\n<HTML>\n<HEAD>\n<TITLE></TITLE>\n</HEAD>\n<BODY>\n<h3>Flying Monkeys R
	eloaded vs. Winded FC</h3>More info: <a href="https://www.golnetwork.com/ga
	me/v/141122/">#21</a>\n\n</BODY>\n</HTML>
STATUS:CONFIRMED
CLASS:PUBLIC
URL:https://www.golnetwork.com/game/v/141122/
X-MICROSOFT-CDO-BUSYSTATUS:BUSY
X-MICROSOFT-CDO-IMPORTANCE:1
END:VEVENT
BEGIN:VEVENT
UID:gebof@games.golnetwork.com
LOCATION:Hornet's Nest #1
GEO:45.4428309;-75.575268
CREATED:20190312T202234Z
DTSTART:20190324T220000Z
DTEND:20190324T230000Z
DTSTAMP:20260426T014202Z
SUMMARY:Liquorpool FC vs. The Destroyers
DESCRIPTION:The Destroyers vs. Liquorpool FCMore info: #22
X-ALT-DESC;FMTTYPE=text/html:<!DOCTYPE HTML PUBLIC "-//W3C//DTD HTML 3.2//E
	N">\n<HTML>\n<HEAD>\n<TITLE></TITLE>\n</HEAD>\n<BODY>\n<h3>The Destroyers v
	s. Liquorpool FC</h3>More info: <a href="https://www.golnetwork.com/game/v/
	141123/">#22</a>\n\n</BODY>\n</HTML>
STATUS:CONFIRMED
CLASS:PUBLIC
URL:https://www.golnetwork.com/game/v/141123/
X-MICROSOFT-CDO-BUSYSTATUS:BUSY
X-MICROSOFT-CDO-IMPORTANCE:1
END:VEVENT
BEGIN:VEVENT
UID:gebon@games.golnetwork.com
LOCATION:Hornet's Nest #1
GEO:45.4428309;-75.575268
CREATED:20190314T051633Z
DTSTART:20190331T190000Z
DTEND:20190331T200000Z
DTSTAMP:20260426T014202Z
SUMMARY:Raiders FC vs. Dartmouth
DESCRIPTION:Dartmouth vs. Raiders FCMore info: #26
X-ALT-DESC;FMTTYPE=text/html:<!DOCTYPE HTML PUBLIC "-//W3C//DTD HTML 3.2//E
	N">\n<HTML>\n<HEAD>\n<TITLE></TITLE>\n</HEAD>\n<BODY>\n<h3>Dartmouth vs. Ra
	iders FC</h3>More info: <a href="https://www.golnetwork.com/game/v/141127/"
	>#26</a>\n\n</BODY>\n</HTML>
STATUS:CONFIRMED
CLASS:PUBLIC
URL:https://www.golnetwork.com/game/v/141127/
X-MICROSOFT-CDO-BUSYSTATUS:BUSY
X-MICROSOFT-CDO-IMPORTANCE:1
END:VEVENT
BEGIN:VEVENT
UID:gebop@games.golnetwork.com
LOCATION:Hornet's Nest #2
GEO:45.4428309;-75.575268
CREATED:20190314T051642Z
DTSTART:20190331T190000Z
DTEND:20190331T200000Z
DTSTAMP:20260426T014202Z
SUMMARY:Individuals vs. Hot Tub Time Machine
DESCRIPTION:Hot Tub Time Machine vs. IndividualsMore info: #27
X-ALT-DESC;FMTTYPE=text/html:<!DOCTYPE HTML PUBLIC "-//W3C//DTD HTML 3.2//E
	N">\n<HTML>\n<HEAD>\n<TITLE></TITLE>\n</HEAD>\n<BODY>\n<h3>Hot Tub Time Mac
	hine vs. Individuals</h3>More info: <a href="https://www.golnetwork.com/gam
	e/v/141128/">#27</a>\n\n</BODY>\n</HTML>
STATUS:CONFIRMED
CLASS:PUBLIC
URL:https://www.golnetwork.com/game/v/141128/
X-MICROSOFT-CDO-BUSYSTATUS:BUSY
X-MICROSOFT-CDO-IMPORTANCE:1
END:VEVENT
BEGIN:VEVENT
UID:gebp0@games.golnetwork.com
LOCATION:Hornet's Nest #3
GEO:45.4428309;-75.575268
CREATED:20190314T051651Z
DTSTART:20190331T190000Z
DTEND:20190331T200000Z
DTSTAMP:20260426T014202Z
SUMMARY:The Destroyers vs. Flying Monkeys Reloaded
DESCRIPTION:Flying Monkeys Reloaded vs. The DestroyersMore info: #28
X-ALT-DESC;FMTTYPE=text/html:<!DOCTYPE HTML PUBLIC "-//W3C//DTD HTML 3.2//E
	N">\n<HTML>\n<HEAD>\n<TITLE></TITLE>\n</HEAD>\n<BODY>\n<h3>Flying Monkeys R
	eloaded vs. The Destroyers</h3>More info: <a href="https://www.golnetwork.c
	om/game/v/141129/">#28</a>\n\n</BODY>\n</HTML>
STATUS:CONFIRMED
CLASS:PUBLIC
URL:https://www.golnetwork.com/game/v/141129/
X-MICROSOFT-CDO-BUSYSTATUS:BUSY
X-MICROSOFT-CDO-IMPORTANCE:1
END:VEVENT
BEGIN:VEVENT
UID:gebp4@games.golnetwork.com
LOCATION:Ben Franklin Dome Field 2
GEO:45.3235661;-75.7751222
CREATED:20190314T051729Z
DTSTART:20190331T200000Z
DTEND:20190331T210000Z
DTSTAMP:20260426T014202Z
SUMMARY:Hairy Arsenal vs. Winded FC
DESCRIPTION:Winded FC vs. Hairy ArsenalMore info: #29
X-ALT-DESC;FMTTYPE=text/html:<!DOCTYPE HTML PUBLIC "-//W3C//DTD HTML 3.2//E
	N">\n<HTML>\n<HEAD>\n<TITLE></TITLE>\n</HEAD>\n<BODY>\n<h3>Winded FC vs. Ha
	iry Arsenal</h3>More info: <a href="https://www.golnetwork.com/game/v/14113
	1/">#29</a>\n\n</BODY>\n</HTML>
STATUS:CONFIRMED
CLASS:PUBLIC
URL:https://www.golnetwork.com/game/v/141131/
X-MICROSOFT-CDO-BUSYSTATUS:BUSY
X-MICROSOFT-CDO-IMPORTANCE:1
END:VEVENT
BEGIN:VEVENT
UID:gebp6@games.golnetwork.com
LOCATION:Ben Franklin Dome Field 2
GEO:45.3235661;-75.7751222
CREATED:20190314T051738Z
DTSTART:20190331T210000Z
DTEND:20190331T220000Z
DTSTAMP:20260426T014202Z
SUMMARY:Goal Busters vs. Winded FC
DESCRIPTION:Winded FC vs. Goal BustersMore info: #30
X-ALT-DESC;FMTTYPE=text/html:<!DOCTYPE HTML PUBLIC "-//W3C//DTD HTML 3.2//E
	N">\n<HTML>\n<HEAD>\n<TITLE></TITLE>\n</HEAD>\n<BODY>\n<h3>Winded FC vs. Go
	al Busters</h3>More info: <a href="https://www.golnetwork.com/game/v/141132
	/">#30</a>\n\n</BODY>\n</HTML>
STATUS:CONFIRMED
CLASS:PUBLIC
URL:https://www.golnetwork.com/game/v/141132/
X-MICROSOFT-CDO-BUSYSTATUS:BUSY
X-MICROSOFT-CDO-IMPORTANCE:1
END:VEVENT
BEGIN:VEVENT
UID:gebpa@games.golnetwork.com
LOCATION:Hornet's Nest #1
GEO:45.4428309;-75.575268
CREATED:20190314T051808Z
DTSTART:20190407T190000Z
DTEND:20190407T200000Z
DTSTAMP:20260426T014202Z
SUMMARY:Individuals vs. Flying Monkeys Reloaded
DESCRIPTION:Flying Monkeys Reloaded vs. IndividualsMore info: #33
X-ALT-DESC;FMTTYPE=text/html:<!DOCTYPE HTML PUBLIC "-//W3C//DTD HTML 3.2//E
	N">\n<HTML>\n<HEAD>\n<TITLE></TITLE>\n</HEAD>\n<BODY>\n<h3>Flying Monkeys R
	eloaded vs. Individuals</h3>More info: <a href="https://www.golnetwork.com/
	game/v/141134/">#33</a>\n\n</BODY>\n</HTML>
STATUS:CONFIRMED
CLASS:PUBLIC
URL:https://www.golnetwork.com/game/v/141134/
X-MICROSOFT-CDO-BUSYSTATUS:BUSY
X-MICROSOFT-CDO-IMPORTANCE:1
END:VEVENT
BEGIN:VEVENT
UID:gebpc@games.golnetwork.com
LOCATION:Hornet's Nest #1
GEO:45.4428309;-75.575268
CREATED:20190314T051815Z
DTSTART:20190407T200000Z
DTEND:20190407T210000Z
DTSTAMP:20260426T014202Z
SUMMARY:Dartmouth vs. Hot Tub Time Machine
DESCRIPTION:Hot Tub Time Machine vs. DartmouthMore info: #34
X-ALT-DESC;FMTTYPE=text/html:<!DOCTYPE HTML PUBLIC "-//W3C//DTD HTML 3.2//E
	N">\n<HTML>\n<HEAD>\n<TITLE></TITLE>\n</HEAD>\n<BODY>\n<h3>Hot Tub Time Mac
	hine vs. Dartmouth</h3>More info: <a href="https://www.golnetwork.com/game/
	v/141135/">#34</a>\n\n</BODY>\n</HTML>
STATUS:CONFIRMED
CLASS:PUBLIC
URL:https://www.golnetwork.com/game/v/141135/
X-MICROSOFT-CDO-BUSYSTATUS:BUSY
X-MICROSOFT-CDO-IMPORTANCE:1
END:VEVENT
BEGIN:VEVENT
UID:gebpe@games.golnetwork.com
LOCATION:Hornet's Nest #1
GEO:45.4428309;-75.575268
CREATED:20190314T051822Z
DTSTART:20190407T210000Z
DTEND:20190407T220000Z
DTSTAMP:20260426T014202Z
SUMMARY:Dartmouth vs. Winded FC
DESCRIPTION:Winded FC vs. DartmouthMore info: #37
X-ALT-DESC;FMTTYPE=text/html:<!DOCTYPE HTML PUBLIC "-//W3C//DTD HTML 3.2//E
	N">\n<HTML>\n<HEAD>\n<TITLE></TITLE>\n</HEAD>\n<BODY>\n<h3>Winded FC vs. Da
	rtmouth</h3>More info: <a href="https://www.golnetwork.com/game/v/141136/">
	#37</a>\n\n</BODY>\n</HTML>
STATUS:CONFIRMED
CLASS:PUBLIC
URL:https://www.golnetwork.com/game/v/141136/
X-MICROSOFT-CDO-BUSYSTATUS:BUSY
X-MICROSOFT-CDO-IMPORTANCE:1
END:VEVENT
BEGIN:VEVENT
UID:gebq1@games.golnetwork.com
LOCATION:Hornet's Nest #1
GEO:45.4428309;-75.575268
CREATED:20190314T051931Z
DTSTART:20190414T190000Z
DTEND:20190414T200000Z
DTSTAMP:20260426T014202Z
SUMMARY:Winded FC vs. Hot Tub Time Machine
DESCRIPTION:Hot Tub Time Machine vs. Winded FCMore info: #40
X-ALT-DESC;FMTTYPE=text/html:<!DOCTYPE HTML PUBLIC "-//W3C//DTD HTML 3.2//E
	N">\n<HTML>\n<HEAD>\n<TITLE></TITLE>\n</HEAD>\n<BODY>\n<h3>Hot Tub Time Mac
	hine vs. Winded FC</h3>More info: <a href="https://www.golnetwork.com/game/
	v/141143/">#40</a>\n\n</BODY>\n</HTML>
STATUS:CONFIRMED
CLASS:PUBLIC
URL:https://www.golnetwork.com/game/v/141143/
X-MICROSOFT-CDO-BUSYSTATUS:BUSY
X-MICROSOFT-CDO-IMPORTANCE:1
END:VEVENT
BEGIN:VEVENT
UID:gebq3@games.golnetwork.com
LOCATION:Hornet's Nest #1
GEO:45.4428309;-75.575268
CREATED:20190314T051940Z
DTSTART:20190414T200000Z
DTEND:20190414T210000Z
DTSTAMP:20260426T014202Z
SUMMARY:Dartmouth vs. Flying Monkeys Reloaded
DESCRIPTION:Flying Monkeys Reloaded vs. DartmouthMore info: #41
X-ALT-DESC;FMTTYPE=text/html:<!DOCTYPE HTML PUBLIC "-//W3C//DTD HTML 3.2//E
	N">\n<HTML>\n<HEAD>\n<TITLE></TITLE>\n</HEAD>\n<BODY>\n<h3>Flying Monkeys R
	eloaded vs. Dartmouth</h3>More info: <a href="https://www.golnetwork.com/ga
	me/v/141144/">#41</a>\n\n</BODY>\n</HTML>
STATUS:CONFIRMED
CLASS:PUBLIC
URL:https://www.golnetwork.com/game/v/141144/
X-MICROSOFT-CDO-BUSYSTATUS:BUSY
X-MICROSOFT-CDO-IMPORTANCE:1
END:VEVENT
BEGIN:VEVENT
UID:gebq5@games.golnetwork.com
LOCATION:Hornet's Nest #1
GEO:45.4428309;-75.575268
CREATED:20190314T051946Z
DTSTART:20190414T210000Z
DTEND:20190414T220000Z
DTSTAMP:20260426T014202Z
SUMMARY:Individuals vs. Flying Monkeys Reloaded
DESCRIPTION:Flying Monkeys Reloaded vs. IndividualsMore info: #44
X-ALT-DESC;FMTTYPE=text/html:<!DOCTYPE HTML PUBLIC "-//W3C//DTD HTML 3.2//E
	N">\n<HTML>\n<HEAD>\n<TITLE></TITLE>\n</HEAD>\n<BODY>\n<h3>Flying Monkeys R
	eloaded vs. Individuals</h3>More info: <a href="https://www.golnetwork.com/
	game/v/141145/">#44</a>\n\n</BODY>\n</HTML>
STATUS:CONFIRMED
CLASS:PUBLIC
URL:https://www.golnetwork.com/game/v/141145/
X-MICROSOFT-CDO-BUSYSTATUS:BUSY
X-MICROSOFT-CDO-IMPORTANCE:1
END:VEVENT
END:VCALENDAR
