BEGIN:VCALENDAR
PRODID:-//gdesolutions.com//MV Framework 1.0.0.1607 Calendar//EN
VERSION:2.0
METHOD:PUBLISH
CALSCALE:GREGORIAN
BEGIN:VEVENT
UID:geb7g@games.golnetwork.com
LOCATION:Central Tech - Field 1
GEO:43.6637272;-79.4087613
CREATED:20190311T182642Z
DTSTART:20190504T200000Z
DTEND:20190504T210000Z
DTSTAMP:20260420T090423Z
SUMMARY:Hedgie FC vs. McK
DESCRIPTION:McK vs. Hedgie FCMore info: #423
X-ALT-DESC;FMTTYPE=text/html:<!DOCTYPE HTML PUBLIC "-//W3C//DTD HTML 3.2//E
	N">\n<HTML>\n<HEAD>\n<TITLE></TITLE>\n</HEAD>\n<BODY>\n<h3>McK vs. Hedgie F
	C</h3>More info: <a href="https://www.golnetwork.com/game/v/140894/">#423</
	a>\n\n</BODY>\n</HTML>
STATUS:CONFIRMED
CLASS:PUBLIC
URL:https://www.golnetwork.com/game/v/140894/
X-MICROSOFT-CDO-BUSYSTATUS:BUSY
X-MICROSOFT-CDO-IMPORTANCE:1
END:VEVENT
BEGIN:VEVENT
UID:geb7i@games.golnetwork.com
LOCATION:Central Tech - Field 1
GEO:43.6637272;-79.4087613
CREATED:20190311T182642Z
DTSTART:20190504T210000Z
DTEND:20190504T220000Z
DTSTAMP:20260420T090423Z
SUMMARY:YANNY PGP vs. Goal Diggers
DESCRIPTION:Goal Diggers vs. YANNY PGPMore info: #425
X-ALT-DESC;FMTTYPE=text/html:<!DOCTYPE HTML PUBLIC "-//W3C//DTD HTML 3.2//E
	N">\n<HTML>\n<HEAD>\n<TITLE></TITLE>\n</HEAD>\n<BODY>\n<h3>Goal Diggers vs.
	 YANNY PGP</h3>More info: <a href="https://www.golnetwork.com/game/v/140895
	/">#425</a>\n\n</BODY>\n</HTML>
STATUS:CONFIRMED
CLASS:PUBLIC
URL:https://www.golnetwork.com/game/v/140895/
X-MICROSOFT-CDO-BUSYSTATUS:BUSY
X-MICROSOFT-CDO-IMPORTANCE:1
END:VEVENT
BEGIN:VEVENT
UID:geb7k@games.golnetwork.com
LOCATION:Central Tech - Field 1
GEO:43.6637272;-79.4087613
CREATED:20190311T182642Z
DTSTART:20190511T200000Z
DTEND:20190511T210000Z
DTSTAMP:20260420T090423Z
SUMMARY:YANNY PGP vs. McK
DESCRIPTION:McK vs. YANNY PGPMore info: #467
X-ALT-DESC;FMTTYPE=text/html:<!DOCTYPE HTML PUBLIC "-//W3C//DTD HTML 3.2//E
	N">\n<HTML>\n<HEAD>\n<TITLE></TITLE>\n</HEAD>\n<BODY>\n<h3>McK vs. YANNY PG
	P</h3>More info: <a href="https://www.golnetwork.com/game/v/140896/">#467</
	a>\n\n</BODY>\n</HTML>
STATUS:CONFIRMED
CLASS:PUBLIC
URL:https://www.golnetwork.com/game/v/140896/
X-MICROSOFT-CDO-BUSYSTATUS:BUSY
X-MICROSOFT-CDO-IMPORTANCE:1
END:VEVENT
END:VCALENDAR
