BEGIN:VCALENDAR
PRODID:-//gdesolutions.com//MV Framework 1.0.0.1607 Calendar//EN
VERSION:2.0
METHOD:PUBLISH
CALSCALE:GREGORIAN
BEGIN:VEVENT
UID:gf1im@games.golnetwork.com
LOCATION:Canoe Landing  - Field 3
CREATED:20190711T145418Z
DTSTART:20190717T223000Z
DTEND:20190717T233000Z
DTSTAMP:20260423T185349Z
SUMMARY:vodaQUAD vs. RSA FC
DESCRIPTION:RSA FC vs. vodaQUADMore info: #102
X-ALT-DESC;FMTTYPE=text/html:<!DOCTYPE HTML PUBLIC "-//W3C//DTD HTML 3.2//E
	N">\n<HTML>\n<HEAD>\n<TITLE></TITLE>\n</HEAD>\n<BODY>\n<h3>RSA FC vs. vodaQ
	UAD</h3>More info: <a href="https://www.golnetwork.com/game/v/147242/">#102
	</a>\n\n</BODY>\n</HTML>
STATUS:CONFIRMED
CLASS:PUBLIC
URL:https://www.golnetwork.com/game/v/147242/
X-MICROSOFT-CDO-BUSYSTATUS:BUSY
X-MICROSOFT-CDO-IMPORTANCE:1
END:VEVENT
BEGIN:VEVENT
UID:gf1io@games.golnetwork.com
LOCATION:Canoe Landing  - Field 3
CREATED:20190711T145434Z
DTSTART:20190717T233000Z
DTEND:20190718T003000Z
DTSTAMP:20260423T185349Z
SUMMARY:XTSC City Strikers vs. XTSC Landers
DESCRIPTION:XTSC Landers vs. XTSC City StrikersMore info: #108
X-ALT-DESC;FMTTYPE=text/html:<!DOCTYPE HTML PUBLIC "-//W3C//DTD HTML 3.2//E
	N">\n<HTML>\n<HEAD>\n<TITLE></TITLE>\n</HEAD>\n<BODY>\n<h3>XTSC Landers vs.
	 XTSC City Strikers</h3>More info: <a href="https://www.golnetwork.com/game
	/v/147243/">#108</a>\n\n</BODY>\n</HTML>
STATUS:CONFIRMED
CLASS:PUBLIC
URL:https://www.golnetwork.com/game/v/147243/
X-MICROSOFT-CDO-BUSYSTATUS:BUSY
X-MICROSOFT-CDO-IMPORTANCE:1
END:VEVENT
BEGIN:VEVENT
UID:gf1iq@games.golnetwork.com
LOCATION:Canoe Landing  - Field 3
CREATED:20190711T145445Z
DTSTART:20190718T003000Z
DTEND:20190718T013000Z
DTSTAMP:20260423T185349Z
SUMMARY:Brown Bag FC vs. T.W.GOAAALL
DESCRIPTION:T.W.GOAAALL vs. Brown Bag FCMore info: #112
X-ALT-DESC;FMTTYPE=text/html:<!DOCTYPE HTML PUBLIC "-//W3C//DTD HTML 3.2//E
	N">\n<HTML>\n<HEAD>\n<TITLE></TITLE>\n</HEAD>\n<BODY>\n<h3>T.W.GOAAALL vs. 
	Brown Bag FC</h3>More info: <a href="https://www.golnetwork.com/game/v/1472
	44/">#112</a>\n\n</BODY>\n</HTML>
STATUS:CONFIRMED
CLASS:PUBLIC
URL:https://www.golnetwork.com/game/v/147244/
X-MICROSOFT-CDO-BUSYSTATUS:BUSY
X-MICROSOFT-CDO-IMPORTANCE:1
END:VEVENT
BEGIN:VEVENT
UID:gf1j1@games.golnetwork.com
LOCATION:Canoe Landing  - Field 3
CREATED:20190711T145455Z
DTSTART:20190724T223000Z
DTEND:20190724T233000Z
DTSTAMP:20260423T185349Z
SUMMARY:Brown Bag FC vs. vodaQUAD
DESCRIPTION:vodaQUAD vs. Brown Bag FCMore info: #155
X-ALT-DESC;FMTTYPE=text/html:<!DOCTYPE HTML PUBLIC "-//W3C//DTD HTML 3.2//E
	N">\n<HTML>\n<HEAD>\n<TITLE></TITLE>\n</HEAD>\n<BODY>\n<h3>vodaQUAD vs. Bro
	wn Bag FC</h3>More info: <a href="https://www.golnetwork.com/game/v/147245/
	">#155</a>\n\n</BODY>\n</HTML>
STATUS:CONFIRMED
CLASS:PUBLIC
URL:https://www.golnetwork.com/game/v/147245/
X-MICROSOFT-CDO-BUSYSTATUS:BUSY
X-MICROSOFT-CDO-IMPORTANCE:1
END:VEVENT
BEGIN:VEVENT
UID:gf1j3@games.golnetwork.com
LOCATION:Canoe Landing  - Field 3
CREATED:20190711T145502Z
DTSTART:20190724T233000Z
DTEND:20190725T003000Z
DTSTAMP:20260423T185349Z
SUMMARY:XTSC City Strikers vs. RSA FC
DESCRIPTION:RSA FC vs. XTSC City StrikersMore info: #163
X-ALT-DESC;FMTTYPE=text/html:<!DOCTYPE HTML PUBLIC "-//W3C//DTD HTML 3.2//E
	N">\n<HTML>\n<HEAD>\n<TITLE></TITLE>\n</HEAD>\n<BODY>\n<h3>RSA FC vs. XTSC 
	City Strikers</h3>More info: <a href="https://www.golnetwork.com/game/v/147
	246/">#163</a>\n\n</BODY>\n</HTML>
STATUS:CONFIRMED
CLASS:PUBLIC
URL:https://www.golnetwork.com/game/v/147246/
X-MICROSOFT-CDO-BUSYSTATUS:BUSY
X-MICROSOFT-CDO-IMPORTANCE:1
END:VEVENT
BEGIN:VEVENT
UID:gf1j5@games.golnetwork.com
LOCATION:Canoe Landing  - Field 3
CREATED:20190711T145509Z
DTSTART:20190725T003000Z
DTEND:20190725T013000Z
DTSTAMP:20260423T185349Z
SUMMARY:T.W.GOAAALL vs. XTSC Landers
DESCRIPTION:XTSC Landers vs. T.W.GOAAALLMore info: #169
X-ALT-DESC;FMTTYPE=text/html:<!DOCTYPE HTML PUBLIC "-//W3C//DTD HTML 3.2//E
	N">\n<HTML>\n<HEAD>\n<TITLE></TITLE>\n</HEAD>\n<BODY>\n<h3>XTSC Landers vs.
	 T.W.GOAAALL</h3>More info: <a href="https://www.golnetwork.com/game/v/1472
	47/">#169</a>\n\n</BODY>\n</HTML>
STATUS:CONFIRMED
CLASS:PUBLIC
URL:https://www.golnetwork.com/game/v/147247/
X-MICROSOFT-CDO-BUSYSTATUS:BUSY
X-MICROSOFT-CDO-IMPORTANCE:1
END:VEVENT
BEGIN:VEVENT
UID:gf1j7@games.golnetwork.com
LOCATION:Canoe Landing  - Field 3
CREATED:20190711T145517Z
DTSTART:20190731T223000Z
DTEND:20190731T233000Z
DTSTAMP:20260423T185349Z
SUMMARY:T.W.GOAAALL vs. vodaQUAD
DESCRIPTION:vodaQUAD vs. T.W.GOAAALLMore info: #217
X-ALT-DESC;FMTTYPE=text/html:<!DOCTYPE HTML PUBLIC "-//W3C//DTD HTML 3.2//E
	N">\n<HTML>\n<HEAD>\n<TITLE></TITLE>\n</HEAD>\n<BODY>\n<h3>vodaQUAD vs. T.W
	.GOAAALL</h3>More info: <a href="https://www.golnetwork.com/game/v/147248/"
	>#217</a>\n\n</BODY>\n</HTML>
STATUS:CONFIRMED
CLASS:PUBLIC
URL:https://www.golnetwork.com/game/v/147248/
X-MICROSOFT-CDO-BUSYSTATUS:BUSY
X-MICROSOFT-CDO-IMPORTANCE:1
END:VEVENT
BEGIN:VEVENT
UID:gf1j9@games.golnetwork.com
LOCATION:Canoe Landing  - Field 3
CREATED:20190711T145525Z
DTSTART:20190731T233000Z
DTEND:20190801T003000Z
DTSTAMP:20260423T185349Z
SUMMARY:XTSC City Strikers vs. Brown Bag FC
DESCRIPTION:Brown Bag FC vs. XTSC City StrikersMore info: #224
X-ALT-DESC;FMTTYPE=text/html:<!DOCTYPE HTML PUBLIC "-//W3C//DTD HTML 3.2//E
	N">\n<HTML>\n<HEAD>\n<TITLE></TITLE>\n</HEAD>\n<BODY>\n<h3>Brown Bag FC vs.
	 XTSC City Strikers</h3>More info: <a href="https://www.golnetwork.com/game
	/v/147249/">#224</a>\n\n</BODY>\n</HTML>
STATUS:CONFIRMED
CLASS:PUBLIC
URL:https://www.golnetwork.com/game/v/147249/
X-MICROSOFT-CDO-BUSYSTATUS:BUSY
X-MICROSOFT-CDO-IMPORTANCE:1
END:VEVENT
BEGIN:VEVENT
UID:gf1jb@games.golnetwork.com
LOCATION:Canoe Landing  - Field 3
CREATED:20190711T145531Z
DTSTART:20190801T003000Z
DTEND:20190801T013000Z
DTSTAMP:20260423T185349Z
SUMMARY:RSA FC vs. XTSC Landers
DESCRIPTION:XTSC Landers vs. RSA FCMore info: #229
X-ALT-DESC;FMTTYPE=text/html:<!DOCTYPE HTML PUBLIC "-//W3C//DTD HTML 3.2//E
	N">\n<HTML>\n<HEAD>\n<TITLE></TITLE>\n</HEAD>\n<BODY>\n<h3>XTSC Landers vs.
	 RSA FC</h3>More info: <a href="https://www.golnetwork.com/game/v/147250/">
	#229</a>\n\n</BODY>\n</HTML>
STATUS:CONFIRMED
CLASS:PUBLIC
URL:https://www.golnetwork.com/game/v/147250/
X-MICROSOFT-CDO-BUSYSTATUS:BUSY
X-MICROSOFT-CDO-IMPORTANCE:1
END:VEVENT
BEGIN:VEVENT
UID:gf1jd@games.golnetwork.com
LOCATION:Canoe Landing  - Field 3
CREATED:20190711T145543Z
DTSTART:20190807T223000Z
DTEND:20190807T233000Z
DTSTAMP:20260423T185349Z
SUMMARY:XTSC Landers vs. vodaQUAD
DESCRIPTION:vodaQUAD vs. XTSC LandersMore info: #270
X-ALT-DESC;FMTTYPE=text/html:<!DOCTYPE HTML PUBLIC "-//W3C//DTD HTML 3.2//E
	N">\n<HTML>\n<HEAD>\n<TITLE></TITLE>\n</HEAD>\n<BODY>\n<h3>vodaQUAD vs. XTS
	C Landers</h3>More info: <a href="https://www.golnetwork.com/game/v/147251/
	">#270</a>\n\n</BODY>\n</HTML>
STATUS:CONFIRMED
CLASS:PUBLIC
URL:https://www.golnetwork.com/game/v/147251/
X-MICROSOFT-CDO-BUSYSTATUS:BUSY
X-MICROSOFT-CDO-IMPORTANCE:1
END:VEVENT
BEGIN:VEVENT
UID:gf1jf@games.golnetwork.com
LOCATION:Canoe Landing  - Field 3
CREATED:20190711T145549Z
DTSTART:20190807T233000Z
DTEND:20190808T003000Z
DTSTAMP:20260423T185349Z
SUMMARY:RSA FC vs. Brown Bag FC
DESCRIPTION:Brown Bag FC vs. RSA FCMore info: #277
X-ALT-DESC;FMTTYPE=text/html:<!DOCTYPE HTML PUBLIC "-//W3C//DTD HTML 3.2//E
	N">\n<HTML>\n<HEAD>\n<TITLE></TITLE>\n</HEAD>\n<BODY>\n<h3>Brown Bag FC vs.
	 RSA FC</h3>More info: <a href="https://www.golnetwork.com/game/v/147252/">
	#277</a>\n\n</BODY>\n</HTML>
STATUS:CONFIRMED
CLASS:PUBLIC
URL:https://www.golnetwork.com/game/v/147252/
X-MICROSOFT-CDO-BUSYSTATUS:BUSY
X-MICROSOFT-CDO-IMPORTANCE:1
END:VEVENT
BEGIN:VEVENT
UID:gf1jh@games.golnetwork.com
LOCATION:Canoe Landing  - Field 3
CREATED:20190711T145556Z
DTSTART:20190808T003000Z
DTEND:20190808T013000Z
DTSTAMP:20260423T185349Z
SUMMARY:T.W.GOAAALL vs. XTSC City Strikers
DESCRIPTION:XTSC City Strikers vs. T.W.GOAAALLMore info: #282
X-ALT-DESC;FMTTYPE=text/html:<!DOCTYPE HTML PUBLIC "-//W3C//DTD HTML 3.2//E
	N">\n<HTML>\n<HEAD>\n<TITLE></TITLE>\n</HEAD>\n<BODY>\n<h3>XTSC City Strike
	rs vs. T.W.GOAAALL</h3>More info: <a href="https://www.golnetwork.com/game/
	v/147253/">#282</a>\n\n</BODY>\n</HTML>
STATUS:CONFIRMED
CLASS:PUBLIC
URL:https://www.golnetwork.com/game/v/147253/
X-MICROSOFT-CDO-BUSYSTATUS:BUSY
X-MICROSOFT-CDO-IMPORTANCE:1
END:VEVENT
BEGIN:VEVENT
UID:gf1jj@games.golnetwork.com
LOCATION:Canoe Landing - Field 1
GEO:43.6396144;-79.3970577
CREATED:20190711T145606Z
DTSTART:20190814T223000Z
DTEND:20190814T233000Z
DTSTAMP:20260423T185349Z
SUMMARY:vodaQUAD vs. XTSC City Strikers
DESCRIPTION:XTSC City Strikers vs. vodaQUADMore info: #322
X-ALT-DESC;FMTTYPE=text/html:<!DOCTYPE HTML PUBLIC "-//W3C//DTD HTML 3.2//E
	N">\n<HTML>\n<HEAD>\n<TITLE></TITLE>\n</HEAD>\n<BODY>\n<h3>XTSC City Strike
	rs vs. vodaQUAD</h3>More info: <a href="https://www.golnetwork.com/game/v/1
	47254/">#322</a>\n\n</BODY>\n</HTML>
STATUS:CONFIRMED
CLASS:PUBLIC
URL:https://www.golnetwork.com/game/v/147254/
X-MICROSOFT-CDO-BUSYSTATUS:BUSY
X-MICROSOFT-CDO-IMPORTANCE:1
END:VEVENT
BEGIN:VEVENT
UID:gf1jl@games.golnetwork.com
LOCATION:Canoe Landing - Field 1
GEO:43.6396144;-79.3970577
CREATED:20190711T145613Z
DTSTART:20190814T233000Z
DTEND:20190815T003000Z
DTSTAMP:20260423T185349Z
SUMMARY:RSA FC vs. T.W.GOAAALL
DESCRIPTION:T.W.GOAAALL vs. RSA FCMore info: #329
X-ALT-DESC;FMTTYPE=text/html:<!DOCTYPE HTML PUBLIC "-//W3C//DTD HTML 3.2//E
	N">\n<HTML>\n<HEAD>\n<TITLE></TITLE>\n</HEAD>\n<BODY>\n<h3>T.W.GOAAALL vs. 
	RSA FC</h3>More info: <a href="https://www.golnetwork.com/game/v/147255/">#
	329</a>\n\n</BODY>\n</HTML>
STATUS:CONFIRMED
CLASS:PUBLIC
URL:https://www.golnetwork.com/game/v/147255/
X-MICROSOFT-CDO-BUSYSTATUS:BUSY
X-MICROSOFT-CDO-IMPORTANCE:1
END:VEVENT
BEGIN:VEVENT
UID:gf1jn@games.golnetwork.com
LOCATION:Canoe Landing - Field 1
GEO:43.6396144;-79.3970577
CREATED:20190711T145620Z
DTSTART:20190815T003000Z
DTEND:20190815T013000Z
DTSTAMP:20260423T185349Z
SUMMARY:Brown Bag FC vs. XTSC Landers
DESCRIPTION:XTSC Landers vs. Brown Bag FCMore info: #334
X-ALT-DESC;FMTTYPE=text/html:<!DOCTYPE HTML PUBLIC "-//W3C//DTD HTML 3.2//E
	N">\n<HTML>\n<HEAD>\n<TITLE></TITLE>\n</HEAD>\n<BODY>\n<h3>XTSC Landers vs.
	 Brown Bag FC</h3>More info: <a href="https://www.golnetwork.com/game/v/147
	256/">#334</a>\n\n</BODY>\n</HTML>
STATUS:CONFIRMED
CLASS:PUBLIC
URL:https://www.golnetwork.com/game/v/147256/
X-MICROSOFT-CDO-BUSYSTATUS:BUSY
X-MICROSOFT-CDO-IMPORTANCE:1
END:VEVENT
BEGIN:VEVENT
UID:gf1jp@games.golnetwork.com
LOCATION:Canoe Landing  - Field 3
CREATED:20190711T145631Z
DTSTART:20190821T223000Z
DTEND:20190821T233000Z
DTSTAMP:20260423T185349Z
SUMMARY:vodaQUAD vs. RSA FC
DESCRIPTION:RSA FC vs. vodaQUADMore info: #374
X-ALT-DESC;FMTTYPE=text/html:<!DOCTYPE HTML PUBLIC "-//W3C//DTD HTML 3.2//E
	N">\n<HTML>\n<HEAD>\n<TITLE></TITLE>\n</HEAD>\n<BODY>\n<h3>RSA FC vs. vodaQ
	UAD</h3>More info: <a href="https://www.golnetwork.com/game/v/147257/">#374
	</a>\n\n</BODY>\n</HTML>
STATUS:CONFIRMED
CLASS:PUBLIC
URL:https://www.golnetwork.com/game/v/147257/
X-MICROSOFT-CDO-BUSYSTATUS:BUSY
X-MICROSOFT-CDO-IMPORTANCE:1
END:VEVENT
BEGIN:VEVENT
UID:gf1k0@games.golnetwork.com
LOCATION:Canoe Landing  - Field 3
CREATED:20190711T145639Z
DTSTART:20190821T233000Z
DTEND:20190822T003000Z
DTSTAMP:20260423T185349Z
SUMMARY:XTSC City Strikers vs. XTSC Landers
DESCRIPTION:XTSC Landers vs. XTSC City StrikersMore info: #381
X-ALT-DESC;FMTTYPE=text/html:<!DOCTYPE HTML PUBLIC "-//W3C//DTD HTML 3.2//E
	N">\n<HTML>\n<HEAD>\n<TITLE></TITLE>\n</HEAD>\n<BODY>\n<h3>XTSC Landers vs.
	 XTSC City Strikers</h3>More info: <a href="https://www.golnetwork.com/game
	/v/147258/">#381</a>\n\n</BODY>\n</HTML>
STATUS:CONFIRMED
CLASS:PUBLIC
URL:https://www.golnetwork.com/game/v/147258/
X-MICROSOFT-CDO-BUSYSTATUS:BUSY
X-MICROSOFT-CDO-IMPORTANCE:1
END:VEVENT
BEGIN:VEVENT
UID:gf1k2@games.golnetwork.com
LOCATION:Canoe Landing  - Field 3
CREATED:20190711T145646Z
DTSTART:20190822T003000Z
DTEND:20190822T013000Z
DTSTAMP:20260423T185349Z
SUMMARY:Brown Bag FC vs. T.W.GOAAALL
DESCRIPTION:T.W.GOAAALL vs. Brown Bag FCMore info: #384
X-ALT-DESC;FMTTYPE=text/html:<!DOCTYPE HTML PUBLIC "-//W3C//DTD HTML 3.2//E
	N">\n<HTML>\n<HEAD>\n<TITLE></TITLE>\n</HEAD>\n<BODY>\n<h3>T.W.GOAAALL vs. 
	Brown Bag FC</h3>More info: <a href="https://www.golnetwork.com/game/v/1472
	59/">#384</a>\n\n</BODY>\n</HTML>
STATUS:CONFIRMED
CLASS:PUBLIC
URL:https://www.golnetwork.com/game/v/147259/
X-MICROSOFT-CDO-BUSYSTATUS:BUSY
X-MICROSOFT-CDO-IMPORTANCE:1
END:VEVENT
BEGIN:VEVENT
UID:gf1k4@games.golnetwork.com
LOCATION:Canoe Landing  - Field 3
CREATED:20190711T145658Z
DTSTART:20190828T223000Z
DTEND:20190828T233000Z
DTSTAMP:20260423T185349Z
SUMMARY:Brown Bag FC vs. vodaQUAD
DESCRIPTION:vodaQUAD vs. Brown Bag FCMore info: #417
X-ALT-DESC;FMTTYPE=text/html:<!DOCTYPE HTML PUBLIC "-//W3C//DTD HTML 3.2//E
	N">\n<HTML>\n<HEAD>\n<TITLE></TITLE>\n</HEAD>\n<BODY>\n<h3>vodaQUAD vs. Bro
	wn Bag FC</h3>More info: <a href="https://www.golnetwork.com/game/v/147260/
	">#417</a>\n\n</BODY>\n</HTML>
STATUS:CONFIRMED
CLASS:PUBLIC
URL:https://www.golnetwork.com/game/v/147260/
X-MICROSOFT-CDO-BUSYSTATUS:BUSY
X-MICROSOFT-CDO-IMPORTANCE:1
END:VEVENT
BEGIN:VEVENT
UID:gf1k6@games.golnetwork.com
LOCATION:Canoe Landing  - Field 3
CREATED:20190711T145705Z
DTSTART:20190828T233000Z
DTEND:20190829T003000Z
DTSTAMP:20260423T185349Z
SUMMARY:T.W.GOAAALL vs. XTSC Landers
DESCRIPTION:XTSC Landers vs. T.W.GOAAALLMore info: #424
X-ALT-DESC;FMTTYPE=text/html:<!DOCTYPE HTML PUBLIC "-//W3C//DTD HTML 3.2//E
	N">\n<HTML>\n<HEAD>\n<TITLE></TITLE>\n</HEAD>\n<BODY>\n<h3>XTSC Landers vs.
	 T.W.GOAAALL</h3>More info: <a href="https://www.golnetwork.com/game/v/1472
	61/">#424</a>\n\n</BODY>\n</HTML>
STATUS:CONFIRMED
CLASS:PUBLIC
URL:https://www.golnetwork.com/game/v/147261/
X-MICROSOFT-CDO-BUSYSTATUS:BUSY
X-MICROSOFT-CDO-IMPORTANCE:1
END:VEVENT
BEGIN:VEVENT
UID:gf1k8@games.golnetwork.com
LOCATION:Canoe Landing - Field 1
GEO:43.6396144;-79.3970577
CREATED:20190711T145712Z
DTSTART:20190829T003000Z
DTEND:20190829T013000Z
DTSTAMP:20260423T185349Z
SUMMARY:XTSC City Strikers vs. RSA FC
DESCRIPTION:RSA FC vs. XTSC City StrikersMore info: #425
X-ALT-DESC;FMTTYPE=text/html:<!DOCTYPE HTML PUBLIC "-//W3C//DTD HTML 3.2//E
	N">\n<HTML>\n<HEAD>\n<TITLE></TITLE>\n</HEAD>\n<BODY>\n<h3>RSA FC vs. XTSC 
	City Strikers</h3>More info: <a href="https://www.golnetwork.com/game/v/147
	262/">#425</a>\n\n</BODY>\n</HTML>
STATUS:CONFIRMED
CLASS:PUBLIC
URL:https://www.golnetwork.com/game/v/147262/
X-MICROSOFT-CDO-BUSYSTATUS:BUSY
X-MICROSOFT-CDO-IMPORTANCE:1
END:VEVENT
BEGIN:VEVENT
UID:gf1ka@games.golnetwork.com
LOCATION:Canoe Landing  - Field 3
CREATED:20190711T145721Z
DTSTART:20190904T223000Z
DTEND:20190904T233000Z
DTSTAMP:20260423T185349Z
SUMMARY:XTSC City Strikers vs. T.W.GOAAALL
DESCRIPTION:T.W.GOAAALL vs. XTSC City StrikersMore info: #441
X-ALT-DESC;FMTTYPE=text/html:<!DOCTYPE HTML PUBLIC "-//W3C//DTD HTML 3.2//E
	N">\n<HTML>\n<HEAD>\n<TITLE></TITLE>\n</HEAD>\n<BODY>\n<h3>T.W.GOAAALL vs. 
	XTSC City Strikers</h3>More info: <a href="https://www.golnetwork.com/game/
	v/147263/">#441</a>\n\n</BODY>\n</HTML>
STATUS:CONFIRMED
CLASS:PUBLIC
URL:https://www.golnetwork.com/game/v/147263/
X-MICROSOFT-CDO-BUSYSTATUS:BUSY
X-MICROSOFT-CDO-IMPORTANCE:1
END:VEVENT
BEGIN:VEVENT
UID:gf1kc@games.golnetwork.com
LOCATION:Canoe Landing  - Field 3
CREATED:20190711T145726Z
DTSTART:20190911T223000Z
DTEND:20190911T233000Z
DTSTAMP:20260423T185349Z
SUMMARY:vodaQUAD vs. T.W.GOAAALL
DESCRIPTION:T.W.GOAAALL vs. vodaQUADMore info: #468
X-ALT-DESC;FMTTYPE=text/html:<!DOCTYPE HTML PUBLIC "-//W3C//DTD HTML 3.2//E
	N">\n<HTML>\n<HEAD>\n<TITLE></TITLE>\n</HEAD>\n<BODY>\n<h3>T.W.GOAAALL vs. 
	vodaQUAD</h3>More info: <a href="https://www.golnetwork.com/game/v/147264/"
	>#468</a>\n\n</BODY>\n</HTML>
STATUS:CONFIRMED
CLASS:PUBLIC
URL:https://www.golnetwork.com/game/v/147264/
X-MICROSOFT-CDO-BUSYSTATUS:BUSY
X-MICROSOFT-CDO-IMPORTANCE:1
END:VEVENT
BEGIN:VEVENT
UID:gf1ke@games.golnetwork.com
LOCATION:Canoe Landing  - Field 3
CREATED:20190711T145730Z
DTSTART:20190912T003000Z
DTEND:20190912T013000Z
DTSTAMP:20260423T185349Z
SUMMARY:XTSC City Strikers vs. Brown Bag FC
DESCRIPTION:Brown Bag FC vs. XTSC City StrikersMore info: #475
X-ALT-DESC;FMTTYPE=text/html:<!DOCTYPE HTML PUBLIC "-//W3C//DTD HTML 3.2//E
	N">\n<HTML>\n<HEAD>\n<TITLE></TITLE>\n</HEAD>\n<BODY>\n<h3>Brown Bag FC vs.
	 XTSC City Strikers</h3>More info: <a href="https://www.golnetwork.com/game
	/v/147265/">#475</a>\n\n</BODY>\n</HTML>
STATUS:CONFIRMED
CLASS:PUBLIC
URL:https://www.golnetwork.com/game/v/147265/
X-MICROSOFT-CDO-BUSYSTATUS:BUSY
X-MICROSOFT-CDO-IMPORTANCE:1
END:VEVENT
END:VCALENDAR
