BEGIN:VCALENDAR
PRODID:-//gdesolutions.com//MV Framework 1.0.0.1607 Calendar//EN
VERSION:2.0
METHOD:PUBLISH
CALSCALE:GREGORIAN
BEGIN:VEVENT
UID:gfc81@games.golnetwork.com
LOCATION:Soccer Nation Field (Newmarket SoccerCentre)
GEO:44.0379318;-79.4421489
CREATED:20191022T230345Z
DTSTART:20191204T010000Z
DTEND:20191204T015000Z
DTSTAMP:20260422T161635Z
SUMMARY:Plop FC vs. Net Six and Chill
DESCRIPTION:Net Six and Chill vs. Plop FCMore info: #79
X-ALT-DESC;FMTTYPE=text/html:<!DOCTYPE HTML PUBLIC "-//W3C//DTD HTML 3.2//E
	N">\n<HTML>\n<HEAD>\n<TITLE></TITLE>\n</HEAD>\n<BODY>\n<h3>Net Six and Chil
	l vs. Plop FC</h3>More info: <a href="https://www.golnetwork.com/game/v/151
	106/">#79</a>\n\n</BODY>\n</HTML>
STATUS:CONFIRMED
CLASS:PUBLIC
URL:https://www.golnetwork.com/game/v/151106/
X-MICROSOFT-CDO-BUSYSTATUS:BUSY
X-MICROSOFT-CDO-IMPORTANCE:1
END:VEVENT
BEGIN:VEVENT
UID:gfc7o@games.golnetwork.com
LOCATION:Soccer Nation Field (Newmarket SoccerCentre)
GEO:44.0379318;-79.4421489
CREATED:20191022T230345Z
DTSTART:20191204T020000Z
DTEND:20191204T025000Z
DTSTAMP:20260422T161635Z
SUMMARY:Ball Hogzz vs. The Turf Ticklers
DESCRIPTION:The Turf Ticklers vs. Ball HogzzMore info: #81
X-ALT-DESC;FMTTYPE=text/html:<!DOCTYPE HTML PUBLIC "-//W3C//DTD HTML 3.2//E
	N">\n<HTML>\n<HEAD>\n<TITLE></TITLE>\n</HEAD>\n<BODY>\n<h3>The Turf Tickler
	s vs. Ball Hogzz</h3>More info: <a href="https://www.golnetwork.com/game/v/
	151104/">#81</a>\n\n</BODY>\n</HTML>
STATUS:CONFIRMED
CLASS:PUBLIC
URL:https://www.golnetwork.com/game/v/151104/
X-MICROSOFT-CDO-BUSYSTATUS:BUSY
X-MICROSOFT-CDO-IMPORTANCE:1
END:VEVENT
BEGIN:VEVENT
UID:gfc7q@games.golnetwork.com
LOCATION:Soccer Nation Field (Newmarket SoccerCentre)
GEO:44.0379318;-79.4421489
CREATED:20191022T230345Z
DTSTART:20191204T030000Z
DTEND:20191204T035000Z
DTSTAMP:20260422T161635Z
SUMMARY:Evolution Athletics vs. Juventino
DESCRIPTION:Juventino vs. Evolution AthleticsMore info: #83
X-ALT-DESC;FMTTYPE=text/html:<!DOCTYPE HTML PUBLIC "-//W3C//DTD HTML 3.2//E
	N">\n<HTML>\n<HEAD>\n<TITLE></TITLE>\n</HEAD>\n<BODY>\n<h3>Juventino vs. Ev
	olution Athletics</h3>More info: <a href="https://www.golnetwork.com/game/v
	/151105/">#83</a>\n\n</BODY>\n</HTML>
STATUS:CONFIRMED
CLASS:PUBLIC
URL:https://www.golnetwork.com/game/v/151105/
X-MICROSOFT-CDO-BUSYSTATUS:BUSY
X-MICROSOFT-CDO-IMPORTANCE:1
END:VEVENT
BEGIN:VEVENT
UID:gfc85@games.golnetwork.com
LOCATION:Soccer Nation Field (Newmarket SoccerCentre)
GEO:44.0379318;-79.4421489
CREATED:20191022T230345Z
DTSTART:20191211T020000Z
DTEND:20191211T025000Z
DTSTAMP:20260422T161635Z
SUMMARY:The Turf Ticklers vs. Juventino
DESCRIPTION:Juventino vs. The Turf TicklersMore info: #86
X-ALT-DESC;FMTTYPE=text/html:<!DOCTYPE HTML PUBLIC "-//W3C//DTD HTML 3.2//E
	N">\n<HTML>\n<HEAD>\n<TITLE></TITLE>\n</HEAD>\n<BODY>\n<h3>Juventino vs. Th
	e Turf Ticklers</h3>More info: <a href="https://www.golnetwork.com/game/v/1
	51108/">#86</a>\n\n</BODY>\n</HTML>
STATUS:CONFIRMED
CLASS:PUBLIC
URL:https://www.golnetwork.com/game/v/151108/
X-MICROSOFT-CDO-BUSYSTATUS:BUSY
X-MICROSOFT-CDO-IMPORTANCE:1
END:VEVENT
BEGIN:VEVENT
UID:gfc83@games.golnetwork.com
LOCATION:Align Healthcare Field (Newmarket SoccerCentre)
GEO:44.0379318;-79.4421489
CREATED:20191022T230345Z
DTSTART:20191211T020000Z
DTEND:20191211T025000Z
DTSTAMP:20260422T161635Z
SUMMARY:Net Six and Chill vs. SS Balls
DESCRIPTION:SS Balls vs. Net Six and ChillMore info: #87
X-ALT-DESC;FMTTYPE=text/html:<!DOCTYPE HTML PUBLIC "-//W3C//DTD HTML 3.2//E
	N">\n<HTML>\n<HEAD>\n<TITLE></TITLE>\n</HEAD>\n<BODY>\n<h3>SS Balls vs. Net
	 Six and Chill</h3>More info: <a href="https://www.golnetwork.com/game/v/15
	1107/">#87</a>\n\n</BODY>\n</HTML>
STATUS:CONFIRMED
CLASS:PUBLIC
URL:https://www.golnetwork.com/game/v/151107/
X-MICROSOFT-CDO-BUSYSTATUS:BUSY
X-MICROSOFT-CDO-IMPORTANCE:1
END:VEVENT
BEGIN:VEVENT
UID:gfc87@games.golnetwork.com
LOCATION:Soccer Nation Field (Newmarket SoccerCentre)
GEO:44.0379318;-79.4421489
CREATED:20191022T230345Z
DTSTART:20191211T030000Z
DTEND:20191211T035000Z
DTSTAMP:20260422T161635Z
SUMMARY:The Turf Ticklers vs. Net Six and Chill
DESCRIPTION:Net Six and Chill vs. The Turf TicklersMore info: #88
X-ALT-DESC;FMTTYPE=text/html:<!DOCTYPE HTML PUBLIC "-//W3C//DTD HTML 3.2//E
	N">\n<HTML>\n<HEAD>\n<TITLE></TITLE>\n</HEAD>\n<BODY>\n<h3>Net Six and Chil
	l vs. The Turf Ticklers</h3>More info: <a href="https://www.golnetwork.com/
	game/v/151109/">#88</a>\n\n</BODY>\n</HTML>
STATUS:CONFIRMED
CLASS:PUBLIC
URL:https://www.golnetwork.com/game/v/151109/
X-MICROSOFT-CDO-BUSYSTATUS:BUSY
X-MICROSOFT-CDO-IMPORTANCE:1
END:VEVENT
END:VCALENDAR
