BEGIN:VCALENDAR
PRODID:-//gdesolutions.com//MV Framework 1.0.0.1607 Calendar//EN
VERSION:2.0
METHOD:PUBLISH
CALSCALE:GREGORIAN
BEGIN:VEVENT
UID:gfc8b@games.golnetwork.com
LOCATION:Align Healthcare Field (Newmarket SoccerCentre)
GEO:44.0379318;-79.4421489
CREATED:20191022T230551Z
DTSTART:20191204T010000Z
DTEND:20191204T015000Z
DTSTAMP:20260422T161629Z
SUMMARY:Highlighters FC vs. GTFC
DESCRIPTION:GTFC vs. Highlighters FCMore info: #80
X-ALT-DESC;FMTTYPE=text/html:<!DOCTYPE HTML PUBLIC "-//W3C//DTD HTML 3.2//E
	N">\n<HTML>\n<HEAD>\n<TITLE></TITLE>\n</HEAD>\n<BODY>\n<h3>GTFC vs. Highlig
	hters FC</h3>More info: <a href="https://www.golnetwork.com/game/v/151111/"
	>#80</a>\n\n</BODY>\n</HTML>
STATUS:CONFIRMED
CLASS:PUBLIC
URL:https://www.golnetwork.com/game/v/151111/
X-MICROSOFT-CDO-BUSYSTATUS:BUSY
X-MICROSOFT-CDO-IMPORTANCE:1
END:VEVENT
BEGIN:VEVENT
UID:gfc89@games.golnetwork.com
LOCATION:Align Healthcare Field (Newmarket SoccerCentre)
GEO:44.0379318;-79.4421489
CREATED:20191022T230551Z
DTSTART:20191204T020000Z
DTEND:20191204T025000Z
DTSTAMP:20260422T161629Z
SUMMARY:Danger Zone FC vs. KFC
DESCRIPTION:KFC vs. Danger Zone FCMore info: #82
X-ALT-DESC;FMTTYPE=text/html:<!DOCTYPE HTML PUBLIC "-//W3C//DTD HTML 3.2//E
	N">\n<HTML>\n<HEAD>\n<TITLE></TITLE>\n</HEAD>\n<BODY>\n<h3>KFC vs. Danger Z
	one FC</h3>More info: <a href="https://www.golnetwork.com/game/v/151110/">#
	82</a>\n\n</BODY>\n</HTML>
STATUS:CONFIRMED
CLASS:PUBLIC
URL:https://www.golnetwork.com/game/v/151110/
X-MICROSOFT-CDO-BUSYSTATUS:BUSY
X-MICROSOFT-CDO-IMPORTANCE:1
END:VEVENT
BEGIN:VEVENT
UID:gfc8d@games.golnetwork.com
LOCATION:Soccer Nation Field (Newmarket SoccerCentre)
GEO:44.0379318;-79.4421489
CREATED:20191022T230551Z
DTSTART:20191211T010000Z
DTEND:20191211T015000Z
DTSTAMP:20260422T161629Z
SUMMARY:Highlighters FC vs. Re FC
DESCRIPTION:Re FC vs. Highlighters FCMore info: #84
X-ALT-DESC;FMTTYPE=text/html:<!DOCTYPE HTML PUBLIC "-//W3C//DTD HTML 3.2//E
	N">\n<HTML>\n<HEAD>\n<TITLE></TITLE>\n</HEAD>\n<BODY>\n<h3>Re FC vs. Highli
	ghters FC</h3>More info: <a href="https://www.golnetwork.com/game/v/151112/
	">#84</a>\n\n</BODY>\n</HTML>
STATUS:CONFIRMED
CLASS:PUBLIC
URL:https://www.golnetwork.com/game/v/151112/
X-MICROSOFT-CDO-BUSYSTATUS:BUSY
X-MICROSOFT-CDO-IMPORTANCE:1
END:VEVENT
BEGIN:VEVENT
UID:gfc8f@games.golnetwork.com
LOCATION:Align Healthcare Field (Newmarket SoccerCentre)
GEO:44.0379318;-79.4421489
CREATED:20191022T230551Z
DTSTART:20191211T010000Z
DTEND:20191211T015000Z
DTSTAMP:20260422T161629Z
SUMMARY:Danger Zone FC vs. 2 Goals 1 Cup
DESCRIPTION:2 Goals 1 Cup vs. Danger Zone FCMore info: #85
X-ALT-DESC;FMTTYPE=text/html:<!DOCTYPE HTML PUBLIC "-//W3C//DTD HTML 3.2//E
	N">\n<HTML>\n<HEAD>\n<TITLE></TITLE>\n</HEAD>\n<BODY>\n<h3>2 Goals 1 Cup vs
	. Danger Zone FC</h3>More info: <a href="https://www.golnetwork.com/game/v/
	151113/">#85</a>\n\n</BODY>\n</HTML>
STATUS:CONFIRMED
CLASS:PUBLIC
URL:https://www.golnetwork.com/game/v/151113/
X-MICROSOFT-CDO-BUSYSTATUS:BUSY
X-MICROSOFT-CDO-IMPORTANCE:1
END:VEVENT
BEGIN:VEVENT
UID:gfc8h@games.golnetwork.com
LOCATION:Align Healthcare Field (Newmarket SoccerCentre)
GEO:44.0379318;-79.4421489
CREATED:20191022T230551Z
DTSTART:20191211T030000Z
DTEND:20191211T035000Z
DTSTAMP:20260422T161629Z
SUMMARY:Danger Zone FC vs. Re FC
DESCRIPTION:Re FC vs. Danger Zone FCMore info: #89
X-ALT-DESC;FMTTYPE=text/html:<!DOCTYPE HTML PUBLIC "-//W3C//DTD HTML 3.2//E
	N">\n<HTML>\n<HEAD>\n<TITLE></TITLE>\n</HEAD>\n<BODY>\n<h3>Re FC vs. Danger
	 Zone FC</h3>More info: <a href="https://www.golnetwork.com/game/v/151114/"
	>#89</a>\n\n</BODY>\n</HTML>
STATUS:CONFIRMED
CLASS:PUBLIC
URL:https://www.golnetwork.com/game/v/151114/
X-MICROSOFT-CDO-BUSYSTATUS:BUSY
X-MICROSOFT-CDO-IMPORTANCE:1
END:VEVENT
END:VCALENDAR
