BEGIN:VCALENDAR
PRODID:-//gdesolutions.com//MV Framework 1.0.0.1607 Calendar//EN
VERSION:2.0
METHOD:PUBLISH
CALSCALE:GREGORIAN
BEGIN:VEVENT
UID:gf88l@games.golnetwork.com
LOCATION:Louis Riel #2
GEO:45.4410208;-75.5715394
CREATED:20190910T025320Z
DTSTART:20190912T233000Z
DTEND:20190913T002000Z
DTSTAMP:20260426T035717Z
SUMMARY:JFC vs. Sock-it Rockets
DESCRIPTION:Sock-it Rockets vs. JFCMore info: #3
X-ALT-DESC;FMTTYPE=text/html:<!DOCTYPE HTML PUBLIC "-//W3C//DTD HTML 3.2//E
	N">\n<HTML>\n<HEAD>\n<TITLE></TITLE>\n</HEAD>\n<BODY>\n<h3>Sock-it Rockets 
	vs. JFC</h3>More info: <a href="https://www.golnetwork.com/game/v/149658/">
	#3</a>\n\n</BODY>\n</HTML>
STATUS:CONFIRMED
CLASS:PUBLIC
URL:https://www.golnetwork.com/game/v/149658/
X-MICROSOFT-CDO-BUSYSTATUS:BUSY
X-MICROSOFT-CDO-IMPORTANCE:1
END:VEVENT
BEGIN:VEVENT
UID:gf88p@games.golnetwork.com
LOCATION:Hornet's Nest #3
GEO:45.4428309;-75.575268
CREATED:20190910T025336Z
DTSTART:20190913T000000Z
DTEND:20190913T005000Z
DTSTAMP:20260426T035717Z
SUMMARY:Cornerstone FC vs. Los Portunese Vikings
DESCRIPTION:Los Portunese Vikings vs. Cornerstone FCMore info: #5
X-ALT-DESC;FMTTYPE=text/html:<!DOCTYPE HTML PUBLIC "-//W3C//DTD HTML 3.2//E
	N">\n<HTML>\n<HEAD>\n<TITLE></TITLE>\n</HEAD>\n<BODY>\n<h3>Los Portunese Vi
	kings vs. Cornerstone FC</h3>More info: <a href="https://www.golnetwork.com
	/game/v/149660/">#5</a>\n\n</BODY>\n</HTML>
STATUS:CONFIRMED
CLASS:PUBLIC
URL:https://www.golnetwork.com/game/v/149660/
X-MICROSOFT-CDO-BUSYSTATUS:BUSY
X-MICROSOFT-CDO-IMPORTANCE:1
END:VEVENT
BEGIN:VEVENT
UID:gf88n@games.golnetwork.com
LOCATION:Louis Riel #2
GEO:45.4410208;-75.5715394
CREATED:20190910T025328Z
DTSTART:20190913T003000Z
DTEND:20190913T012000Z
DTSTAMP:20260426T035717Z
SUMMARY:Arsenanal FC vs. Winded FC
DESCRIPTION:Winded FC vs. Arsenanal FCMore info: #7
X-ALT-DESC;FMTTYPE=text/html:<!DOCTYPE HTML PUBLIC "-//W3C//DTD HTML 3.2//E
	N">\n<HTML>\n<HEAD>\n<TITLE></TITLE>\n</HEAD>\n<BODY>\n<h3>Winded FC vs. Ar
	senanal FC</h3>More info: <a href="https://www.golnetwork.com/game/v/149659
	/">#7</a>\n\n</BODY>\n</HTML>
STATUS:CONFIRMED
CLASS:PUBLIC
URL:https://www.golnetwork.com/game/v/149659/
X-MICROSOFT-CDO-BUSYSTATUS:BUSY
X-MICROSOFT-CDO-IMPORTANCE:1
END:VEVENT
BEGIN:VEVENT
UID:gf9bn@games.golnetwork.com
LOCATION:Louis Riel #1
GEO:45.4410208;-75.5715394
CREATED:20190916T164730Z
DTSTART:20190919T233000Z
DTEND:20190920T002000Z
DTSTAMP:20260426T035717Z
SUMMARY:Arsenanal FC vs. Sock-it Rockets
DESCRIPTION:Sock-it Rockets vs. Arsenanal FCMore info: #11
X-ALT-DESC;FMTTYPE=text/html:<!DOCTYPE HTML PUBLIC "-//W3C//DTD HTML 3.2//E
	N">\n<HTML>\n<HEAD>\n<TITLE></TITLE>\n</HEAD>\n<BODY>\n<h3>Sock-it Rockets 
	vs. Arsenanal FC</h3>More info: <a href="https://www.golnetwork.com/game/v/
	150064/">#11</a>\n\n</BODY>\n</HTML>
STATUS:CONFIRMED
CLASS:PUBLIC
URL:https://www.golnetwork.com/game/v/150064/
X-MICROSOFT-CDO-BUSYSTATUS:BUSY
X-MICROSOFT-CDO-IMPORTANCE:1
END:VEVENT
BEGIN:VEVENT
UID:gf9bp@games.golnetwork.com
LOCATION:Louis Riel #2
GEO:45.4410208;-75.5715394
CREATED:20190916T164737Z
DTSTART:20190919T233000Z
DTEND:20190920T002000Z
DTSTAMP:20260426T035717Z
SUMMARY:Cornerstone FC vs. Winded FC
DESCRIPTION:Winded FC vs. Cornerstone FCMore info: #12
X-ALT-DESC;FMTTYPE=text/html:<!DOCTYPE HTML PUBLIC "-//W3C//DTD HTML 3.2//E
	N">\n<HTML>\n<HEAD>\n<TITLE></TITLE>\n</HEAD>\n<BODY>\n<h3>Winded FC vs. Co
	rnerstone FC</h3>More info: <a href="https://www.golnetwork.com/game/v/1500
	65/">#12</a>\n\n</BODY>\n</HTML>
STATUS:CONFIRMED
CLASS:PUBLIC
URL:https://www.golnetwork.com/game/v/150065/
X-MICROSOFT-CDO-BUSYSTATUS:BUSY
X-MICROSOFT-CDO-IMPORTANCE:1
END:VEVENT
BEGIN:VEVENT
UID:gf9c0@games.golnetwork.com
LOCATION:Louis Riel #3
GEO:45.4410208;-75.5715394
CREATED:20190916T164810Z
DTSTART:20190919T233000Z
DTEND:20190920T002000Z
DTSTAMP:20260426T035717Z
SUMMARY:Nat & The Wookies vs. Los Portunese Vikings
DESCRIPTION:Los Portunese Vikings vs. Nat & The WookiesMore info: #13
X-ALT-DESC;FMTTYPE=text/html:<!DOCTYPE HTML PUBLIC "-//W3C//DTD HTML 3.2//E
	N">\n<HTML>\n<HEAD>\n<TITLE></TITLE>\n</HEAD>\n<BODY>\n<h3>Los Portunese Vi
	kings vs. Nat & The Wookies</h3>More info: <a href="https://www.golnetwork.
	com/game/v/150066/">#13</a>\n\n</BODY>\n</HTML>
STATUS:CONFIRMED
CLASS:PUBLIC
URL:https://www.golnetwork.com/game/v/150066/
X-MICROSOFT-CDO-BUSYSTATUS:BUSY
X-MICROSOFT-CDO-IMPORTANCE:1
END:VEVENT
BEGIN:VEVENT
UID:gf9c2@games.golnetwork.com
LOCATION:Louis Riel #2
GEO:45.4410208;-75.5715394
CREATED:20190916T164822Z
DTSTART:20190920T003000Z
DTEND:20190920T012000Z
DTSTAMP:20260426T035717Z
SUMMARY:individuals vs. JFC
DESCRIPTION:JFC vs. individualsMore info: #16
X-ALT-DESC;FMTTYPE=text/html:<!DOCTYPE HTML PUBLIC "-//W3C//DTD HTML 3.2//E
	N">\n<HTML>\n<HEAD>\n<TITLE></TITLE>\n</HEAD>\n<BODY>\n<h3>JFC vs. individu
	als</h3>More info: <a href="https://www.golnetwork.com/game/v/150067/">#16<
	/a>\n\n</BODY>\n</HTML>
STATUS:CONFIRMED
CLASS:PUBLIC
URL:https://www.golnetwork.com/game/v/150067/
X-MICROSOFT-CDO-BUSYSTATUS:BUSY
X-MICROSOFT-CDO-IMPORTANCE:1
END:VEVENT
BEGIN:VEVENT
UID:gf9pl@games.golnetwork.com
LOCATION:Hornet's Nest #3
GEO:45.4428309;-75.575268
CREATED:20190921T212854Z
DTSTART:20190927T000000Z
DTEND:20190927T005000Z
DTSTAMP:20260426T035717Z
SUMMARY:JFC vs. Winded FC
DESCRIPTION:Winded FC vs. JFCMore info: #23
X-ALT-DESC;FMTTYPE=text/html:<!DOCTYPE HTML PUBLIC "-//W3C//DTD HTML 3.2//E
	N">\n<HTML>\n<HEAD>\n<TITLE></TITLE>\n</HEAD>\n<BODY>\n<h3>Winded FC vs. JF
	C</h3>More info: <a href="https://www.golnetwork.com/game/v/150252/">#23</a
	>\n\n</BODY>\n</HTML>
STATUS:CONFIRMED
CLASS:PUBLIC
URL:https://www.golnetwork.com/game/v/150252/
X-MICROSOFT-CDO-BUSYSTATUS:BUSY
X-MICROSOFT-CDO-IMPORTANCE:1
END:VEVENT
BEGIN:VEVENT
UID:gf9pj@games.golnetwork.com
LOCATION:Louis Riel #3
GEO:45.4410208;-75.5715394
CREATED:20190921T212844Z
DTSTART:20190927T003000Z
DTEND:20190927T012000Z
DTSTAMP:20260426T035717Z
SUMMARY:Arsenanal FC vs. Cornerstone FC
DESCRIPTION:Cornerstone FC vs. Arsenanal FCMore info: #26
X-ALT-DESC;FMTTYPE=text/html:<!DOCTYPE HTML PUBLIC "-//W3C//DTD HTML 3.2//E
	N">\n<HTML>\n<HEAD>\n<TITLE></TITLE>\n</HEAD>\n<BODY>\n<h3>Cornerstone FC v
	s. Arsenanal FC</h3>More info: <a href="https://www.golnetwork.com/game/v/1
	50251/">#26</a>\n\n</BODY>\n</HTML>
STATUS:CONFIRMED
CLASS:PUBLIC
URL:https://www.golnetwork.com/game/v/150251/
X-MICROSOFT-CDO-BUSYSTATUS:BUSY
X-MICROSOFT-CDO-IMPORTANCE:1
END:VEVENT
BEGIN:VEVENT
UID:gfa1c@games.golnetwork.com
LOCATION:Hornet's Nest #1
GEO:45.4428309;-75.575268
CREATED:20190924T070613Z
DTSTART:20191004T000000Z
DTEND:20191004T005000Z
DTSTAMP:20260426T035717Z
SUMMARY:Strikers vs. JFC
DESCRIPTION:JFC vs. StrikersMore info: #32
X-ALT-DESC;FMTTYPE=text/html:<!DOCTYPE HTML PUBLIC "-//W3C//DTD HTML 3.2//E
	N">\n<HTML>\n<HEAD>\n<TITLE></TITLE>\n</HEAD>\n<BODY>\n<h3>JFC vs. Strikers
	</h3>More info: <a href="https://www.golnetwork.com/game/v/150288/">#32</a>
	\n\n</BODY>\n</HTML>
STATUS:CONFIRMED
CLASS:PUBLIC
URL:https://www.golnetwork.com/game/v/150288/
X-MICROSOFT-CDO-BUSYSTATUS:BUSY
X-MICROSOFT-CDO-IMPORTANCE:1
END:VEVENT
BEGIN:VEVENT
UID:gfa18@games.golnetwork.com
LOCATION:Louis Riel #1
GEO:45.4410208;-75.5715394
CREATED:20190924T070515Z
DTSTART:20191004T003000Z
DTEND:20191004T012000Z
DTSTAMP:20260426T035717Z
SUMMARY:Los Portunese Vikings vs. Winded FC
DESCRIPTION:Winded FC vs. Los Portunese VikingsMore info: #33
X-ALT-DESC;FMTTYPE=text/html:<!DOCTYPE HTML PUBLIC "-//W3C//DTD HTML 3.2//E
	N">\n<HTML>\n<HEAD>\n<TITLE></TITLE>\n</HEAD>\n<BODY>\n<h3>Winded FC vs. Lo
	s Portunese Vikings</h3>More info: <a href="https://www.golnetwork.com/game
	/v/150286/">#33</a>\n\n</BODY>\n</HTML>
STATUS:CONFIRMED
CLASS:PUBLIC
URL:https://www.golnetwork.com/game/v/150286/
X-MICROSOFT-CDO-BUSYSTATUS:BUSY
X-MICROSOFT-CDO-IMPORTANCE:1
END:VEVENT
BEGIN:VEVENT
UID:gfa1a@games.golnetwork.com
LOCATION:Louis Riel #2
GEO:45.4410208;-75.5715394
CREATED:20190924T070556Z
DTSTART:20191004T003000Z
DTEND:20191004T012000Z
DTSTAMP:20260426T035717Z
SUMMARY:Cornerstone FC vs. Sock-it Rockets
DESCRIPTION:Sock-it Rockets vs. Cornerstone FCMore info: #34
X-ALT-DESC;FMTTYPE=text/html:<!DOCTYPE HTML PUBLIC "-//W3C//DTD HTML 3.2//E
	N">\n<HTML>\n<HEAD>\n<TITLE></TITLE>\n</HEAD>\n<BODY>\n<h3>Sock-it Rockets 
	vs. Cornerstone FC</h3>More info: <a href="https://www.golnetwork.com/game/
	v/150287/">#34</a>\n\n</BODY>\n</HTML>
STATUS:CONFIRMED
CLASS:PUBLIC
URL:https://www.golnetwork.com/game/v/150287/
X-MICROSOFT-CDO-BUSYSTATUS:BUSY
X-MICROSOFT-CDO-IMPORTANCE:1
END:VEVENT
BEGIN:VEVENT
UID:gfa25@games.golnetwork.com
LOCATION:Hornet's Nest #3
GEO:45.4428309;-75.575268
CREATED:20190924T071212Z
DTSTART:20191011T003000Z
DTEND:20191011T012000Z
DTSTAMP:20260426T035717Z
SUMMARY:Arsenanal FC vs. JFC
DESCRIPTION:JFC vs. Arsenanal FCMore info: #44
X-ALT-DESC;FMTTYPE=text/html:<!DOCTYPE HTML PUBLIC "-//W3C//DTD HTML 3.2//E
	N">\n<HTML>\n<HEAD>\n<TITLE></TITLE>\n</HEAD>\n<BODY>\n<h3>JFC vs. Arsenana
	l FC</h3>More info: <a href="https://www.golnetwork.com/game/v/150298/">#44
	</a>\n\n</BODY>\n</HTML>
STATUS:CONFIRMED
CLASS:PUBLIC
URL:https://www.golnetwork.com/game/v/150298/
X-MICROSOFT-CDO-BUSYSTATUS:BUSY
X-MICROSOFT-CDO-IMPORTANCE:1
END:VEVENT
BEGIN:VEVENT
UID:gfa27@games.golnetwork.com
LOCATION:Hornet's Nest #1
GEO:45.4428309;-75.575268
CREATED:20190924T071242Z
DTSTART:20191011T013000Z
DTEND:20191011T022000Z
DTSTAMP:20260426T035717Z
SUMMARY:Sock-it Rockets vs. Los Portunese Vikings
DESCRIPTION:Los Portunese Vikings vs. Sock-it RocketsMore info: #45
X-ALT-DESC;FMTTYPE=text/html:<!DOCTYPE HTML PUBLIC "-//W3C//DTD HTML 3.2//E
	N">\n<HTML>\n<HEAD>\n<TITLE></TITLE>\n</HEAD>\n<BODY>\n<h3>Los Portunese Vi
	kings vs. Sock-it Rockets</h3>More info: <a href="https://www.golnetwork.co
	m/game/v/150299/">#45</a>\n\n</BODY>\n</HTML>
STATUS:CONFIRMED
CLASS:PUBLIC
URL:https://www.golnetwork.com/game/v/150299/
X-MICROSOFT-CDO-BUSYSTATUS:BUSY
X-MICROSOFT-CDO-IMPORTANCE:1
END:VEVENT
BEGIN:VEVENT
UID:gfbci@games.golnetwork.com
LOCATION:Hornet's Nest #1
GEO:45.4428309;-75.575268
CREATED:20191014T054443Z
DTSTART:20191018T000000Z
DTEND:20191018T005000Z
DTSTAMP:20260426T035717Z
SUMMARY:Los Portunese Vikings vs. Arsenanal FC
DESCRIPTION:Arsenanal FC vs. Los Portunese VikingsMore info: #50
X-ALT-DESC;FMTTYPE=text/html:<!DOCTYPE HTML PUBLIC "-//W3C//DTD HTML 3.2//E
	N">\n<HTML>\n<HEAD>\n<TITLE></TITLE>\n</HEAD>\n<BODY>\n<h3>Arsenanal FC vs.
	 Los Portunese Vikings</h3>More info: <a href="https://www.golnetwork.com/g
	ame/v/150804/">#50</a>\n\n</BODY>\n</HTML>
STATUS:CONFIRMED
CLASS:PUBLIC
URL:https://www.golnetwork.com/game/v/150804/
X-MICROSOFT-CDO-BUSYSTATUS:BUSY
X-MICROSOFT-CDO-IMPORTANCE:1
END:VEVENT
BEGIN:VEVENT
UID:gfbce@games.golnetwork.com
LOCATION:Louis Riel #2
GEO:45.4410208;-75.5715394
CREATED:20191014T054426Z
DTSTART:20191018T003000Z
DTEND:20191018T012000Z
DTSTAMP:20260426T035717Z
SUMMARY:Winded FC vs. Sock-it Rockets
DESCRIPTION:Sock-it Rockets vs. Winded FCMore info: #52
X-ALT-DESC;FMTTYPE=text/html:<!DOCTYPE HTML PUBLIC "-//W3C//DTD HTML 3.2//E
	N">\n<HTML>\n<HEAD>\n<TITLE></TITLE>\n</HEAD>\n<BODY>\n<h3>Sock-it Rockets 
	vs. Winded FC</h3>More info: <a href="https://www.golnetwork.com/game/v/150
	802/">#52</a>\n\n</BODY>\n</HTML>
STATUS:CONFIRMED
CLASS:PUBLIC
URL:https://www.golnetwork.com/game/v/150802/
X-MICROSOFT-CDO-BUSYSTATUS:BUSY
X-MICROSOFT-CDO-IMPORTANCE:1
END:VEVENT
BEGIN:VEVENT
UID:gfbcg@games.golnetwork.com
LOCATION:Louis Riel #2
GEO:45.4410208;-75.5715394
CREATED:20191014T054434Z
DTSTART:20191018T013000Z
DTEND:20191018T022000Z
DTSTAMP:20260426T035717Z
SUMMARY:JFC vs. Cornerstone FC
DESCRIPTION:Cornerstone FC vs. JFCMore info: #56
X-ALT-DESC;FMTTYPE=text/html:<!DOCTYPE HTML PUBLIC "-//W3C//DTD HTML 3.2//E
	N">\n<HTML>\n<HEAD>\n<TITLE></TITLE>\n</HEAD>\n<BODY>\n<h3>Cornerstone FC v
	s. JFC</h3>More info: <a href="https://www.golnetwork.com/game/v/150803/">#
	56</a>\n\n</BODY>\n</HTML>
STATUS:CONFIRMED
CLASS:PUBLIC
URL:https://www.golnetwork.com/game/v/150803/
X-MICROSOFT-CDO-BUSYSTATUS:BUSY
X-MICROSOFT-CDO-IMPORTANCE:1
END:VEVENT
BEGIN:VEVENT
UID:gfc0d@games.golnetwork.com
LOCATION:Hornet's Nest #1
GEO:45.4428309;-75.575268
CREATED:20191019T195014Z
DTSTART:20191025T010000Z
DTEND:20191025T015000Z
DTSTAMP:20260426T035717Z
SUMMARY:JFC vs. Los Portunese Vikings
DESCRIPTION:Los Portunese Vikings vs. JFCMore info: #66
X-ALT-DESC;FMTTYPE=text/html:<!DOCTYPE HTML PUBLIC "-//W3C//DTD HTML 3.2//E
	N">\n<HTML>\n<HEAD>\n<TITLE></TITLE>\n</HEAD>\n<BODY>\n<h3>Los Portunese Vi
	kings vs. JFC</h3>More info: <a href="https://www.golnetwork.com/game/v/151
	004/">#66</a>\n\n</BODY>\n</HTML>
STATUS:CONFIRMED
CLASS:PUBLIC
URL:https://www.golnetwork.com/game/v/151004/
X-MICROSOFT-CDO-BUSYSTATUS:BUSY
X-MICROSOFT-CDO-IMPORTANCE:1
END:VEVENT
BEGIN:VEVENT
UID:gfc09@games.golnetwork.com
LOCATION:Louis Riel #1
GEO:45.4410208;-75.5715394
CREATED:20191019T194941Z
DTSTART:20191025T013000Z
DTEND:20191025T022000Z
DTSTAMP:20260426T035717Z
SUMMARY:Arsenanal FC vs. Cornerstone FC
DESCRIPTION:Cornerstone FC vs. Arsenanal FCMore info: #67
X-ALT-DESC;FMTTYPE=text/html:<!DOCTYPE HTML PUBLIC "-//W3C//DTD HTML 3.2//E
	N">\n<HTML>\n<HEAD>\n<TITLE></TITLE>\n</HEAD>\n<BODY>\n<h3>Cornerstone FC v
	s. Arsenanal FC</h3>More info: <a href="https://www.golnetwork.com/game/v/1
	51002/">#67</a>\n\n</BODY>\n</HTML>
STATUS:CONFIRMED
CLASS:PUBLIC
URL:https://www.golnetwork.com/game/v/151002/
X-MICROSOFT-CDO-BUSYSTATUS:BUSY
X-MICROSOFT-CDO-IMPORTANCE:1
END:VEVENT
BEGIN:VEVENT
UID:gfce3@games.golnetwork.com
LOCATION:Louis Riel #1
GEO:45.4410208;-75.5715394
CREATED:20191028T182834Z
DTSTART:20191101T000000Z
DTEND:20191101T005000Z
DTSTAMP:20260426T035717Z
SUMMARY:Sock-it Rockets vs. JFC
DESCRIPTION:JFC vs. Sock-it RocketsMore info: #72
X-ALT-DESC;FMTTYPE=text/html:<!DOCTYPE HTML PUBLIC "-//W3C//DTD HTML 3.2//E
	N">\n<HTML>\n<HEAD>\n<TITLE></TITLE>\n</HEAD>\n<BODY>\n<h3>JFC vs. Sock-it 
	Rockets</h3>More info: <a href="https://www.golnetwork.com/game/v/151188/">
	#72</a>\n\n</BODY>\n</HTML>
STATUS:CONFIRMED
CLASS:PUBLIC
URL:https://www.golnetwork.com/game/v/151188/
X-MICROSOFT-CDO-BUSYSTATUS:BUSY
X-MICROSOFT-CDO-IMPORTANCE:1
END:VEVENT
BEGIN:VEVENT
UID:gfce5@games.golnetwork.com
LOCATION:Hornet's Nest #1
GEO:45.4428309;-75.575268
CREATED:20191028T182847Z
DTSTART:20191101T010000Z
DTEND:20191101T015000Z
DTSTAMP:20260426T035717Z
SUMMARY:individuals vs. Arsenanal FC
DESCRIPTION:Arsenanal FC vs. individualsMore info: #79
X-ALT-DESC;FMTTYPE=text/html:<!DOCTYPE HTML PUBLIC "-//W3C//DTD HTML 3.2//E
	N">\n<HTML>\n<HEAD>\n<TITLE></TITLE>\n</HEAD>\n<BODY>\n<h3>Arsenanal FC vs.
	 individuals</h3>More info: <a href="https://www.golnetwork.com/game/v/1511
	89/">#79</a>\n\n</BODY>\n</HTML>
STATUS:CONFIRMED
CLASS:PUBLIC
URL:https://www.golnetwork.com/game/v/151189/
X-MICROSOFT-CDO-BUSYSTATUS:BUSY
X-MICROSOFT-CDO-IMPORTANCE:1
END:VEVENT
BEGIN:VEVENT
UID:gfin6@games.golnetwork.com
LOCATION:Louis Riel #2
GEO:45.4410208;-75.5715394
CREATED:20191125T204917Z
DTSTART:20191129T013000Z
DTEND:20191129T022000Z
DTSTAMP:20260426T035717Z
SUMMARY:JFC vs. Los Portunese Vikings
DESCRIPTION:Los Portunese Vikings vs. JFCMore info: #115
X-ALT-DESC;FMTTYPE=text/html:<!DOCTYPE HTML PUBLIC "-//W3C//DTD HTML 3.2//E
	N">\n<HTML>\n<HEAD>\n<TITLE></TITLE>\n</HEAD>\n<BODY>\n<h3>Los Portunese Vi
	kings vs. JFC</h3>More info: <a href="https://www.golnetwork.com/game/v/153
	498/">#115</a>\n\n</BODY>\n</HTML>
STATUS:CONFIRMED
CLASS:PUBLIC
URL:https://www.golnetwork.com/game/v/153498/
X-MICROSOFT-CDO-BUSYSTATUS:BUSY
X-MICROSOFT-CDO-IMPORTANCE:1
END:VEVENT
END:VCALENDAR
