BEGIN:VCALENDAR
PRODID:-//gdesolutions.com//MV Framework 1.0.0.1607 Calendar//EN
VERSION:2.0
METHOD:PUBLISH
CALSCALE:GREGORIAN
BEGIN:VEVENT
UID:gfie9@games.golnetwork.com
LOCATION:Bickford/West End Alternative
GEO:43.662764;-79.4202341
CREATED:20191122T200546Z
DTSTART:20200128T010000Z
DTEND:20200128T020000Z
DTSTAMP:20260420T111200Z
SUMMARY:Team United vs. XTSC Fireballs
DESCRIPTION:XTSC Fireballs vs. Team UnitedMore info: #55
X-ALT-DESC;FMTTYPE=text/html:<!DOCTYPE HTML PUBLIC "-//W3C//DTD HTML 3.2//E
	N">\n<HTML>\n<HEAD>\n<TITLE></TITLE>\n</HEAD>\n<BODY>\n<h3>XTSC Fireballs v
	s. Team United</h3>More info: <a href="https://www.golnetwork.com/game/v/15
	3378/">#55</a>\n\n</BODY>\n</HTML>
STATUS:CONFIRMED
CLASS:PUBLIC
URL:https://www.golnetwork.com/game/v/153378/
X-MICROSOFT-CDO-BUSYSTATUS:BUSY
X-MICROSOFT-CDO-IMPORTANCE:1
END:VEVENT
BEGIN:VEVENT
UID:gfie7@games.golnetwork.com
LOCATION:Bickford/West End Alternative
GEO:43.662764;-79.4202341
CREATED:20191122T200546Z
DTSTART:20200128T020000Z
DTEND:20200128T030000Z
DTSTAMP:20260420T111200Z
SUMMARY:XTSC Madrid vs. Soccer team
DESCRIPTION:Soccer team vs. XTSC MadridMore info: #56
X-ALT-DESC;FMTTYPE=text/html:<!DOCTYPE HTML PUBLIC "-//W3C//DTD HTML 3.2//E
	N">\n<HTML>\n<HEAD>\n<TITLE></TITLE>\n</HEAD>\n<BODY>\n<h3>Soccer team vs. 
	XTSC Madrid</h3>More info: <a href="https://www.golnetwork.com/game/v/15337
	7/">#56</a>\n\n</BODY>\n</HTML>
STATUS:CONFIRMED
CLASS:PUBLIC
URL:https://www.golnetwork.com/game/v/153377/
X-MICROSOFT-CDO-BUSYSTATUS:BUSY
X-MICROSOFT-CDO-IMPORTANCE:1
END:VEVENT
BEGIN:VEVENT
UID:gfieb@games.golnetwork.com
LOCATION:Bickford/West End Alternative
GEO:43.662764;-79.4202341
CREATED:20191122T200546Z
DTSTART:20200204T010000Z
DTEND:20200204T020000Z
DTSTAMP:20260420T111200Z
SUMMARY:XTSC Fireballs vs. Soccer team
DESCRIPTION:Soccer team vs. XTSC FireballsMore info: #63
X-ALT-DESC;FMTTYPE=text/html:<!DOCTYPE HTML PUBLIC "-//W3C//DTD HTML 3.2//E
	N">\n<HTML>\n<HEAD>\n<TITLE></TITLE>\n</HEAD>\n<BODY>\n<h3>Soccer team vs. 
	XTSC Fireballs</h3>More info: <a href="https://www.golnetwork.com/game/v/15
	3379/">#63</a>\n\n</BODY>\n</HTML>
STATUS:CONFIRMED
CLASS:PUBLIC
URL:https://www.golnetwork.com/game/v/153379/
X-MICROSOFT-CDO-BUSYSTATUS:BUSY
X-MICROSOFT-CDO-IMPORTANCE:1
END:VEVENT
END:VCALENDAR
