BEGIN:VCALENDAR
PRODID:-//gdesolutions.com//MV Framework 1.0.0.1607 Calendar//EN
VERSION:2.0
METHOD:PUBLISH
CALSCALE:GREGORIAN
BEGIN:VEVENT
UID:gfi9k@games.golnetwork.com
LOCATION:Bickford/West End Alternative
GEO:43.662764;-79.4202341
CREATED:20191121T201248Z
DTSTART:20191125T230000Z
DTEND:20191126T000000Z
DTSTAMP:20260419T152339Z
SUMMARY:Soccer team vs. FC Hipsters
DESCRIPTION:FC Hipsters vs. Soccer teamMore info: #1
X-ALT-DESC;FMTTYPE=text/html:<!DOCTYPE HTML PUBLIC "-//W3C//DTD HTML 3.2//E
	N">\n<HTML>\n<HEAD>\n<TITLE></TITLE>\n</HEAD>\n<BODY>\n<h3>FC Hipsters vs. 
	Soccer team</h3>More info: <a href="https://www.golnetwork.com/game/v/15331
	6/">#1</a>\n\n</BODY>\n</HTML>
STATUS:CONFIRMED
CLASS:PUBLIC
URL:https://www.golnetwork.com/game/v/153316/
X-MICROSOFT-CDO-BUSYSTATUS:BUSY
X-MICROSOFT-CDO-IMPORTANCE:1
END:VEVENT
BEGIN:VEVENT
UID:gfi3e@games.golnetwork.com
LOCATION:Bickford/West End Alternative
GEO:43.662764;-79.4202341
CREATED:20191119T203351Z
DTSTART:20191126T000000Z
DTEND:20191126T010000Z
DTSTAMP:20260419T152339Z
SUMMARY:Anti-Oppressors FC vs. Team United
DESCRIPTION:Team United vs. Anti-Oppressors FCMore info: #2
X-ALT-DESC;FMTTYPE=text/html:<!DOCTYPE HTML PUBLIC "-//W3C//DTD HTML 3.2//E
	N">\n<HTML>\n<HEAD>\n<TITLE></TITLE>\n</HEAD>\n<BODY>\n<h3>Team United vs. 
	Anti-Oppressors FC</h3>More info: <a href="https://www.golnetwork.com/game/
	v/153232/">#2</a>\n\n</BODY>\n</HTML>
STATUS:CONFIRMED
CLASS:PUBLIC
URL:https://www.golnetwork.com/game/v/153232/
X-MICROSOFT-CDO-BUSYSTATUS:BUSY
X-MICROSOFT-CDO-IMPORTANCE:1
END:VEVENT
BEGIN:VEVENT
UID:gfi3g@games.golnetwork.com
LOCATION:Bickford/West End Alternative
GEO:43.662764;-79.4202341
CREATED:20191119T203359Z
DTSTART:20191126T010000Z
DTEND:20191126T020000Z
DTSTAMP:20260419T152339Z
SUMMARY:Axonometrics vs. XTSC Fireballs
DESCRIPTION:XTSC Fireballs vs. AxonometricsMore info: #3
X-ALT-DESC;FMTTYPE=text/html:<!DOCTYPE HTML PUBLIC "-//W3C//DTD HTML 3.2//E
	N">\n<HTML>\n<HEAD>\n<TITLE></TITLE>\n</HEAD>\n<BODY>\n<h3>XTSC Fireballs v
	s. Axonometrics</h3>More info: <a href="https://www.golnetwork.com/game/v/1
	53233/">#3</a>\n\n</BODY>\n</HTML>
STATUS:CONFIRMED
CLASS:PUBLIC
URL:https://www.golnetwork.com/game/v/153233/
X-MICROSOFT-CDO-BUSYSTATUS:BUSY
X-MICROSOFT-CDO-IMPORTANCE:1
END:VEVENT
BEGIN:VEVENT
UID:gfi3i@games.golnetwork.com
LOCATION:Bickford/West End Alternative
GEO:43.662764;-79.4202341
CREATED:20191119T203406Z
DTSTART:20191126T020000Z
DTEND:20191126T030000Z
DTSTAMP:20260419T152339Z
SUMMARY:Pelotas Mamacitas vs. XTSC Madrid
DESCRIPTION:XTSC Madrid vs. Pelotas MamacitasMore info: #4
X-ALT-DESC;FMTTYPE=text/html:<!DOCTYPE HTML PUBLIC "-//W3C//DTD HTML 3.2//E
	N">\n<HTML>\n<HEAD>\n<TITLE></TITLE>\n</HEAD>\n<BODY>\n<h3>XTSC Madrid vs. 
	Pelotas Mamacitas</h3>More info: <a href="https://www.golnetwork.com/game/v
	/153234/">#4</a>\n\n</BODY>\n</HTML>
STATUS:CONFIRMED
CLASS:PUBLIC
URL:https://www.golnetwork.com/game/v/153234/
X-MICROSOFT-CDO-BUSYSTATUS:BUSY
X-MICROSOFT-CDO-IMPORTANCE:1
END:VEVENT
BEGIN:VEVENT
UID:gfic3@games.golnetwork.com
LOCATION:Bickford/West End Alternative
GEO:43.662764;-79.4202341
CREATED:20191122T200125Z
DTSTART:20191202T230000Z
DTEND:20191203T000000Z
DTSTAMP:20260419T152339Z
SUMMARY:XTSC Fireballs vs. Anti-Oppressors FC
DESCRIPTION:Anti-Oppressors FC vs. XTSC FireballsMore info: #5
X-ALT-DESC;FMTTYPE=text/html:<!DOCTYPE HTML PUBLIC "-//W3C//DTD HTML 3.2//E
	N">\n<HTML>\n<HEAD>\n<TITLE></TITLE>\n</HEAD>\n<BODY>\n<h3>Anti-Oppressors 
	FC vs. XTSC Fireballs</h3>More info: <a href="https://www.golnetwork.com/ga
	me/v/153348/">#5</a>\n\n</BODY>\n</HTML>
STATUS:CONFIRMED
CLASS:PUBLIC
URL:https://www.golnetwork.com/game/v/153348/
X-MICROSOFT-CDO-BUSYSTATUS:BUSY
X-MICROSOFT-CDO-IMPORTANCE:1
END:VEVENT
BEGIN:VEVENT
UID:gfic5@games.golnetwork.com
LOCATION:Bickford/West End Alternative
GEO:43.662764;-79.4202341
CREATED:20191122T200132Z
DTSTART:20191203T000000Z
DTEND:20191203T010000Z
DTSTAMP:20260419T152339Z
SUMMARY:Pelotas Mamacitas vs. Soccer team
DESCRIPTION:Soccer team vs. Pelotas MamacitasMore info: #6
X-ALT-DESC;FMTTYPE=text/html:<!DOCTYPE HTML PUBLIC "-//W3C//DTD HTML 3.2//E
	N">\n<HTML>\n<HEAD>\n<TITLE></TITLE>\n</HEAD>\n<BODY>\n<h3>Soccer team vs. 
	Pelotas Mamacitas</h3>More info: <a href="https://www.golnetwork.com/game/v
	/153349/">#6</a>\n\n</BODY>\n</HTML>
STATUS:CONFIRMED
CLASS:PUBLIC
URL:https://www.golnetwork.com/game/v/153349/
X-MICROSOFT-CDO-BUSYSTATUS:BUSY
X-MICROSOFT-CDO-IMPORTANCE:1
END:VEVENT
BEGIN:VEVENT
UID:gfic7@games.golnetwork.com
LOCATION:Bickford/West End Alternative
GEO:43.662764;-79.4202341
CREATED:20191122T200140Z
DTSTART:20191203T010000Z
DTEND:20191203T020000Z
DTSTAMP:20260419T152339Z
SUMMARY:Axonometrics vs. XTSC Madrid
DESCRIPTION:XTSC Madrid vs. AxonometricsMore info: #7
X-ALT-DESC;FMTTYPE=text/html:<!DOCTYPE HTML PUBLIC "-//W3C//DTD HTML 3.2//E
	N">\n<HTML>\n<HEAD>\n<TITLE></TITLE>\n</HEAD>\n<BODY>\n<h3>XTSC Madrid vs. 
	Axonometrics</h3>More info: <a href="https://www.golnetwork.com/game/v/1533
	50/">#7</a>\n\n</BODY>\n</HTML>
STATUS:CONFIRMED
CLASS:PUBLIC
URL:https://www.golnetwork.com/game/v/153350/
X-MICROSOFT-CDO-BUSYSTATUS:BUSY
X-MICROSOFT-CDO-IMPORTANCE:1
END:VEVENT
BEGIN:VEVENT
UID:gfic9@games.golnetwork.com
LOCATION:Bickford/West End Alternative
GEO:43.662764;-79.4202341
CREATED:20191122T200146Z
DTSTART:20191203T020000Z
DTEND:20191203T030000Z
DTSTAMP:20260419T152339Z
SUMMARY:Team United vs. FC Hipsters
DESCRIPTION:FC Hipsters vs. Team UnitedMore info: #8
X-ALT-DESC;FMTTYPE=text/html:<!DOCTYPE HTML PUBLIC "-//W3C//DTD HTML 3.2//E
	N">\n<HTML>\n<HEAD>\n<TITLE></TITLE>\n</HEAD>\n<BODY>\n<h3>FC Hipsters vs. 
	Team United</h3>More info: <a href="https://www.golnetwork.com/game/v/15335
	1/">#8</a>\n\n</BODY>\n</HTML>
STATUS:CONFIRMED
CLASS:PUBLIC
URL:https://www.golnetwork.com/game/v/153351/
X-MICROSOFT-CDO-BUSYSTATUS:BUSY
X-MICROSOFT-CDO-IMPORTANCE:1
END:VEVENT
BEGIN:VEVENT
UID:gficb@games.golnetwork.com
LOCATION:Bickford/West End Alternative
GEO:43.662764;-79.4202341
CREATED:20191122T200158Z
DTSTART:20191209T230000Z
DTEND:20191210T000000Z
DTSTAMP:20260419T152339Z
SUMMARY:FC Hipsters vs. Axonometrics
DESCRIPTION:Axonometrics vs. FC HipstersMore info: #13
X-ALT-DESC;FMTTYPE=text/html:<!DOCTYPE HTML PUBLIC "-//W3C//DTD HTML 3.2//E
	N">\n<HTML>\n<HEAD>\n<TITLE></TITLE>\n</HEAD>\n<BODY>\n<h3>Axonometrics vs.
	 FC Hipsters</h3>More info: <a href="https://www.golnetwork.com/game/v/1533
	52/">#13</a>\n\n</BODY>\n</HTML>
STATUS:CONFIRMED
CLASS:PUBLIC
URL:https://www.golnetwork.com/game/v/153352/
X-MICROSOFT-CDO-BUSYSTATUS:BUSY
X-MICROSOFT-CDO-IMPORTANCE:1
END:VEVENT
BEGIN:VEVENT
UID:gficd@games.golnetwork.com
LOCATION:Bickford/West End Alternative
GEO:43.662764;-79.4202341
CREATED:20191122T200213Z
DTSTART:20191210T000000Z
DTEND:20191210T010000Z
DTSTAMP:20260419T152339Z
SUMMARY:Soccer team vs. XTSC Fireballs
DESCRIPTION:XTSC Fireballs vs. Soccer teamMore info: #14
X-ALT-DESC;FMTTYPE=text/html:<!DOCTYPE HTML PUBLIC "-//W3C//DTD HTML 3.2//E
	N">\n<HTML>\n<HEAD>\n<TITLE></TITLE>\n</HEAD>\n<BODY>\n<h3>XTSC Fireballs v
	s. Soccer team</h3>More info: <a href="https://www.golnetwork.com/game/v/15
	3353/">#14</a>\n\n</BODY>\n</HTML>
STATUS:CONFIRMED
CLASS:PUBLIC
URL:https://www.golnetwork.com/game/v/153353/
X-MICROSOFT-CDO-BUSYSTATUS:BUSY
X-MICROSOFT-CDO-IMPORTANCE:1
END:VEVENT
BEGIN:VEVENT
UID:gficf@games.golnetwork.com
LOCATION:Bickford/West End Alternative
GEO:43.662764;-79.4202341
CREATED:20191122T200222Z
DTSTART:20191210T010000Z
DTEND:20191210T020000Z
DTSTAMP:20260419T152339Z
SUMMARY:Team United vs. Pelotas Mamacitas
DESCRIPTION:Pelotas Mamacitas vs. Team UnitedMore info: #15
X-ALT-DESC;FMTTYPE=text/html:<!DOCTYPE HTML PUBLIC "-//W3C//DTD HTML 3.2//E
	N">\n<HTML>\n<HEAD>\n<TITLE></TITLE>\n</HEAD>\n<BODY>\n<h3>Pelotas Mamacita
	s vs. Team United</h3>More info: <a href="https://www.golnetwork.com/game/v
	/153354/">#15</a>\n\n</BODY>\n</HTML>
STATUS:CONFIRMED
CLASS:PUBLIC
URL:https://www.golnetwork.com/game/v/153354/
X-MICROSOFT-CDO-BUSYSTATUS:BUSY
X-MICROSOFT-CDO-IMPORTANCE:1
END:VEVENT
BEGIN:VEVENT
UID:gfich@games.golnetwork.com
LOCATION:Bickford/West End Alternative
GEO:43.662764;-79.4202341
CREATED:20191122T200229Z
DTSTART:20191210T020000Z
DTEND:20191210T030000Z
DTSTAMP:20260419T152339Z
SUMMARY:Anti-Oppressors FC vs. XTSC Madrid
DESCRIPTION:XTSC Madrid vs. Anti-Oppressors FCMore info: #16
X-ALT-DESC;FMTTYPE=text/html:<!DOCTYPE HTML PUBLIC "-//W3C//DTD HTML 3.2//E
	N">\n<HTML>\n<HEAD>\n<TITLE></TITLE>\n</HEAD>\n<BODY>\n<h3>XTSC Madrid vs. 
	Anti-Oppressors FC</h3>More info: <a href="https://www.golnetwork.com/game/
	v/153355/">#16</a>\n\n</BODY>\n</HTML>
STATUS:CONFIRMED
CLASS:PUBLIC
URL:https://www.golnetwork.com/game/v/153355/
X-MICROSOFT-CDO-BUSYSTATUS:BUSY
X-MICROSOFT-CDO-IMPORTANCE:1
END:VEVENT
BEGIN:VEVENT
UID:gficj@games.golnetwork.com
LOCATION:Bickford/West End Alternative
GEO:43.662764;-79.4202341
CREATED:20191122T200240Z
DTSTART:20191216T230000Z
DTEND:20191217T000000Z
DTSTAMP:20260419T152339Z
SUMMARY:Team United vs. XTSC Madrid
DESCRIPTION:XTSC Madrid vs. Team UnitedMore info: #21
X-ALT-DESC;FMTTYPE=text/html:<!DOCTYPE HTML PUBLIC "-//W3C//DTD HTML 3.2//E
	N">\n<HTML>\n<HEAD>\n<TITLE></TITLE>\n</HEAD>\n<BODY>\n<h3>XTSC Madrid vs. 
	Team United</h3>More info: <a href="https://www.golnetwork.com/game/v/15335
	6/">#21</a>\n\n</BODY>\n</HTML>
STATUS:CONFIRMED
CLASS:PUBLIC
URL:https://www.golnetwork.com/game/v/153356/
X-MICROSOFT-CDO-BUSYSTATUS:BUSY
X-MICROSOFT-CDO-IMPORTANCE:1
END:VEVENT
BEGIN:VEVENT
UID:gficl@games.golnetwork.com
LOCATION:Bickford/West End Alternative
GEO:43.662764;-79.4202341
CREATED:20191122T200247Z
DTSTART:20191217T000000Z
DTEND:20191217T010000Z
DTSTAMP:20260419T152339Z
SUMMARY:FC Hipsters vs. XTSC Fireballs
DESCRIPTION:XTSC Fireballs vs. FC HipstersMore info: #22
X-ALT-DESC;FMTTYPE=text/html:<!DOCTYPE HTML PUBLIC "-//W3C//DTD HTML 3.2//E
	N">\n<HTML>\n<HEAD>\n<TITLE></TITLE>\n</HEAD>\n<BODY>\n<h3>XTSC Fireballs v
	s. FC Hipsters</h3>More info: <a href="https://www.golnetwork.com/game/v/15
	3357/">#22</a>\n\n</BODY>\n</HTML>
STATUS:CONFIRMED
CLASS:PUBLIC
URL:https://www.golnetwork.com/game/v/153357/
X-MICROSOFT-CDO-BUSYSTATUS:BUSY
X-MICROSOFT-CDO-IMPORTANCE:1
END:VEVENT
BEGIN:VEVENT
UID:gficn@games.golnetwork.com
LOCATION:Bickford/West End Alternative
GEO:43.662764;-79.4202341
CREATED:20191122T200256Z
DTSTART:20191217T010000Z
DTEND:20191217T020000Z
DTSTAMP:20260419T152339Z
SUMMARY:Anti-Oppressors FC vs. Pelotas Mamacitas
DESCRIPTION:Pelotas Mamacitas vs. Anti-Oppressors FCMore info: #23
X-ALT-DESC;FMTTYPE=text/html:<!DOCTYPE HTML PUBLIC "-//W3C//DTD HTML 3.2//E
	N">\n<HTML>\n<HEAD>\n<TITLE></TITLE>\n</HEAD>\n<BODY>\n<h3>Pelotas Mamacita
	s vs. Anti-Oppressors FC</h3>More info: <a href="https://www.golnetwork.com
	/game/v/153358/">#23</a>\n\n</BODY>\n</HTML>
STATUS:CONFIRMED
CLASS:PUBLIC
URL:https://www.golnetwork.com/game/v/153358/
X-MICROSOFT-CDO-BUSYSTATUS:BUSY
X-MICROSOFT-CDO-IMPORTANCE:1
END:VEVENT
BEGIN:VEVENT
UID:gficp@games.golnetwork.com
LOCATION:Bickford/West End Alternative
GEO:43.662764;-79.4202341
CREATED:20191122T200302Z
DTSTART:20191217T020000Z
DTEND:20191217T030000Z
DTSTAMP:20260419T152339Z
SUMMARY:Soccer team vs. Axonometrics
DESCRIPTION:Axonometrics vs. Soccer teamMore info: #24
X-ALT-DESC;FMTTYPE=text/html:<!DOCTYPE HTML PUBLIC "-//W3C//DTD HTML 3.2//E
	N">\n<HTML>\n<HEAD>\n<TITLE></TITLE>\n</HEAD>\n<BODY>\n<h3>Axonometrics vs.
	 Soccer team</h3>More info: <a href="https://www.golnetwork.com/game/v/1533
	59/">#24</a>\n\n</BODY>\n</HTML>
STATUS:CONFIRMED
CLASS:PUBLIC
URL:https://www.golnetwork.com/game/v/153359/
X-MICROSOFT-CDO-BUSYSTATUS:BUSY
X-MICROSOFT-CDO-IMPORTANCE:1
END:VEVENT
BEGIN:VEVENT
UID:gfid0@games.golnetwork.com
LOCATION:Bickford/West End Alternative
GEO:43.662764;-79.4202341
CREATED:20191122T200314Z
DTSTART:20200106T230000Z
DTEND:20200107T000000Z
DTSTAMP:20260419T152339Z
SUMMARY:Soccer team vs. Anti-Oppressors FC
DESCRIPTION:Anti-Oppressors FC vs. Soccer teamMore info: #29
X-ALT-DESC;FMTTYPE=text/html:<!DOCTYPE HTML PUBLIC "-//W3C//DTD HTML 3.2//E
	N">\n<HTML>\n<HEAD>\n<TITLE></TITLE>\n</HEAD>\n<BODY>\n<h3>Anti-Oppressors 
	FC vs. Soccer team</h3>More info: <a href="https://www.golnetwork.com/game/
	v/153360/">#29</a>\n\n</BODY>\n</HTML>
STATUS:CONFIRMED
CLASS:PUBLIC
URL:https://www.golnetwork.com/game/v/153360/
X-MICROSOFT-CDO-BUSYSTATUS:BUSY
X-MICROSOFT-CDO-IMPORTANCE:1
END:VEVENT
BEGIN:VEVENT
UID:gfid2@games.golnetwork.com
LOCATION:Bickford/West End Alternative
GEO:43.662764;-79.4202341
CREATED:20191122T200321Z
DTSTART:20200107T000000Z
DTEND:20200107T010000Z
DTSTAMP:20260419T152339Z
SUMMARY:Team United vs. Axonometrics
DESCRIPTION:Axonometrics vs. Team UnitedMore info: #30
X-ALT-DESC;FMTTYPE=text/html:<!DOCTYPE HTML PUBLIC "-//W3C//DTD HTML 3.2//E
	N">\n<HTML>\n<HEAD>\n<TITLE></TITLE>\n</HEAD>\n<BODY>\n<h3>Axonometrics vs.
	 Team United</h3>More info: <a href="https://www.golnetwork.com/game/v/1533
	61/">#30</a>\n\n</BODY>\n</HTML>
STATUS:CONFIRMED
CLASS:PUBLIC
URL:https://www.golnetwork.com/game/v/153361/
X-MICROSOFT-CDO-BUSYSTATUS:BUSY
X-MICROSOFT-CDO-IMPORTANCE:1
END:VEVENT
BEGIN:VEVENT
UID:gfid4@games.golnetwork.com
LOCATION:Bickford/West End Alternative
GEO:43.662764;-79.4202341
CREATED:20191122T200328Z
DTSTART:20200107T010000Z
DTEND:20200107T020000Z
DTSTAMP:20260419T152339Z
SUMMARY:FC Hipsters vs. XTSC Madrid
DESCRIPTION:XTSC Madrid vs. FC HipstersMore info: #31
X-ALT-DESC;FMTTYPE=text/html:<!DOCTYPE HTML PUBLIC "-//W3C//DTD HTML 3.2//E
	N">\n<HTML>\n<HEAD>\n<TITLE></TITLE>\n</HEAD>\n<BODY>\n<h3>XTSC Madrid vs. 
	FC Hipsters</h3>More info: <a href="https://www.golnetwork.com/game/v/15336
	2/">#31</a>\n\n</BODY>\n</HTML>
STATUS:CONFIRMED
CLASS:PUBLIC
URL:https://www.golnetwork.com/game/v/153362/
X-MICROSOFT-CDO-BUSYSTATUS:BUSY
X-MICROSOFT-CDO-IMPORTANCE:1
END:VEVENT
BEGIN:VEVENT
UID:gfid6@games.golnetwork.com
LOCATION:Bickford/West End Alternative
GEO:43.662764;-79.4202341
CREATED:20191122T200334Z
DTSTART:20200107T020000Z
DTEND:20200107T030000Z
DTSTAMP:20260419T152339Z
SUMMARY:XTSC Fireballs vs. Pelotas Mamacitas
DESCRIPTION:Pelotas Mamacitas vs. XTSC FireballsMore info: #32
X-ALT-DESC;FMTTYPE=text/html:<!DOCTYPE HTML PUBLIC "-//W3C//DTD HTML 3.2//E
	N">\n<HTML>\n<HEAD>\n<TITLE></TITLE>\n</HEAD>\n<BODY>\n<h3>Pelotas Mamacita
	s vs. XTSC Fireballs</h3>More info: <a href="https://www.golnetwork.com/gam
	e/v/153363/">#32</a>\n\n</BODY>\n</HTML>
STATUS:CONFIRMED
CLASS:PUBLIC
URL:https://www.golnetwork.com/game/v/153363/
X-MICROSOFT-CDO-BUSYSTATUS:BUSY
X-MICROSOFT-CDO-IMPORTANCE:1
END:VEVENT
BEGIN:VEVENT
UID:gfid8@games.golnetwork.com
LOCATION:Bickford/West End Alternative
GEO:43.662764;-79.4202341
CREATED:20191122T200344Z
DTSTART:20200113T230000Z
DTEND:20200114T000000Z
DTSTAMP:20260419T152339Z
SUMMARY:Pelotas Mamacitas vs. Axonometrics
DESCRIPTION:Axonometrics vs. Pelotas MamacitasMore info: #37
X-ALT-DESC;FMTTYPE=text/html:<!DOCTYPE HTML PUBLIC "-//W3C//DTD HTML 3.2//E
	N">\n<HTML>\n<HEAD>\n<TITLE></TITLE>\n</HEAD>\n<BODY>\n<h3>Axonometrics vs.
	 Pelotas Mamacitas</h3>More info: <a href="https://www.golnetwork.com/game/
	v/153364/">#37</a>\n\n</BODY>\n</HTML>
STATUS:CONFIRMED
CLASS:PUBLIC
URL:https://www.golnetwork.com/game/v/153364/
X-MICROSOFT-CDO-BUSYSTATUS:BUSY
X-MICROSOFT-CDO-IMPORTANCE:1
END:VEVENT
BEGIN:VEVENT
UID:gfida@games.golnetwork.com
LOCATION:Bickford/West End Alternative
GEO:43.662764;-79.4202341
CREATED:20191122T200351Z
DTSTART:20200114T000000Z
DTEND:20200114T010000Z
DTSTAMP:20260419T152339Z
SUMMARY:XTSC Madrid vs. Soccer team
DESCRIPTION:Soccer team vs. XTSC MadridMore info: #38
X-ALT-DESC;FMTTYPE=text/html:<!DOCTYPE HTML PUBLIC "-//W3C//DTD HTML 3.2//E
	N">\n<HTML>\n<HEAD>\n<TITLE></TITLE>\n</HEAD>\n<BODY>\n<h3>Soccer team vs. 
	XTSC Madrid</h3>More info: <a href="https://www.golnetwork.com/game/v/15336
	5/">#38</a>\n\n</BODY>\n</HTML>
STATUS:CONFIRMED
CLASS:PUBLIC
URL:https://www.golnetwork.com/game/v/153365/
X-MICROSOFT-CDO-BUSYSTATUS:BUSY
X-MICROSOFT-CDO-IMPORTANCE:1
END:VEVENT
BEGIN:VEVENT
UID:gfidc@games.golnetwork.com
LOCATION:Bickford/West End Alternative
GEO:43.662764;-79.4202341
CREATED:20191122T200359Z
DTSTART:20200114T010000Z
DTEND:20200114T020000Z
DTSTAMP:20260419T152339Z
SUMMARY:Anti-Oppressors FC vs. FC Hipsters
DESCRIPTION:FC Hipsters vs. Anti-Oppressors FCMore info: #39
X-ALT-DESC;FMTTYPE=text/html:<!DOCTYPE HTML PUBLIC "-//W3C//DTD HTML 3.2//E
	N">\n<HTML>\n<HEAD>\n<TITLE></TITLE>\n</HEAD>\n<BODY>\n<h3>FC Hipsters vs. 
	Anti-Oppressors FC</h3>More info: <a href="https://www.golnetwork.com/game/
	v/153366/">#39</a>\n\n</BODY>\n</HTML>
STATUS:CONFIRMED
CLASS:PUBLIC
URL:https://www.golnetwork.com/game/v/153366/
X-MICROSOFT-CDO-BUSYSTATUS:BUSY
X-MICROSOFT-CDO-IMPORTANCE:1
END:VEVENT
BEGIN:VEVENT
UID:gfide@games.golnetwork.com
LOCATION:Bickford/West End Alternative
GEO:43.662764;-79.4202341
CREATED:20191122T200408Z
DTSTART:20200114T020000Z
DTEND:20200114T030000Z
DTSTAMP:20260419T152339Z
SUMMARY:XTSC Fireballs vs. Team United
DESCRIPTION:Team United vs. XTSC FireballsMore info: #40
X-ALT-DESC;FMTTYPE=text/html:<!DOCTYPE HTML PUBLIC "-//W3C//DTD HTML 3.2//E
	N">\n<HTML>\n<HEAD>\n<TITLE></TITLE>\n</HEAD>\n<BODY>\n<h3>Team United vs. 
	XTSC Fireballs</h3>More info: <a href="https://www.golnetwork.com/game/v/15
	3367/">#40</a>\n\n</BODY>\n</HTML>
STATUS:CONFIRMED
CLASS:PUBLIC
URL:https://www.golnetwork.com/game/v/153367/
X-MICROSOFT-CDO-BUSYSTATUS:BUSY
X-MICROSOFT-CDO-IMPORTANCE:1
END:VEVENT
BEGIN:VEVENT
UID:gfidg@games.golnetwork.com
LOCATION:Bickford/West End Alternative
GEO:43.662764;-79.4202341
CREATED:20191122T200422Z
DTSTART:20200120T230000Z
DTEND:20200121T000000Z
DTSTAMP:20260419T152339Z
SUMMARY:XTSC Madrid vs. XTSC Fireballs
DESCRIPTION:XTSC Fireballs vs. XTSC MadridMore info: #45
X-ALT-DESC;FMTTYPE=text/html:<!DOCTYPE HTML PUBLIC "-//W3C//DTD HTML 3.2//E
	N">\n<HTML>\n<HEAD>\n<TITLE></TITLE>\n</HEAD>\n<BODY>\n<h3>XTSC Fireballs v
	s. XTSC Madrid</h3>More info: <a href="https://www.golnetwork.com/game/v/15
	3368/">#45</a>\n\n</BODY>\n</HTML>
STATUS:CONFIRMED
CLASS:PUBLIC
URL:https://www.golnetwork.com/game/v/153368/
X-MICROSOFT-CDO-BUSYSTATUS:BUSY
X-MICROSOFT-CDO-IMPORTANCE:1
END:VEVENT
BEGIN:VEVENT
UID:gfidi@games.golnetwork.com
LOCATION:Bickford/West End Alternative
GEO:43.662764;-79.4202341
CREATED:20191122T200428Z
DTSTART:20200121T000000Z
DTEND:20200121T010000Z
DTSTAMP:20260419T152339Z
SUMMARY:Pelotas Mamacitas vs. FC Hipsters
DESCRIPTION:FC Hipsters vs. Pelotas MamacitasMore info: #46
X-ALT-DESC;FMTTYPE=text/html:<!DOCTYPE HTML PUBLIC "-//W3C//DTD HTML 3.2//E
	N">\n<HTML>\n<HEAD>\n<TITLE></TITLE>\n</HEAD>\n<BODY>\n<h3>FC Hipsters vs. 
	Pelotas Mamacitas</h3>More info: <a href="https://www.golnetwork.com/game/v
	/153369/">#46</a>\n\n</BODY>\n</HTML>
STATUS:CONFIRMED
CLASS:PUBLIC
URL:https://www.golnetwork.com/game/v/153369/
X-MICROSOFT-CDO-BUSYSTATUS:BUSY
X-MICROSOFT-CDO-IMPORTANCE:1
END:VEVENT
BEGIN:VEVENT
UID:gfidk@games.golnetwork.com
LOCATION:Bickford/West End Alternative
GEO:43.662764;-79.4202341
CREATED:20191122T200436Z
DTSTART:20200121T010000Z
DTEND:20200121T020000Z
DTSTAMP:20260419T152339Z
SUMMARY:Team United vs. Soccer team
DESCRIPTION:Soccer team vs. Team UnitedMore info: #47
X-ALT-DESC;FMTTYPE=text/html:<!DOCTYPE HTML PUBLIC "-//W3C//DTD HTML 3.2//E
	N">\n<HTML>\n<HEAD>\n<TITLE></TITLE>\n</HEAD>\n<BODY>\n<h3>Soccer team vs. 
	Team United</h3>More info: <a href="https://www.golnetwork.com/game/v/15337
	0/">#47</a>\n\n</BODY>\n</HTML>
STATUS:CONFIRMED
CLASS:PUBLIC
URL:https://www.golnetwork.com/game/v/153370/
X-MICROSOFT-CDO-BUSYSTATUS:BUSY
X-MICROSOFT-CDO-IMPORTANCE:1
END:VEVENT
BEGIN:VEVENT
UID:gfidm@games.golnetwork.com
LOCATION:Bickford/West End Alternative
GEO:43.662764;-79.4202341
CREATED:20191122T200443Z
DTSTART:20200121T020000Z
DTEND:20200121T030000Z
DTSTAMP:20260419T152339Z
SUMMARY:Axonometrics vs. Anti-Oppressors FC
DESCRIPTION:Anti-Oppressors FC vs. AxonometricsMore info: #48
X-ALT-DESC;FMTTYPE=text/html:<!DOCTYPE HTML PUBLIC "-//W3C//DTD HTML 3.2//E
	N">\n<HTML>\n<HEAD>\n<TITLE></TITLE>\n</HEAD>\n<BODY>\n<h3>Anti-Oppressors 
	FC vs. Axonometrics</h3>More info: <a href="https://www.golnetwork.com/game
	/v/153371/">#48</a>\n\n</BODY>\n</HTML>
STATUS:CONFIRMED
CLASS:PUBLIC
URL:https://www.golnetwork.com/game/v/153371/
X-MICROSOFT-CDO-BUSYSTATUS:BUSY
X-MICROSOFT-CDO-IMPORTANCE:1
END:VEVENT
BEGIN:VEVENT
UID:gfidq@games.golnetwork.com
LOCATION:Bickford/West End Alternative
GEO:43.662764;-79.4202341
CREATED:20191122T200450Z
DTSTART:20200127T230000Z
DTEND:20200128T000000Z
DTSTAMP:20260419T152339Z
SUMMARY:FC Hipsters vs. Axonometrics
DESCRIPTION:Axonometrics vs. FC HipstersMore info: #53
X-ALT-DESC;FMTTYPE=text/html:<!DOCTYPE HTML PUBLIC "-//W3C//DTD HTML 3.2//E
	N">\n<HTML>\n<HEAD>\n<TITLE></TITLE>\n</HEAD>\n<BODY>\n<h3>Axonometrics vs.
	 FC Hipsters</h3>More info: <a href="https://www.golnetwork.com/game/v/1533
	73/">#53</a>\n\n</BODY>\n</HTML>
STATUS:CONFIRMED
CLASS:PUBLIC
URL:https://www.golnetwork.com/game/v/153373/
X-MICROSOFT-CDO-BUSYSTATUS:BUSY
X-MICROSOFT-CDO-IMPORTANCE:1
END:VEVENT
BEGIN:VEVENT
UID:gfido@games.golnetwork.com
LOCATION:Bickford/West End Alternative
GEO:43.662764;-79.4202341
CREATED:20191122T200447Z
DTSTART:20200128T000000Z
DTEND:20200128T010000Z
DTSTAMP:20260419T152339Z
SUMMARY:Anti-Oppressors FC vs. Pelotas Mamacitas
DESCRIPTION:Pelotas Mamacitas vs. Anti-Oppressors FCMore info: #54
X-ALT-DESC;FMTTYPE=text/html:<!DOCTYPE HTML PUBLIC "-//W3C//DTD HTML 3.2//E
	N">\n<HTML>\n<HEAD>\n<TITLE></TITLE>\n</HEAD>\n<BODY>\n<h3>Pelotas Mamacita
	s vs. Anti-Oppressors FC</h3>More info: <a href="https://www.golnetwork.com
	/game/v/153372/">#54</a>\n\n</BODY>\n</HTML>
STATUS:CONFIRMED
CLASS:PUBLIC
URL:https://www.golnetwork.com/game/v/153372/
X-MICROSOFT-CDO-BUSYSTATUS:BUSY
X-MICROSOFT-CDO-IMPORTANCE:1
END:VEVENT
BEGIN:VEVENT
UID:gfie1@games.golnetwork.com
LOCATION:Bickford/West End Alternative
GEO:43.662764;-79.4202341
CREATED:20191122T200454Z
DTSTART:20200203T230000Z
DTEND:20200204T000000Z
DTSTAMP:20260419T152339Z
SUMMARY:Team United vs. XTSC Madrid
DESCRIPTION:XTSC Madrid vs. Team UnitedMore info: #61
X-ALT-DESC;FMTTYPE=text/html:<!DOCTYPE HTML PUBLIC "-//W3C//DTD HTML 3.2//E
	N">\n<HTML>\n<HEAD>\n<TITLE></TITLE>\n</HEAD>\n<BODY>\n<h3>XTSC Madrid vs. 
	Team United</h3>More info: <a href="https://www.golnetwork.com/game/v/15337
	4/">#61</a>\n\n</BODY>\n</HTML>
STATUS:CONFIRMED
CLASS:PUBLIC
URL:https://www.golnetwork.com/game/v/153374/
X-MICROSOFT-CDO-BUSYSTATUS:BUSY
X-MICROSOFT-CDO-IMPORTANCE:1
END:VEVENT
BEGIN:VEVENT
UID:gfie3@games.golnetwork.com
LOCATION:Bickford/West End Alternative
GEO:43.662764;-79.4202341
CREATED:20191122T200456Z
DTSTART:20200204T000000Z
DTEND:20200204T010000Z
DTSTAMP:20260419T152339Z
SUMMARY:Axonometrics vs. Pelotas Mamacitas
DESCRIPTION:Pelotas Mamacitas vs. AxonometricsMore info: #62
X-ALT-DESC;FMTTYPE=text/html:<!DOCTYPE HTML PUBLIC "-//W3C//DTD HTML 3.2//E
	N">\n<HTML>\n<HEAD>\n<TITLE></TITLE>\n</HEAD>\n<BODY>\n<h3>Pelotas Mamacita
	s vs. Axonometrics</h3>More info: <a href="https://www.golnetwork.com/game/
	v/153375/">#62</a>\n\n</BODY>\n</HTML>
STATUS:CONFIRMED
CLASS:PUBLIC
URL:https://www.golnetwork.com/game/v/153375/
X-MICROSOFT-CDO-BUSYSTATUS:BUSY
X-MICROSOFT-CDO-IMPORTANCE:1
END:VEVENT
BEGIN:VEVENT
UID:gfie5@games.golnetwork.com
LOCATION:Bickford/West End Alternative
GEO:43.662764;-79.4202341
CREATED:20191122T200459Z
DTSTART:20200204T020000Z
DTEND:20200204T030000Z
DTSTAMP:20260419T152339Z
SUMMARY:FC Hipsters vs. Anti-Oppressors FC
DESCRIPTION:Anti-Oppressors FC vs. FC HipstersMore info: #64
X-ALT-DESC;FMTTYPE=text/html:<!DOCTYPE HTML PUBLIC "-//W3C//DTD HTML 3.2//E
	N">\n<HTML>\n<HEAD>\n<TITLE></TITLE>\n</HEAD>\n<BODY>\n<h3>Anti-Oppressors 
	FC vs. FC Hipsters</h3>More info: <a href="https://www.golnetwork.com/game/
	v/153376/">#64</a>\n\n</BODY>\n</HTML>
STATUS:CONFIRMED
CLASS:PUBLIC
URL:https://www.golnetwork.com/game/v/153376/
X-MICROSOFT-CDO-BUSYSTATUS:BUSY
X-MICROSOFT-CDO-IMPORTANCE:1
END:VEVENT
END:VCALENDAR
