BEGIN:VCALENDAR
PRODID:-//gdesolutions.com//MV Framework 1.0.0.1607 Calendar//EN
VERSION:2.0
METHOD:PUBLISH
CALSCALE:GREGORIAN
BEGIN:VEVENT
UID:gg0gm@games.golnetwork.com
LOCATION:Central Tech - Field 3
CREATED:20200302T173010Z
DTSTART:20200415T010000Z
DTEND:20200415T020000Z
DTSTAMP:20260425T125309Z
SUMMARY:Team #4 vs. Team #1
DESCRIPTION:Team #1 vs. Team #4More info: #960
X-ALT-DESC;FMTTYPE=text/html:<!DOCTYPE HTML PUBLIC "-//W3C//DTD HTML 3.2//E
	N">\n<HTML>\n<HEAD>\n<TITLE></TITLE>\n</HEAD>\n<BODY>\n<h3>Team #1 vs. Team
	 #4</h3>More info: <a href="https://www.golnetwork.com/game/v/156692/">#960
	</a>\n\n</BODY>\n</HTML>
STATUS:CONFIRMED
CLASS:PUBLIC
URL:https://www.golnetwork.com/game/v/156692/
X-MICROSOFT-CDO-BUSYSTATUS:BUSY
X-MICROSOFT-CDO-IMPORTANCE:1
END:VEVENT
BEGIN:VEVENT
UID:gg0go@games.golnetwork.com
LOCATION:Central Tech - Field 3
CREATED:20200302T173010Z
DTSTART:20200415T020000Z
DTEND:20200415T030000Z
DTSTAMP:20260425T125309Z
SUMMARY:Team #3 vs. Team #2
DESCRIPTION:Team #2 vs. Team #3More info: #966
X-ALT-DESC;FMTTYPE=text/html:<!DOCTYPE HTML PUBLIC "-//W3C//DTD HTML 3.2//E
	N">\n<HTML>\n<HEAD>\n<TITLE></TITLE>\n</HEAD>\n<BODY>\n<h3>Team #2 vs. Team
	 #3</h3>More info: <a href="https://www.golnetwork.com/game/v/156693/">#966
	</a>\n\n</BODY>\n</HTML>
STATUS:CONFIRMED
CLASS:PUBLIC
URL:https://www.golnetwork.com/game/v/156693/
X-MICROSOFT-CDO-BUSYSTATUS:BUSY
X-MICROSOFT-CDO-IMPORTANCE:1
END:VEVENT
BEGIN:VEVENT
UID:gg0gq@games.golnetwork.com
LOCATION:Central Tech - Field 3
CREATED:20200302T173010Z
DTSTART:20200422T010000Z
DTEND:20200422T020000Z
DTSTAMP:20260425T125309Z
SUMMARY:TBD* vs. TBD*
DESCRIPTION:TBD* vs. TBD*More info: #983
X-ALT-DESC;FMTTYPE=text/html:<!DOCTYPE HTML PUBLIC "-//W3C//DTD HTML 3.2//E
	N">\n<HTML>\n<HEAD>\n<TITLE></TITLE>\n</HEAD>\n<BODY>\n<h3>TBD* vs. TBD*</h
	3>More info: <a href="https://www.golnetwork.com/game/v/156694/">#983</a>\n
	\n</BODY>\n</HTML>
STATUS:CONFIRMED
CLASS:PUBLIC
URL:https://www.golnetwork.com/game/v/156694/
X-MICROSOFT-CDO-BUSYSTATUS:BUSY
X-MICROSOFT-CDO-IMPORTANCE:1
END:VEVENT
END:VCALENDAR
