BEGIN:VCALENDAR
PRODID:-//gdesolutions.com//MV Framework 1.0.0.1607 Calendar//EN
VERSION:2.0
METHOD:PUBLISH
CALSCALE:GREGORIAN
BEGIN:VEVENT
UID:gfm76@games.golnetwork.com
LOCATION:Central Tech - Field 2
GEO:43.6637272;-79.4087613
CREATED:20200110T182651Z
DTSTART:20200306T020000Z
DTEND:20200306T030000Z
DTSTAMP:20260421T230941Z
SUMMARY:Charlie Wonderland vs. Fengate FC
DESCRIPTION:Fengate FC vs. Charlie WonderlandMore info: #582
X-ALT-DESC;FMTTYPE=text/html:<!DOCTYPE HTML PUBLIC "-//W3C//DTD HTML 3.2//E
	N">\n<HTML>\n<HEAD>\n<TITLE></TITLE>\n</HEAD>\n<BODY>\n<h3>Fengate FC vs. C
	harlie Wonderland</h3>More info: <a href="https://www.golnetwork.com/game/v
	/154740/">#582</a>\n\n</BODY>\n</HTML>
STATUS:CONFIRMED
CLASS:PUBLIC
URL:https://www.golnetwork.com/game/v/154740/
X-MICROSOFT-CDO-BUSYSTATUS:BUSY
X-MICROSOFT-CDO-IMPORTANCE:1
END:VEVENT
BEGIN:VEVENT
UID:gfm78@games.golnetwork.com
LOCATION:Central Tech - Field 2
GEO:43.6637272;-79.4087613
CREATED:20200110T182652Z
DTSTART:20200306T030000Z
DTEND:20200306T040000Z
DTSTAMP:20260421T230941Z
SUMMARY:Allergic to Grass vs. Trash Pandas FC
DESCRIPTION:Trash Pandas FC vs. Allergic to GrassMore info: #585
X-ALT-DESC;FMTTYPE=text/html:<!DOCTYPE HTML PUBLIC "-//W3C//DTD HTML 3.2//E
	N">\n<HTML>\n<HEAD>\n<TITLE></TITLE>\n</HEAD>\n<BODY>\n<h3>Trash Pandas FC 
	vs. Allergic to Grass</h3>More info: <a href="https://www.golnetwork.com/ga
	me/v/154741/">#585</a>\n\n</BODY>\n</HTML>
STATUS:CONFIRMED
CLASS:PUBLIC
URL:https://www.golnetwork.com/game/v/154741/
X-MICROSOFT-CDO-BUSYSTATUS:BUSY
X-MICROSOFT-CDO-IMPORTANCE:1
END:VEVENT
BEGIN:VEVENT
UID:gfm7a@games.golnetwork.com
LOCATION:Central Tech - Field 3
CREATED:20200110T182652Z
DTSTART:20200313T000000Z
DTEND:20200313T010000Z
DTSTAMP:20260421T230941Z
SUMMARY:Allergic to Grass vs. Charlie Wonderland
DESCRIPTION:Charlie Wonderland vs. Allergic to GrassMore info: #674
X-ALT-DESC;FMTTYPE=text/html:<!DOCTYPE HTML PUBLIC "-//W3C//DTD HTML 3.2//E
	N">\n<HTML>\n<HEAD>\n<TITLE></TITLE>\n</HEAD>\n<BODY>\n<h3>Charlie Wonderla
	nd vs. Allergic to Grass</h3>More info: <a href="https://www.golnetwork.com
	/game/v/154742/">#674</a>\n\n</BODY>\n</HTML>
STATUS:CONFIRMED
CLASS:PUBLIC
URL:https://www.golnetwork.com/game/v/154742/
X-MICROSOFT-CDO-BUSYSTATUS:BUSY
X-MICROSOFT-CDO-IMPORTANCE:1
END:VEVENT
END:VCALENDAR
