BEGIN:VCALENDAR
PRODID:-//gdesolutions.com//MV Framework 1.0.0.1607 Calendar//EN
VERSION:2.0
METHOD:PUBLISH
CALSCALE:GREGORIAN
BEGIN:VEVENT
UID:gfo1m@games.golnetwork.com
LOCATION:Central Tech - Field 3
CREATED:20200204T171828Z
DTSTART:20200211T010000Z
DTEND:20200211T020000Z
DTSTAMP:20260421T015302Z
SUMMARY:F.C. Klick vs. Mortchester City
DESCRIPTION:Mortchester City vs. F.C. KlickMore info: #249
X-ALT-DESC;FMTTYPE=text/html:<!DOCTYPE HTML PUBLIC "-//W3C//DTD HTML 3.2//E
	N">\n<HTML>\n<HEAD>\n<TITLE></TITLE>\n</HEAD>\n<BODY>\n<h3>Mortchester City
	 vs. F.C. Klick</h3>More info: <a href="https://www.golnetwork.com/game/v/1
	55396/">#249</a>\n\n</BODY>\n</HTML>
STATUS:CONFIRMED
CLASS:PUBLIC
URL:https://www.golnetwork.com/game/v/155396/
X-MICROSOFT-CDO-BUSYSTATUS:BUSY
X-MICROSOFT-CDO-IMPORTANCE:1
END:VEVENT
BEGIN:VEVENT
UID:gfo1o@games.golnetwork.com
LOCATION:Central Tech - Field 3
CREATED:20200204T171835Z
DTSTART:20200211T020000Z
DTEND:20200211T030000Z
DTSTAMP:20260421T015302Z
SUMMARY:FIFA '98 for Sega Dreamcast vs. Tie Dye
DESCRIPTION:Tie Dye vs. FIFA '98 for Sega DreamcastMore info: #254
X-ALT-DESC;FMTTYPE=text/html:<!DOCTYPE HTML PUBLIC "-//W3C//DTD HTML 3.2//E
	N">\n<HTML>\n<HEAD>\n<TITLE></TITLE>\n</HEAD>\n<BODY>\n<h3>Tie Dye vs. FIFA
	 '98 for Sega Dreamcast</h3>More info: <a href="https://www.golnetwork.com/
	game/v/155397/">#254</a>\n\n</BODY>\n</HTML>
STATUS:CONFIRMED
CLASS:PUBLIC
URL:https://www.golnetwork.com/game/v/155397/
X-MICROSOFT-CDO-BUSYSTATUS:BUSY
X-MICROSOFT-CDO-IMPORTANCE:1
END:VEVENT
BEGIN:VEVENT
UID:gfo1q@games.golnetwork.com
LOCATION:Central Tech - Field 3
CREATED:20200204T171843Z
DTSTART:20200211T030000Z
DTEND:20200211T040000Z
DTSTAMP:20260421T015302Z
SUMMARY:Hooligans vs. Medcan FC
DESCRIPTION:Medcan FC vs. HooligansMore info: #259
X-ALT-DESC;FMTTYPE=text/html:<!DOCTYPE HTML PUBLIC "-//W3C//DTD HTML 3.2//E
	N">\n<HTML>\n<HEAD>\n<TITLE></TITLE>\n</HEAD>\n<BODY>\n<h3>Medcan FC vs. Ho
	oligans</h3>More info: <a href="https://www.golnetwork.com/game/v/155398/">
	#259</a>\n\n</BODY>\n</HTML>
STATUS:CONFIRMED
CLASS:PUBLIC
URL:https://www.golnetwork.com/game/v/155398/
X-MICROSOFT-CDO-BUSYSTATUS:BUSY
X-MICROSOFT-CDO-IMPORTANCE:1
END:VEVENT
BEGIN:VEVENT
UID:gfo21@games.golnetwork.com
LOCATION:Central Tech - Field 3
CREATED:20200204T171850Z
DTSTART:20200211T040000Z
DTEND:20200211T050000Z
DTSTAMP:20260421T015302Z
SUMMARY:Lawnboy & Bucket vs. Goal-bergine F.C.
DESCRIPTION:Goal-bergine F.C. vs. Lawnboy & BucketMore info: #264
X-ALT-DESC;FMTTYPE=text/html:<!DOCTYPE HTML PUBLIC "-//W3C//DTD HTML 3.2//E
	N">\n<HTML>\n<HEAD>\n<TITLE></TITLE>\n</HEAD>\n<BODY>\n<h3>Goal-bergine F.C
	. vs. Lawnboy & Bucket</h3>More info: <a href="https://www.golnetwork.com/g
	ame/v/155399/">#264</a>\n\n</BODY>\n</HTML>
STATUS:CONFIRMED
CLASS:PUBLIC
URL:https://www.golnetwork.com/game/v/155399/
X-MICROSOFT-CDO-BUSYSTATUS:BUSY
X-MICROSOFT-CDO-IMPORTANCE:1
END:VEVENT
BEGIN:VEVENT
UID:gfo23@games.golnetwork.com
LOCATION:Central Tech - Field 2
GEO:43.6637272;-79.4087613
CREATED:20200204T171901Z
DTSTART:20200218T010000Z
DTEND:20200218T020000Z
DTSTAMP:20260421T015302Z
SUMMARY:Medcan FC vs. FIFA '98 for Sega Dreamcast
DESCRIPTION:FIFA '98 for Sega Dreamcast vs. Medcan FCMore info: #314
X-ALT-DESC;FMTTYPE=text/html:<!DOCTYPE HTML PUBLIC "-//W3C//DTD HTML 3.2//E
	N">\n<HTML>\n<HEAD>\n<TITLE></TITLE>\n</HEAD>\n<BODY>\n<h3>FIFA '98 for Seg
	a Dreamcast vs. Medcan FC</h3>More info: <a href="https://www.golnetwork.co
	m/game/v/155400/">#314</a>\n\n</BODY>\n</HTML>
STATUS:CONFIRMED
CLASS:PUBLIC
URL:https://www.golnetwork.com/game/v/155400/
X-MICROSOFT-CDO-BUSYSTATUS:BUSY
X-MICROSOFT-CDO-IMPORTANCE:1
END:VEVENT
BEGIN:VEVENT
UID:gfo25@games.golnetwork.com
LOCATION:Central Tech - Field 2
GEO:43.6637272;-79.4087613
CREATED:20200204T171917Z
DTSTART:20200218T020000Z
DTEND:20200218T030000Z
DTSTAMP:20260421T015302Z
SUMMARY:Lawnboy & Bucket vs. F.C. Klick
DESCRIPTION:F.C. Klick vs. Lawnboy & BucketMore info: #317
X-ALT-DESC;FMTTYPE=text/html:<!DOCTYPE HTML PUBLIC "-//W3C//DTD HTML 3.2//E
	N">\n<HTML>\n<HEAD>\n<TITLE></TITLE>\n</HEAD>\n<BODY>\n<h3>F.C. Klick vs. L
	awnboy & Bucket</h3>More info: <a href="https://www.golnetwork.com/game/v/1
	55401/">#317</a>\n\n</BODY>\n</HTML>
STATUS:CONFIRMED
CLASS:PUBLIC
URL:https://www.golnetwork.com/game/v/155401/
X-MICROSOFT-CDO-BUSYSTATUS:BUSY
X-MICROSOFT-CDO-IMPORTANCE:1
END:VEVENT
BEGIN:VEVENT
UID:gfo27@games.golnetwork.com
LOCATION:Central Tech - Field 2
GEO:43.6637272;-79.4087613
CREATED:20200204T171925Z
DTSTART:20200218T030000Z
DTEND:20200218T040000Z
DTSTAMP:20260421T015302Z
SUMMARY:Hooligans vs. Goal-bergine F.C.
DESCRIPTION:Goal-bergine F.C. vs. HooligansMore info: #321
X-ALT-DESC;FMTTYPE=text/html:<!DOCTYPE HTML PUBLIC "-//W3C//DTD HTML 3.2//E
	N">\n<HTML>\n<HEAD>\n<TITLE></TITLE>\n</HEAD>\n<BODY>\n<h3>Goal-bergine F.C
	. vs. Hooligans</h3>More info: <a href="https://www.golnetwork.com/game/v/1
	55402/">#321</a>\n\n</BODY>\n</HTML>
STATUS:CONFIRMED
CLASS:PUBLIC
URL:https://www.golnetwork.com/game/v/155402/
X-MICROSOFT-CDO-BUSYSTATUS:BUSY
X-MICROSOFT-CDO-IMPORTANCE:1
END:VEVENT
BEGIN:VEVENT
UID:gfo29@games.golnetwork.com
LOCATION:Central Tech - Field 2
GEO:43.6637272;-79.4087613
CREATED:20200204T171935Z
DTSTART:20200218T040000Z
DTEND:20200218T050000Z
DTSTAMP:20260421T015302Z
SUMMARY:Tie Dye vs. Mortchester City
DESCRIPTION:Mortchester City vs. Tie DyeMore info: #325
X-ALT-DESC;FMTTYPE=text/html:<!DOCTYPE HTML PUBLIC "-//W3C//DTD HTML 3.2//E
	N">\n<HTML>\n<HEAD>\n<TITLE></TITLE>\n</HEAD>\n<BODY>\n<h3>Mortchester City
	 vs. Tie Dye</h3>More info: <a href="https://www.golnetwork.com/game/v/1554
	03/">#325</a>\n\n</BODY>\n</HTML>
STATUS:CONFIRMED
CLASS:PUBLIC
URL:https://www.golnetwork.com/game/v/155403/
X-MICROSOFT-CDO-BUSYSTATUS:BUSY
X-MICROSOFT-CDO-IMPORTANCE:1
END:VEVENT
BEGIN:VEVENT
UID:gfo2b@games.golnetwork.com
LOCATION:Central Tech - Field 3
CREATED:20200204T171947Z
DTSTART:20200225T010000Z
DTEND:20200225T020000Z
DTSTAMP:20260421T015302Z
SUMMARY:Hooligans vs. Mortchester City
DESCRIPTION:Mortchester City vs. HooligansMore info: #416
X-ALT-DESC;FMTTYPE=text/html:<!DOCTYPE HTML PUBLIC "-//W3C//DTD HTML 3.2//E
	N">\n<HTML>\n<HEAD>\n<TITLE></TITLE>\n</HEAD>\n<BODY>\n<h3>Mortchester City
	 vs. Hooligans</h3>More info: <a href="https://www.golnetwork.com/game/v/15
	5404/">#416</a>\n\n</BODY>\n</HTML>
STATUS:CONFIRMED
CLASS:PUBLIC
URL:https://www.golnetwork.com/game/v/155404/
X-MICROSOFT-CDO-BUSYSTATUS:BUSY
X-MICROSOFT-CDO-IMPORTANCE:1
END:VEVENT
BEGIN:VEVENT
UID:gfo2d@games.golnetwork.com
LOCATION:Central Tech - Field 3
CREATED:20200204T172006Z
DTSTART:20200225T020000Z
DTEND:20200225T030000Z
DTSTAMP:20260421T015302Z
SUMMARY:Medcan FC vs. F.C. Klick
DESCRIPTION:F.C. Klick vs. Medcan FCMore info: #421
X-ALT-DESC;FMTTYPE=text/html:<!DOCTYPE HTML PUBLIC "-//W3C//DTD HTML 3.2//E
	N">\n<HTML>\n<HEAD>\n<TITLE></TITLE>\n</HEAD>\n<BODY>\n<h3>F.C. Klick vs. M
	edcan FC</h3>More info: <a href="https://www.golnetwork.com/game/v/155405/"
	>#421</a>\n\n</BODY>\n</HTML>
STATUS:CONFIRMED
CLASS:PUBLIC
URL:https://www.golnetwork.com/game/v/155405/
X-MICROSOFT-CDO-BUSYSTATUS:BUSY
X-MICROSOFT-CDO-IMPORTANCE:1
END:VEVENT
BEGIN:VEVENT
UID:gfo2f@games.golnetwork.com
LOCATION:Central Tech - Field 3
CREATED:20200204T172013Z
DTSTART:20200225T030000Z
DTEND:20200225T040000Z
DTSTAMP:20260421T015302Z
SUMMARY:Lawnboy & Bucket vs. Tie Dye
DESCRIPTION:Tie Dye vs. Lawnboy & BucketMore info: #425
X-ALT-DESC;FMTTYPE=text/html:<!DOCTYPE HTML PUBLIC "-//W3C//DTD HTML 3.2//E
	N">\n<HTML>\n<HEAD>\n<TITLE></TITLE>\n</HEAD>\n<BODY>\n<h3>Tie Dye vs. Lawn
	boy & Bucket</h3>More info: <a href="https://www.golnetwork.com/game/v/1554
	06/">#425</a>\n\n</BODY>\n</HTML>
STATUS:CONFIRMED
CLASS:PUBLIC
URL:https://www.golnetwork.com/game/v/155406/
X-MICROSOFT-CDO-BUSYSTATUS:BUSY
X-MICROSOFT-CDO-IMPORTANCE:1
END:VEVENT
BEGIN:VEVENT
UID:gfo2h@games.golnetwork.com
LOCATION:Central Tech - Field 3
CREATED:20200204T172019Z
DTSTART:20200225T040000Z
DTEND:20200225T050000Z
DTSTAMP:20260421T015302Z
SUMMARY:Goal-bergine F.C. vs. FIFA '98 for Sega Dreamcast
DESCRIPTION:FIFA '98 for Sega Dreamcast vs. Goal-bergine F.C.More info: #43
	1
X-ALT-DESC;FMTTYPE=text/html:<!DOCTYPE HTML PUBLIC "-//W3C//DTD HTML 3.2//E
	N">\n<HTML>\n<HEAD>\n<TITLE></TITLE>\n</HEAD>\n<BODY>\n<h3>FIFA '98 for Seg
	a Dreamcast vs. Goal-bergine F.C.</h3>More info: <a href="https://www.golne
	twork.com/game/v/155407/">#431</a>\n\n</BODY>\n</HTML>
STATUS:CONFIRMED
CLASS:PUBLIC
URL:https://www.golnetwork.com/game/v/155407/
X-MICROSOFT-CDO-BUSYSTATUS:BUSY
X-MICROSOFT-CDO-IMPORTANCE:1
END:VEVENT
BEGIN:VEVENT
UID:gfo2j@games.golnetwork.com
LOCATION:Central Tech - Field 2
GEO:43.6637272;-79.4087613
CREATED:20200204T172034Z
DTSTART:20200303T010000Z
DTEND:20200303T020000Z
DTSTAMP:20260421T015302Z
SUMMARY:Goal-bergine F.C. vs. Tie Dye
DESCRIPTION:Tie Dye vs. Goal-bergine F.C.More info: #523
X-ALT-DESC;FMTTYPE=text/html:<!DOCTYPE HTML PUBLIC "-//W3C//DTD HTML 3.2//E
	N">\n<HTML>\n<HEAD>\n<TITLE></TITLE>\n</HEAD>\n<BODY>\n<h3>Tie Dye vs. Goal
	-bergine F.C.</h3>More info: <a href="https://www.golnetwork.com/game/v/155
	408/">#523</a>\n\n</BODY>\n</HTML>
STATUS:CONFIRMED
CLASS:PUBLIC
URL:https://www.golnetwork.com/game/v/155408/
X-MICROSOFT-CDO-BUSYSTATUS:BUSY
X-MICROSOFT-CDO-IMPORTANCE:1
END:VEVENT
BEGIN:VEVENT
UID:gfo2l@games.golnetwork.com
LOCATION:Central Tech - Field 2
GEO:43.6637272;-79.4087613
CREATED:20200204T172044Z
DTSTART:20200303T020000Z
DTEND:20200303T030000Z
DTSTAMP:20260421T015302Z
SUMMARY:Medcan FC vs. Mortchester City
DESCRIPTION:Mortchester City vs. Medcan FCMore info: #527
X-ALT-DESC;FMTTYPE=text/html:<!DOCTYPE HTML PUBLIC "-//W3C//DTD HTML 3.2//E
	N">\n<HTML>\n<HEAD>\n<TITLE></TITLE>\n</HEAD>\n<BODY>\n<h3>Mortchester City
	 vs. Medcan FC</h3>More info: <a href="https://www.golnetwork.com/game/v/15
	5409/">#527</a>\n\n</BODY>\n</HTML>
STATUS:CONFIRMED
CLASS:PUBLIC
URL:https://www.golnetwork.com/game/v/155409/
X-MICROSOFT-CDO-BUSYSTATUS:BUSY
X-MICROSOFT-CDO-IMPORTANCE:1
END:VEVENT
BEGIN:VEVENT
UID:gfo2n@games.golnetwork.com
LOCATION:Central Tech - Field 2
GEO:43.6637272;-79.4087613
CREATED:20200204T172051Z
DTSTART:20200303T030000Z
DTEND:20200303T040000Z
DTSTAMP:20260421T015302Z
SUMMARY:Lawnboy & Bucket vs. FIFA '98 for Sega Dreamcast
DESCRIPTION:FIFA '98 for Sega Dreamcast vs. Lawnboy & BucketMore info: #531
X-ALT-DESC;FMTTYPE=text/html:<!DOCTYPE HTML PUBLIC "-//W3C//DTD HTML 3.2//E
	N">\n<HTML>\n<HEAD>\n<TITLE></TITLE>\n</HEAD>\n<BODY>\n<h3>FIFA '98 for Seg
	a Dreamcast vs. Lawnboy & Bucket</h3>More info: <a href="https://www.golnet
	work.com/game/v/155410/">#531</a>\n\n</BODY>\n</HTML>
STATUS:CONFIRMED
CLASS:PUBLIC
URL:https://www.golnetwork.com/game/v/155410/
X-MICROSOFT-CDO-BUSYSTATUS:BUSY
X-MICROSOFT-CDO-IMPORTANCE:1
END:VEVENT
BEGIN:VEVENT
UID:gfo2p@games.golnetwork.com
LOCATION:Central Tech - Field 2
GEO:43.6637272;-79.4087613
CREATED:20200204T172058Z
DTSTART:20200303T040000Z
DTEND:20200303T050000Z
DTSTAMP:20260421T015302Z
SUMMARY:Hooligans vs. F.C. Klick
DESCRIPTION:F.C. Klick vs. HooligansMore info: #536
X-ALT-DESC;FMTTYPE=text/html:<!DOCTYPE HTML PUBLIC "-//W3C//DTD HTML 3.2//E
	N">\n<HTML>\n<HEAD>\n<TITLE></TITLE>\n</HEAD>\n<BODY>\n<h3>F.C. Klick vs. H
	ooligans</h3>More info: <a href="https://www.golnetwork.com/game/v/155411/"
	>#536</a>\n\n</BODY>\n</HTML>
STATUS:CONFIRMED
CLASS:PUBLIC
URL:https://www.golnetwork.com/game/v/155411/
X-MICROSOFT-CDO-BUSYSTATUS:BUSY
X-MICROSOFT-CDO-IMPORTANCE:1
END:VEVENT
BEGIN:VEVENT
UID:gfo30@games.golnetwork.com
LOCATION:Central Tech - Field 3
CREATED:20200204T172111Z
DTSTART:20200310T000000Z
DTEND:20200310T010000Z
DTSTAMP:20260421T015302Z
SUMMARY:FIFA '98 for Sega Dreamcast vs. F.C. Klick
DESCRIPTION:F.C. Klick vs. FIFA '98 for Sega DreamcastMore info: #617
X-ALT-DESC;FMTTYPE=text/html:<!DOCTYPE HTML PUBLIC "-//W3C//DTD HTML 3.2//E
	N">\n<HTML>\n<HEAD>\n<TITLE></TITLE>\n</HEAD>\n<BODY>\n<h3>F.C. Klick vs. F
	IFA '98 for Sega Dreamcast</h3>More info: <a href="https://www.golnetwork.c
	om/game/v/155412/">#617</a>\n\n</BODY>\n</HTML>
STATUS:CONFIRMED
CLASS:PUBLIC
URL:https://www.golnetwork.com/game/v/155412/
X-MICROSOFT-CDO-BUSYSTATUS:BUSY
X-MICROSOFT-CDO-IMPORTANCE:1
END:VEVENT
BEGIN:VEVENT
UID:gfo32@games.golnetwork.com
LOCATION:Central Tech - Field 3
CREATED:20200204T172119Z
DTSTART:20200310T010000Z
DTEND:20200310T020000Z
DTSTAMP:20260421T015302Z
SUMMARY:Hooligans vs. Tie Dye
DESCRIPTION:Tie Dye vs. HooligansMore info: #622
X-ALT-DESC;FMTTYPE=text/html:<!DOCTYPE HTML PUBLIC "-//W3C//DTD HTML 3.2//E
	N">\n<HTML>\n<HEAD>\n<TITLE></TITLE>\n</HEAD>\n<BODY>\n<h3>Tie Dye vs. Hool
	igans</h3>More info: <a href="https://www.golnetwork.com/game/v/155413/">#6
	22</a>\n\n</BODY>\n</HTML>
STATUS:CONFIRMED
CLASS:PUBLIC
URL:https://www.golnetwork.com/game/v/155413/
X-MICROSOFT-CDO-BUSYSTATUS:BUSY
X-MICROSOFT-CDO-IMPORTANCE:1
END:VEVENT
BEGIN:VEVENT
UID:gfo34@games.golnetwork.com
LOCATION:Central Tech - Field 3
CREATED:20200204T172127Z
DTSTART:20200310T020000Z
DTEND:20200310T030000Z
DTSTAMP:20260421T015302Z
SUMMARY:Goal-bergine F.C. vs. Mortchester City
DESCRIPTION:Mortchester City vs. Goal-bergine F.C.More info: #627
X-ALT-DESC;FMTTYPE=text/html:<!DOCTYPE HTML PUBLIC "-//W3C//DTD HTML 3.2//E
	N">\n<HTML>\n<HEAD>\n<TITLE></TITLE>\n</HEAD>\n<BODY>\n<h3>Mortchester City
	 vs. Goal-bergine F.C.</h3>More info: <a href="https://www.golnetwork.com/g
	ame/v/155414/">#627</a>\n\n</BODY>\n</HTML>
STATUS:CONFIRMED
CLASS:PUBLIC
URL:https://www.golnetwork.com/game/v/155414/
X-MICROSOFT-CDO-BUSYSTATUS:BUSY
X-MICROSOFT-CDO-IMPORTANCE:1
END:VEVENT
BEGIN:VEVENT
UID:gfo36@games.golnetwork.com
LOCATION:Central Tech - Field 3
CREATED:20200204T172135Z
DTSTART:20200310T030000Z
DTEND:20200310T040000Z
DTSTAMP:20260421T015302Z
SUMMARY:Lawnboy & Bucket vs. Medcan FC
DESCRIPTION:Medcan FC vs. Lawnboy & BucketMore info: #632
X-ALT-DESC;FMTTYPE=text/html:<!DOCTYPE HTML PUBLIC "-//W3C//DTD HTML 3.2//E
	N">\n<HTML>\n<HEAD>\n<TITLE></TITLE>\n</HEAD>\n<BODY>\n<h3>Medcan FC vs. La
	wnboy & Bucket</h3>More info: <a href="https://www.golnetwork.com/game/v/15
	5415/">#632</a>\n\n</BODY>\n</HTML>
STATUS:CONFIRMED
CLASS:PUBLIC
URL:https://www.golnetwork.com/game/v/155415/
X-MICROSOFT-CDO-BUSYSTATUS:BUSY
X-MICROSOFT-CDO-IMPORTANCE:1
END:VEVENT
BEGIN:VEVENT
UID:gfo38@games.golnetwork.com
LOCATION:Central Tech - Field 2
GEO:43.6637272;-79.4087613
CREATED:20200204T172147Z
DTSTART:20200317T000000Z
DTEND:20200317T010000Z
DTSTAMP:20260421T015302Z
SUMMARY:Lawnboy & Bucket vs. Hooligans
DESCRIPTION:Hooligans vs. Lawnboy & BucketMore info: #706
X-ALT-DESC;FMTTYPE=text/html:<!DOCTYPE HTML PUBLIC "-//W3C//DTD HTML 3.2//E
	N">\n<HTML>\n<HEAD>\n<TITLE></TITLE>\n</HEAD>\n<BODY>\n<h3>Hooligans vs. La
	wnboy & Bucket</h3>More info: <a href="https://www.golnetwork.com/game/v/15
	5416/">#706</a>\n\n</BODY>\n</HTML>
STATUS:CONFIRMED
CLASS:PUBLIC
URL:https://www.golnetwork.com/game/v/155416/
X-MICROSOFT-CDO-BUSYSTATUS:BUSY
X-MICROSOFT-CDO-IMPORTANCE:1
END:VEVENT
BEGIN:VEVENT
UID:gfo3a@games.golnetwork.com
LOCATION:Central Tech - Field 2
GEO:43.6637272;-79.4087613
CREATED:20200204T172155Z
DTSTART:20200317T010000Z
DTEND:20200317T020000Z
DTSTAMP:20260421T015302Z
SUMMARY:Goal-bergine F.C. vs. F.C. Klick
DESCRIPTION:F.C. Klick vs. Goal-bergine F.C.More info: #709
X-ALT-DESC;FMTTYPE=text/html:<!DOCTYPE HTML PUBLIC "-//W3C//DTD HTML 3.2//E
	N">\n<HTML>\n<HEAD>\n<TITLE></TITLE>\n</HEAD>\n<BODY>\n<h3>F.C. Klick vs. G
	oal-bergine F.C.</h3>More info: <a href="https://www.golnetwork.com/game/v/
	155417/">#709</a>\n\n</BODY>\n</HTML>
STATUS:CONFIRMED
CLASS:PUBLIC
URL:https://www.golnetwork.com/game/v/155417/
X-MICROSOFT-CDO-BUSYSTATUS:BUSY
X-MICROSOFT-CDO-IMPORTANCE:1
END:VEVENT
BEGIN:VEVENT
UID:gfo3c@games.golnetwork.com
LOCATION:Central Tech - Field 2
GEO:43.6637272;-79.4087613
CREATED:20200204T172204Z
DTSTART:20200317T020000Z
DTEND:20200317T030000Z
DTSTAMP:20260421T015302Z
SUMMARY:FIFA '98 for Sega Dreamcast vs. Mortchester City
DESCRIPTION:Mortchester City vs. FIFA '98 for Sega DreamcastMore info: #714
X-ALT-DESC;FMTTYPE=text/html:<!DOCTYPE HTML PUBLIC "-//W3C//DTD HTML 3.2//E
	N">\n<HTML>\n<HEAD>\n<TITLE></TITLE>\n</HEAD>\n<BODY>\n<h3>Mortchester City
	 vs. FIFA '98 for Sega Dreamcast</h3>More info: <a href="https://www.golnet
	work.com/game/v/155418/">#714</a>\n\n</BODY>\n</HTML>
STATUS:CONFIRMED
CLASS:PUBLIC
URL:https://www.golnetwork.com/game/v/155418/
X-MICROSOFT-CDO-BUSYSTATUS:BUSY
X-MICROSOFT-CDO-IMPORTANCE:1
END:VEVENT
BEGIN:VEVENT
UID:gfo3e@games.golnetwork.com
LOCATION:Central Tech - Field 2
GEO:43.6637272;-79.4087613
CREATED:20200204T172212Z
DTSTART:20200317T030000Z
DTEND:20200317T040000Z
DTSTAMP:20260421T015302Z
SUMMARY:Medcan FC vs. Tie Dye
DESCRIPTION:Tie Dye vs. Medcan FCMore info: #718
X-ALT-DESC;FMTTYPE=text/html:<!DOCTYPE HTML PUBLIC "-//W3C//DTD HTML 3.2//E
	N">\n<HTML>\n<HEAD>\n<TITLE></TITLE>\n</HEAD>\n<BODY>\n<h3>Tie Dye vs. Medc
	an FC</h3>More info: <a href="https://www.golnetwork.com/game/v/155419/">#7
	18</a>\n\n</BODY>\n</HTML>
STATUS:CONFIRMED
CLASS:PUBLIC
URL:https://www.golnetwork.com/game/v/155419/
X-MICROSOFT-CDO-BUSYSTATUS:BUSY
X-MICROSOFT-CDO-IMPORTANCE:1
END:VEVENT
BEGIN:VEVENT
UID:gfo3g@games.golnetwork.com
LOCATION:Central Tech - Field 3
CREATED:20200204T172223Z
DTSTART:20200324T000000Z
DTEND:20200324T010000Z
DTSTAMP:20260421T015302Z
SUMMARY:Goal-bergine F.C. vs. Medcan FC
DESCRIPTION:Medcan FC vs. Goal-bergine F.C.More info: #786
X-ALT-DESC;FMTTYPE=text/html:<!DOCTYPE HTML PUBLIC "-//W3C//DTD HTML 3.2//E
	N">\n<HTML>\n<HEAD>\n<TITLE></TITLE>\n</HEAD>\n<BODY>\n<h3>Medcan FC vs. Go
	al-bergine F.C.</h3>More info: <a href="https://www.golnetwork.com/game/v/1
	55420/">#786</a>\n\n</BODY>\n</HTML>
STATUS:CONFIRMED
CLASS:PUBLIC
URL:https://www.golnetwork.com/game/v/155420/
X-MICROSOFT-CDO-BUSYSTATUS:BUSY
X-MICROSOFT-CDO-IMPORTANCE:1
END:VEVENT
BEGIN:VEVENT
UID:gfo3i@games.golnetwork.com
LOCATION:Central Tech - Field 3
CREATED:20200204T172231Z
DTSTART:20200324T010000Z
DTEND:20200324T020000Z
DTSTAMP:20260421T015302Z
SUMMARY:Lawnboy & Bucket vs. Mortchester City
DESCRIPTION:Mortchester City vs. Lawnboy & BucketMore info: #789
X-ALT-DESC;FMTTYPE=text/html:<!DOCTYPE HTML PUBLIC "-//W3C//DTD HTML 3.2//E
	N">\n<HTML>\n<HEAD>\n<TITLE></TITLE>\n</HEAD>\n<BODY>\n<h3>Mortchester City
	 vs. Lawnboy & Bucket</h3>More info: <a href="https://www.golnetwork.com/ga
	me/v/155421/">#789</a>\n\n</BODY>\n</HTML>
STATUS:CONFIRMED
CLASS:PUBLIC
URL:https://www.golnetwork.com/game/v/155421/
X-MICROSOFT-CDO-BUSYSTATUS:BUSY
X-MICROSOFT-CDO-IMPORTANCE:1
END:VEVENT
BEGIN:VEVENT
UID:gfo3k@games.golnetwork.com
LOCATION:Central Tech - Field 3
CREATED:20200204T172244Z
DTSTART:20200324T020000Z
DTEND:20200324T030000Z
DTSTAMP:20260421T015302Z
SUMMARY:Tie Dye vs. F.C. Klick
DESCRIPTION:F.C. Klick vs. Tie DyeMore info: #792
X-ALT-DESC;FMTTYPE=text/html:<!DOCTYPE HTML PUBLIC "-//W3C//DTD HTML 3.2//E
	N">\n<HTML>\n<HEAD>\n<TITLE></TITLE>\n</HEAD>\n<BODY>\n<h3>F.C. Klick vs. T
	ie Dye</h3>More info: <a href="https://www.golnetwork.com/game/v/155422/">#
	792</a>\n\n</BODY>\n</HTML>
STATUS:CONFIRMED
CLASS:PUBLIC
URL:https://www.golnetwork.com/game/v/155422/
X-MICROSOFT-CDO-BUSYSTATUS:BUSY
X-MICROSOFT-CDO-IMPORTANCE:1
END:VEVENT
BEGIN:VEVENT
UID:gfo3m@games.golnetwork.com
LOCATION:Central Tech - Field 3
CREATED:20200204T172255Z
DTSTART:20200324T030000Z
DTEND:20200324T040000Z
DTSTAMP:20260421T015302Z
SUMMARY:Hooligans vs. FIFA '98 for Sega Dreamcast
DESCRIPTION:FIFA '98 for Sega Dreamcast vs. HooligansMore info: #795
X-ALT-DESC;FMTTYPE=text/html:<!DOCTYPE HTML PUBLIC "-//W3C//DTD HTML 3.2//E
	N">\n<HTML>\n<HEAD>\n<TITLE></TITLE>\n</HEAD>\n<BODY>\n<h3>FIFA '98 for Seg
	a Dreamcast vs. Hooligans</h3>More info: <a href="https://www.golnetwork.co
	m/game/v/155423/">#795</a>\n\n</BODY>\n</HTML>
STATUS:CONFIRMED
CLASS:PUBLIC
URL:https://www.golnetwork.com/game/v/155423/
X-MICROSOFT-CDO-BUSYSTATUS:BUSY
X-MICROSOFT-CDO-IMPORTANCE:1
END:VEVENT
BEGIN:VEVENT
UID:gfo3o@games.golnetwork.com
LOCATION:Central Tech - Field 2
GEO:43.6637272;-79.4087613
CREATED:20200204T172345Z
DTSTART:20200331T030000Z
DTEND:20200331T040000Z
DTSTAMP:20260421T015302Z
SUMMARY:TBD* vs. TBD*
DESCRIPTION:TBD* vs. TBD*More info: #864
X-ALT-DESC;FMTTYPE=text/html:<!DOCTYPE HTML PUBLIC "-//W3C//DTD HTML 3.2//E
	N">\n<HTML>\n<HEAD>\n<TITLE></TITLE>\n</HEAD>\n<BODY>\n<h3>TBD* vs. TBD*</h
	3>More info: <a href="https://www.golnetwork.com/game/v/155424/">#864</a>\n
	\n</BODY>\n</HTML>
STATUS:CONFIRMED
CLASS:PUBLIC
URL:https://www.golnetwork.com/game/v/155424/
X-MICROSOFT-CDO-BUSYSTATUS:BUSY
X-MICROSOFT-CDO-IMPORTANCE:1
END:VEVENT
BEGIN:VEVENT
UID:gfo3q@games.golnetwork.com
LOCATION:Central Tech - Field 3
CREATED:20200204T172347Z
DTSTART:20200331T030000Z
DTEND:20200331T040000Z
DTSTAMP:20260421T015302Z
SUMMARY:TBD* vs. TBD*
DESCRIPTION:TBD* vs. TBD*More info: #865
X-ALT-DESC;FMTTYPE=text/html:<!DOCTYPE HTML PUBLIC "-//W3C//DTD HTML 3.2//E
	N">\n<HTML>\n<HEAD>\n<TITLE></TITLE>\n</HEAD>\n<BODY>\n<h3>TBD* vs. TBD*</h
	3>More info: <a href="https://www.golnetwork.com/game/v/155425/">#865</a>\n
	\n</BODY>\n</HTML>
STATUS:CONFIRMED
CLASS:PUBLIC
URL:https://www.golnetwork.com/game/v/155425/
X-MICROSOFT-CDO-BUSYSTATUS:BUSY
X-MICROSOFT-CDO-IMPORTANCE:1
END:VEVENT
BEGIN:VEVENT
UID:gfo45@games.golnetwork.com
LOCATION:Central Tech - Field 3
CREATED:20200204T172402Z
DTSTART:20200407T010000Z
DTEND:20200407T020000Z
DTSTAMP:20260421T015302Z
SUMMARY:TBD* vs. TBD*
DESCRIPTION:TBD* vs. TBD*More info: #920
X-ALT-DESC;FMTTYPE=text/html:<!DOCTYPE HTML PUBLIC "-//W3C//DTD HTML 3.2//E
	N">\n<HTML>\n<HEAD>\n<TITLE></TITLE>\n</HEAD>\n<BODY>\n<h3>TBD* vs. TBD*</h
	3>More info: <a href="https://www.golnetwork.com/game/v/155428/">#920</a>\n
	\n</BODY>\n</HTML>
STATUS:CONFIRMED
CLASS:PUBLIC
URL:https://www.golnetwork.com/game/v/155428/
X-MICROSOFT-CDO-BUSYSTATUS:BUSY
X-MICROSOFT-CDO-IMPORTANCE:1
END:VEVENT
BEGIN:VEVENT
UID:gfo41@games.golnetwork.com
LOCATION:Central Tech - Field 2
GEO:43.6637272;-79.4087613
CREATED:20200204T172356Z
DTSTART:20200407T020000Z
DTEND:20200407T030000Z
DTSTAMP:20260421T015302Z
SUMMARY:TBD* vs. TBD*
DESCRIPTION:TBD* vs. TBD*More info: #922
X-ALT-DESC;FMTTYPE=text/html:<!DOCTYPE HTML PUBLIC "-//W3C//DTD HTML 3.2//E
	N">\n<HTML>\n<HEAD>\n<TITLE></TITLE>\n</HEAD>\n<BODY>\n<h3>TBD* vs. TBD*</h
	3>More info: <a href="https://www.golnetwork.com/game/v/155426/">#922</a>\n
	\n</BODY>\n</HTML>
STATUS:CONFIRMED
CLASS:PUBLIC
URL:https://www.golnetwork.com/game/v/155426/
X-MICROSOFT-CDO-BUSYSTATUS:BUSY
X-MICROSOFT-CDO-IMPORTANCE:1
END:VEVENT
BEGIN:VEVENT
UID:gfo43@games.golnetwork.com
LOCATION:Central Tech - Field 3
CREATED:20200204T172359Z
DTSTART:20200407T020000Z
DTEND:20200407T030000Z
DTSTAMP:20260421T015302Z
SUMMARY:TBD* vs. TBD*
DESCRIPTION:TBD* vs. TBD*More info: #923
X-ALT-DESC;FMTTYPE=text/html:<!DOCTYPE HTML PUBLIC "-//W3C//DTD HTML 3.2//E
	N">\n<HTML>\n<HEAD>\n<TITLE></TITLE>\n</HEAD>\n<BODY>\n<h3>TBD* vs. TBD*</h
	3>More info: <a href="https://www.golnetwork.com/game/v/155427/">#923</a>\n
	\n</BODY>\n</HTML>
STATUS:CONFIRMED
CLASS:PUBLIC
URL:https://www.golnetwork.com/game/v/155427/
X-MICROSOFT-CDO-BUSYSTATUS:BUSY
X-MICROSOFT-CDO-IMPORTANCE:1
END:VEVENT
END:VCALENDAR
