BEGIN:VCALENDAR
PRODID:-//gdesolutions.com//MV Framework 1.0.0.1607 Calendar//EN
VERSION:2.0
METHOD:PUBLISH
CALSCALE:GREGORIAN
BEGIN:VEVENT
UID:gfo0h@games.golnetwork.com
LOCATION:Lamport Stadium - Field 1
GEO:43.6390028;-79.4232104
CREATED:20200203T195957Z
DTSTART:20200208T170000Z
DTEND:20200208T180000Z
DTSTAMP:20260421T045301Z
SUMMARY:Lads on Touré vs. Sporting Chance
DESCRIPTION:Sporting Chance vs. Lads on TouréMore info: #219
X-ALT-DESC;FMTTYPE=text/html:<!DOCTYPE HTML PUBLIC "-//W3C//DTD HTML 3.2//E
	N">\n<HTML>\n<HEAD>\n<TITLE></TITLE>\n</HEAD>\n<BODY>\n<h3>Sporting Chance 
	vs. Lads on Touré</h3>More info: <a href="https://www.golnetwork.com/game/
	v/155380/">#219</a>\n\n</BODY>\n</HTML>
STATUS:CONFIRMED
CLASS:PUBLIC
URL:https://www.golnetwork.com/game/v/155380/
X-MICROSOFT-CDO-BUSYSTATUS:BUSY
X-MICROSOFT-CDO-IMPORTANCE:1
END:VEVENT
BEGIN:VEVENT
UID:gfo0j@games.golnetwork.com
LOCATION:Lamport Stadium - Field 1
GEO:43.6390028;-79.4232104
CREATED:20200203T200005Z
DTSTART:20200208T180000Z
DTEND:20200208T190000Z
DTSTAMP:20260421T045301Z
SUMMARY:Lads on Touré vs. XTSC Force
DESCRIPTION:XTSC Force vs. Lads on TouréMore info: #220
X-ALT-DESC;FMTTYPE=text/html:<!DOCTYPE HTML PUBLIC "-//W3C//DTD HTML 3.2//E
	N">\n<HTML>\n<HEAD>\n<TITLE></TITLE>\n</HEAD>\n<BODY>\n<h3>XTSC Force vs. L
	ads on Touré</h3>More info: <a href="https://www.golnetwork.com/game/v/155
	381/">#220</a>\n\n</BODY>\n</HTML>
STATUS:CONFIRMED
CLASS:PUBLIC
URL:https://www.golnetwork.com/game/v/155381/
X-MICROSOFT-CDO-BUSYSTATUS:BUSY
X-MICROSOFT-CDO-IMPORTANCE:1
END:VEVENT
BEGIN:VEVENT
UID:gfo7e@games.golnetwork.com
LOCATION:Lamport Stadium - Field 3
GEO:43.6390028;-79.4232104
CREATED:20200205T162808Z
DTSTART:20200208T210000Z
DTEND:20200208T220000Z
DTSTAMP:20260421T045301Z
SUMMARY:Moocho Grassy Ass vs. We Wear Black
DESCRIPTION:We Wear Black vs. Moocho Grassy AssMore info: #225
X-ALT-DESC;FMTTYPE=text/html:<!DOCTYPE HTML PUBLIC "-//W3C//DTD HTML 3.2//E
	N">\n<HTML>\n<HEAD>\n<TITLE></TITLE>\n</HEAD>\n<BODY>\n<h3>We Wear Black vs
	. Moocho Grassy Ass</h3>More info: <a href="https://www.golnetwork.com/game
	/v/155473/">#225</a>\n\n</BODY>\n</HTML>
STATUS:CONFIRMED
CLASS:PUBLIC
URL:https://www.golnetwork.com/game/v/155473/
X-MICROSOFT-CDO-BUSYSTATUS:BUSY
X-MICROSOFT-CDO-IMPORTANCE:1
END:VEVENT
BEGIN:VEVENT
UID:gfp1p@games.golnetwork.com
LOCATION:Lamport Stadium - Field 3
GEO:43.6390028;-79.4232104
CREATED:20200210T161445Z
DTSTART:20200215T180000Z
DTEND:20200215T190000Z
DTSTAMP:20260421T045301Z
SUMMARY:Sporting Chance vs. XTSC Force
DESCRIPTION:XTSC Force vs. Sporting ChanceMore info: #308
X-ALT-DESC;FMTTYPE=text/html:<!DOCTYPE HTML PUBLIC "-//W3C//DTD HTML 3.2//E
	N">\n<HTML>\n<HEAD>\n<TITLE></TITLE>\n</HEAD>\n<BODY>\n<h3>XTSC Force vs. S
	porting Chance</h3>More info: <a href="https://www.golnetwork.com/game/v/15
	5762/">#308</a>\n\n</BODY>\n</HTML>
STATUS:CONFIRMED
CLASS:PUBLIC
URL:https://www.golnetwork.com/game/v/155762/
X-MICROSOFT-CDO-BUSYSTATUS:BUSY
X-MICROSOFT-CDO-IMPORTANCE:1
END:VEVENT
BEGIN:VEVENT
UID:gfp20@games.golnetwork.com
LOCATION:Lamport Stadium - Field 3
GEO:43.6390028;-79.4232104
CREATED:20200210T161453Z
DTSTART:20200215T190000Z
DTEND:20200215T200000Z
DTSTAMP:20260421T045301Z
SUMMARY:Moocho Grassy Ass vs. XTSC Force
DESCRIPTION:XTSC Force vs. Moocho Grassy AssMore info: #310
X-ALT-DESC;FMTTYPE=text/html:<!DOCTYPE HTML PUBLIC "-//W3C//DTD HTML 3.2//E
	N">\n<HTML>\n<HEAD>\n<TITLE></TITLE>\n</HEAD>\n<BODY>\n<h3>XTSC Force vs. M
	oocho Grassy Ass</h3>More info: <a href="https://www.golnetwork.com/game/v/
	155763/">#310</a>\n\n</BODY>\n</HTML>
STATUS:CONFIRMED
CLASS:PUBLIC
URL:https://www.golnetwork.com/game/v/155763/
X-MICROSOFT-CDO-BUSYSTATUS:BUSY
X-MICROSOFT-CDO-IMPORTANCE:1
END:VEVENT
BEGIN:VEVENT
UID:gfp22@games.golnetwork.com
LOCATION:Lamport Stadium - Field 3
GEO:43.6390028;-79.4232104
CREATED:20200210T161500Z
DTSTART:20200215T200000Z
DTEND:20200215T210000Z
DTSTAMP:20260421T045301Z
SUMMARY:Lads on Touré vs. We Wear Black
DESCRIPTION:We Wear Black vs. Lads on TouréMore info: #312
X-ALT-DESC;FMTTYPE=text/html:<!DOCTYPE HTML PUBLIC "-//W3C//DTD HTML 3.2//E
	N">\n<HTML>\n<HEAD>\n<TITLE></TITLE>\n</HEAD>\n<BODY>\n<h3>We Wear Black vs
	. Lads on Touré</h3>More info: <a href="https://www.golnetwork.com/game/v/
	155764/">#312</a>\n\n</BODY>\n</HTML>
STATUS:CONFIRMED
CLASS:PUBLIC
URL:https://www.golnetwork.com/game/v/155764/
X-MICROSOFT-CDO-BUSYSTATUS:BUSY
X-MICROSOFT-CDO-IMPORTANCE:1
END:VEVENT
BEGIN:VEVENT
UID:gfphp@games.golnetwork.com
LOCATION:Lamport Stadium - Field 3
GEO:43.6390028;-79.4232104
CREATED:20200212T200455Z
DTSTART:20200222T190000Z
DTEND:20200222T200000Z
DTSTAMP:20260421T045301Z
SUMMARY:Moocho Grassy Ass vs. Lads on Touré
DESCRIPTION:Lads on Touré vs. Moocho Grassy AssMore info: #387
X-ALT-DESC;FMTTYPE=text/html:<!DOCTYPE HTML PUBLIC "-//W3C//DTD HTML 3.2//E
	N">\n<HTML>\n<HEAD>\n<TITLE></TITLE>\n</HEAD>\n<BODY>\n<h3>Lads on Touré v
	s. Moocho Grassy Ass</h3>More info: <a href="https://www.golnetwork.com/gam
	e/v/155978/">#387</a>\n\n</BODY>\n</HTML>
STATUS:CONFIRMED
CLASS:PUBLIC
URL:https://www.golnetwork.com/game/v/155978/
X-MICROSOFT-CDO-BUSYSTATUS:BUSY
X-MICROSOFT-CDO-IMPORTANCE:1
END:VEVENT
BEGIN:VEVENT
UID:gfpi0@games.golnetwork.com
LOCATION:Lamport Stadium - Field 3
GEO:43.6390028;-79.4232104
CREATED:20200212T200506Z
DTSTART:20200222T200000Z
DTEND:20200222T210000Z
DTSTAMP:20260421T045301Z
SUMMARY:XTSC Force vs. We Wear Black
DESCRIPTION:We Wear Black vs. XTSC ForceMore info: #388
X-ALT-DESC;FMTTYPE=text/html:<!DOCTYPE HTML PUBLIC "-//W3C//DTD HTML 3.2//E
	N">\n<HTML>\n<HEAD>\n<TITLE></TITLE>\n</HEAD>\n<BODY>\n<h3>We Wear Black vs
	. XTSC Force</h3>More info: <a href="https://www.golnetwork.com/game/v/1559
	79/">#388</a>\n\n</BODY>\n</HTML>
STATUS:CONFIRMED
CLASS:PUBLIC
URL:https://www.golnetwork.com/game/v/155979/
X-MICROSOFT-CDO-BUSYSTATUS:BUSY
X-MICROSOFT-CDO-IMPORTANCE:1
END:VEVENT
BEGIN:VEVENT
UID:gfpi2@games.golnetwork.com
LOCATION:Lamport Stadium - Field 3
GEO:43.6390028;-79.4232104
CREATED:20200212T200513Z
DTSTART:20200222T210000Z
DTEND:20200222T220000Z
DTSTAMP:20260421T045301Z
SUMMARY:Sporting Chance vs. We Wear Black
DESCRIPTION:We Wear Black vs. Sporting ChanceMore info: #391
X-ALT-DESC;FMTTYPE=text/html:<!DOCTYPE HTML PUBLIC "-//W3C//DTD HTML 3.2//E
	N">\n<HTML>\n<HEAD>\n<TITLE></TITLE>\n</HEAD>\n<BODY>\n<h3>We Wear Black vs
	. Sporting Chance</h3>More info: <a href="https://www.golnetwork.com/game/v
	/155980/">#391</a>\n\n</BODY>\n</HTML>
STATUS:CONFIRMED
CLASS:PUBLIC
URL:https://www.golnetwork.com/game/v/155980/
X-MICROSOFT-CDO-BUSYSTATUS:BUSY
X-MICROSOFT-CDO-IMPORTANCE:1
END:VEVENT
BEGIN:VEVENT
UID:gfpi4@games.golnetwork.com
LOCATION:Lamport Stadium - Field 3
GEO:43.6390028;-79.4232104
CREATED:20200212T200549Z
DTSTART:20200229T180000Z
DTEND:20200229T190000Z
DTSTAMP:20260421T045301Z
SUMMARY:Sporting Chance vs. Moocho Grassy Ass
DESCRIPTION:Moocho Grassy Ass vs. Sporting ChanceMore info: #496
X-ALT-DESC;FMTTYPE=text/html:<!DOCTYPE HTML PUBLIC "-//W3C//DTD HTML 3.2//E
	N">\n<HTML>\n<HEAD>\n<TITLE></TITLE>\n</HEAD>\n<BODY>\n<h3>Moocho Grassy As
	s vs. Sporting Chance</h3>More info: <a href="https://www.golnetwork.com/ga
	me/v/155981/">#496</a>\n\n</BODY>\n</HTML>
STATUS:CONFIRMED
CLASS:PUBLIC
URL:https://www.golnetwork.com/game/v/155981/
X-MICROSOFT-CDO-BUSYSTATUS:BUSY
X-MICROSOFT-CDO-IMPORTANCE:1
END:VEVENT
BEGIN:VEVENT
UID:gfpi6@games.golnetwork.com
LOCATION:Lamport Stadium - Field 3
GEO:43.6390028;-79.4232104
CREATED:20200212T200556Z
DTSTART:20200229T190000Z
DTEND:20200229T200000Z
DTSTAMP:20260421T045301Z
SUMMARY:We Wear Black vs. Moocho Grassy Ass
DESCRIPTION:Moocho Grassy Ass vs. We Wear BlackMore info: #498
X-ALT-DESC;FMTTYPE=text/html:<!DOCTYPE HTML PUBLIC "-//W3C//DTD HTML 3.2//E
	N">\n<HTML>\n<HEAD>\n<TITLE></TITLE>\n</HEAD>\n<BODY>\n<h3>Moocho Grassy As
	s vs. We Wear Black</h3>More info: <a href="https://www.golnetwork.com/game
	/v/155982/">#498</a>\n\n</BODY>\n</HTML>
STATUS:CONFIRMED
CLASS:PUBLIC
URL:https://www.golnetwork.com/game/v/155982/
X-MICROSOFT-CDO-BUSYSTATUS:BUSY
X-MICROSOFT-CDO-IMPORTANCE:1
END:VEVENT
BEGIN:VEVENT
UID:gfpi8@games.golnetwork.com
LOCATION:Lamport Stadium - Field 3
GEO:43.6390028;-79.4232104
CREATED:20200212T200604Z
DTSTART:20200229T220000Z
DTEND:20200229T230000Z
DTSTAMP:20260421T045301Z
SUMMARY:XTSC Force vs. Lads on Touré
DESCRIPTION:Lads on Touré vs. XTSC ForceMore info: #504
X-ALT-DESC;FMTTYPE=text/html:<!DOCTYPE HTML PUBLIC "-//W3C//DTD HTML 3.2//E
	N">\n<HTML>\n<HEAD>\n<TITLE></TITLE>\n</HEAD>\n<BODY>\n<h3>Lads on Touré v
	s. XTSC Force</h3>More info: <a href="https://www.golnetwork.com/game/v/155
	983/">#504</a>\n\n</BODY>\n</HTML>
STATUS:CONFIRMED
CLASS:PUBLIC
URL:https://www.golnetwork.com/game/v/155983/
X-MICROSOFT-CDO-BUSYSTATUS:BUSY
X-MICROSOFT-CDO-IMPORTANCE:1
END:VEVENT
BEGIN:VEVENT
UID:gfpic@games.golnetwork.com
LOCATION:Lamport Stadium - Field 1
GEO:43.6390028;-79.4232104
CREATED:20200212T200630Z
DTSTART:20200307T210000Z
DTEND:20200307T220000Z
DTSTAMP:20260421T045301Z
SUMMARY:Sporting Chance vs. XTSC Force
DESCRIPTION:XTSC Force vs. Sporting ChanceMore info: #606
X-ALT-DESC;FMTTYPE=text/html:<!DOCTYPE HTML PUBLIC "-//W3C//DTD HTML 3.2//E
	N">\n<HTML>\n<HEAD>\n<TITLE></TITLE>\n</HEAD>\n<BODY>\n<h3>XTSC Force vs. S
	porting Chance</h3>More info: <a href="https://www.golnetwork.com/game/v/15
	5985/">#606</a>\n\n</BODY>\n</HTML>
STATUS:CONFIRMED
CLASS:PUBLIC
URL:https://www.golnetwork.com/game/v/155985/
X-MICROSOFT-CDO-BUSYSTATUS:BUSY
X-MICROSOFT-CDO-IMPORTANCE:1
END:VEVENT
BEGIN:VEVENT
UID:gfpia@games.golnetwork.com
LOCATION:Lamport Stadium - Field 2
GEO:43.6390028;-79.4232104
CREATED:20200212T200616Z
DTSTART:20200307T210000Z
DTEND:20200307T220000Z
DTSTAMP:20260421T045301Z
SUMMARY:Lads on Touré vs. Moocho Grassy Ass
DESCRIPTION:Moocho Grassy Ass vs. Lads on TouréMore info: #607
X-ALT-DESC;FMTTYPE=text/html:<!DOCTYPE HTML PUBLIC "-//W3C//DTD HTML 3.2//E
	N">\n<HTML>\n<HEAD>\n<TITLE></TITLE>\n</HEAD>\n<BODY>\n<h3>Moocho Grassy As
	s vs. Lads on Touré</h3>More info: <a href="https://www.golnetwork.com/gam
	e/v/155984/">#607</a>\n\n</BODY>\n</HTML>
STATUS:CONFIRMED
CLASS:PUBLIC
URL:https://www.golnetwork.com/game/v/155984/
X-MICROSOFT-CDO-BUSYSTATUS:BUSY
X-MICROSOFT-CDO-IMPORTANCE:1
END:VEVENT
BEGIN:VEVENT
UID:gfpie@games.golnetwork.com
LOCATION:Lamport Stadium - Field 1
GEO:43.6390028;-79.4232104
CREATED:20200212T200639Z
DTSTART:20200307T220000Z
DTEND:20200307T230000Z
DTSTAMP:20260421T045301Z
SUMMARY:Sporting Chance vs. We Wear Black
DESCRIPTION:We Wear Black vs. Sporting ChanceMore info: #608
X-ALT-DESC;FMTTYPE=text/html:<!DOCTYPE HTML PUBLIC "-//W3C//DTD HTML 3.2//E
	N">\n<HTML>\n<HEAD>\n<TITLE></TITLE>\n</HEAD>\n<BODY>\n<h3>We Wear Black vs
	. Sporting Chance</h3>More info: <a href="https://www.golnetwork.com/game/v
	/155986/">#608</a>\n\n</BODY>\n</HTML>
STATUS:CONFIRMED
CLASS:PUBLIC
URL:https://www.golnetwork.com/game/v/155986/
X-MICROSOFT-CDO-BUSYSTATUS:BUSY
X-MICROSOFT-CDO-IMPORTANCE:1
END:VEVENT
BEGIN:VEVENT
UID:gfpig@games.golnetwork.com
LOCATION:Lamport Stadium - Field 2
GEO:43.6390028;-79.4232104
CREATED:20200212T200652Z
DTSTART:20200314T170000Z
DTEND:20200314T180000Z
DTSTAMP:20260421T045301Z
SUMMARY:Lads on Touré vs. We Wear Black
DESCRIPTION:We Wear Black vs. Lads on TouréMore info: #696
X-ALT-DESC;FMTTYPE=text/html:<!DOCTYPE HTML PUBLIC "-//W3C//DTD HTML 3.2//E
	N">\n<HTML>\n<HEAD>\n<TITLE></TITLE>\n</HEAD>\n<BODY>\n<h3>We Wear Black vs
	. Lads on Touré</h3>More info: <a href="https://www.golnetwork.com/game/v/
	155987/">#696</a>\n\n</BODY>\n</HTML>
STATUS:CONFIRMED
CLASS:PUBLIC
URL:https://www.golnetwork.com/game/v/155987/
X-MICROSOFT-CDO-BUSYSTATUS:BUSY
X-MICROSOFT-CDO-IMPORTANCE:1
END:VEVENT
BEGIN:VEVENT
UID:gfpii@games.golnetwork.com
LOCATION:Lamport Stadium - Field 2
GEO:43.6390028;-79.4232104
CREATED:20200212T200700Z
DTSTART:20200314T180000Z
DTEND:20200314T190000Z
DTSTAMP:20260421T045301Z
SUMMARY:Lads on Touré vs. Sporting Chance
DESCRIPTION:Sporting Chance vs. Lads on TouréMore info: #698
X-ALT-DESC;FMTTYPE=text/html:<!DOCTYPE HTML PUBLIC "-//W3C//DTD HTML 3.2//E
	N">\n<HTML>\n<HEAD>\n<TITLE></TITLE>\n</HEAD>\n<BODY>\n<h3>Sporting Chance 
	vs. Lads on Touré</h3>More info: <a href="https://www.golnetwork.com/game/
	v/155988/">#698</a>\n\n</BODY>\n</HTML>
STATUS:CONFIRMED
CLASS:PUBLIC
URL:https://www.golnetwork.com/game/v/155988/
X-MICROSOFT-CDO-BUSYSTATUS:BUSY
X-MICROSOFT-CDO-IMPORTANCE:1
END:VEVENT
BEGIN:VEVENT
UID:gfpik@games.golnetwork.com
LOCATION:Lamport Stadium - Field 3
GEO:43.6390028;-79.4232104
CREATED:20200212T200710Z
DTSTART:20200314T190000Z
DTEND:20200314T200000Z
DTSTAMP:20260421T045301Z
SUMMARY:Moocho Grassy Ass vs. XTSC Force
DESCRIPTION:XTSC Force vs. Moocho Grassy AssMore info: #700
X-ALT-DESC;FMTTYPE=text/html:<!DOCTYPE HTML PUBLIC "-//W3C//DTD HTML 3.2//E
	N">\n<HTML>\n<HEAD>\n<TITLE></TITLE>\n</HEAD>\n<BODY>\n<h3>XTSC Force vs. M
	oocho Grassy Ass</h3>More info: <a href="https://www.golnetwork.com/game/v/
	155989/">#700</a>\n\n</BODY>\n</HTML>
STATUS:CONFIRMED
CLASS:PUBLIC
URL:https://www.golnetwork.com/game/v/155989/
X-MICROSOFT-CDO-BUSYSTATUS:BUSY
X-MICROSOFT-CDO-IMPORTANCE:1
END:VEVENT
BEGIN:VEVENT
UID:gfpio@games.golnetwork.com
LOCATION:Lamport Stadium - Field 3
GEO:43.6390028;-79.4232104
CREATED:20200212T200732Z
DTSTART:20200321T180000Z
DTEND:20200321T190000Z
DTSTAMP:20260421T045301Z
SUMMARY:We Wear Black vs. XTSC Force
DESCRIPTION:XTSC Force vs. We Wear BlackMore info: #780
X-ALT-DESC;FMTTYPE=text/html:<!DOCTYPE HTML PUBLIC "-//W3C//DTD HTML 3.2//E
	N">\n<HTML>\n<HEAD>\n<TITLE></TITLE>\n</HEAD>\n<BODY>\n<h3>XTSC Force vs. W
	e Wear Black</h3>More info: <a href="https://www.golnetwork.com/game/v/1559
	91/">#780</a>\n\n</BODY>\n</HTML>
STATUS:CONFIRMED
CLASS:PUBLIC
URL:https://www.golnetwork.com/game/v/155991/
X-MICROSOFT-CDO-BUSYSTATUS:BUSY
X-MICROSOFT-CDO-IMPORTANCE:1
END:VEVENT
BEGIN:VEVENT
UID:gfpim@games.golnetwork.com
LOCATION:Lamport Stadium - Field 3
GEO:43.6390028;-79.4232104
CREATED:20200212T200720Z
DTSTART:20200321T190000Z
DTEND:20200321T200000Z
DTSTAMP:20260421T045301Z
SUMMARY:Moocho Grassy Ass vs. Sporting Chance
DESCRIPTION:Sporting Chance vs. Moocho Grassy AssMore info: #782
X-ALT-DESC;FMTTYPE=text/html:<!DOCTYPE HTML PUBLIC "-//W3C//DTD HTML 3.2//E
	N">\n<HTML>\n<HEAD>\n<TITLE></TITLE>\n</HEAD>\n<BODY>\n<h3>Sporting Chance 
	vs. Moocho Grassy Ass</h3>More info: <a href="https://www.golnetwork.com/ga
	me/v/155990/">#782</a>\n\n</BODY>\n</HTML>
STATUS:CONFIRMED
CLASS:PUBLIC
URL:https://www.golnetwork.com/game/v/155990/
X-MICROSOFT-CDO-BUSYSTATUS:BUSY
X-MICROSOFT-CDO-IMPORTANCE:1
END:VEVENT
BEGIN:VEVENT
UID:gfpiq@games.golnetwork.com
LOCATION:Lamport Stadium - Field 1
GEO:43.6390028;-79.4232104
CREATED:20200212T200918Z
DTSTART:20200328T200000Z
DTEND:20200328T210000Z
DTSTAMP:20260421T045301Z
SUMMARY:TBD* vs. TBD*
DESCRIPTION:TBD* vs. TBD*More info: #851
X-ALT-DESC;FMTTYPE=text/html:<!DOCTYPE HTML PUBLIC "-//W3C//DTD HTML 3.2//E
	N">\n<HTML>\n<HEAD>\n<TITLE></TITLE>\n</HEAD>\n<BODY>\n<h3>TBD* vs. TBD*</h
	3>More info: <a href="https://www.golnetwork.com/game/v/155992/">#851</a>\n
	\n</BODY>\n</HTML>
STATUS:CONFIRMED
CLASS:PUBLIC
URL:https://www.golnetwork.com/game/v/155992/
X-MICROSOFT-CDO-BUSYSTATUS:BUSY
X-MICROSOFT-CDO-IMPORTANCE:1
END:VEVENT
BEGIN:VEVENT
UID:gfpj1@games.golnetwork.com
LOCATION:Lamport Stadium - Field 2
GEO:43.6390028;-79.4232104
CREATED:20200212T200926Z
DTSTART:20200404T200000Z
DTEND:20200404T210000Z
DTSTAMP:20260421T045301Z
SUMMARY:TBD* vs. TBD*
DESCRIPTION:TBD* vs. TBD*More info: #912
X-ALT-DESC;FMTTYPE=text/html:<!DOCTYPE HTML PUBLIC "-//W3C//DTD HTML 3.2//E
	N">\n<HTML>\n<HEAD>\n<TITLE></TITLE>\n</HEAD>\n<BODY>\n<h3>TBD* vs. TBD*</h
	3>More info: <a href="https://www.golnetwork.com/game/v/155993/">#912</a>\n
	\n</BODY>\n</HTML>
STATUS:CONFIRMED
CLASS:PUBLIC
URL:https://www.golnetwork.com/game/v/155993/
X-MICROSOFT-CDO-BUSYSTATUS:BUSY
X-MICROSOFT-CDO-IMPORTANCE:1
END:VEVENT
BEGIN:VEVENT
UID:gfpj3@games.golnetwork.com
LOCATION:Lamport Stadium - Field 2
GEO:43.6390028;-79.4232104
CREATED:20200212T200930Z
DTSTART:20200404T210000Z
DTEND:20200404T220000Z
DTSTAMP:20260421T045301Z
SUMMARY:TBD* vs. TBD*
DESCRIPTION:TBD* vs. TBD*More info: #914
X-ALT-DESC;FMTTYPE=text/html:<!DOCTYPE HTML PUBLIC "-//W3C//DTD HTML 3.2//E
	N">\n<HTML>\n<HEAD>\n<TITLE></TITLE>\n</HEAD>\n<BODY>\n<h3>TBD* vs. TBD*</h
	3>More info: <a href="https://www.golnetwork.com/game/v/155994/">#914</a>\n
	\n</BODY>\n</HTML>
STATUS:CONFIRMED
CLASS:PUBLIC
URL:https://www.golnetwork.com/game/v/155994/
X-MICROSOFT-CDO-BUSYSTATUS:BUSY
X-MICROSOFT-CDO-IMPORTANCE:1
END:VEVENT
END:VCALENDAR
