BEGIN:VCALENDAR
PRODID:-//gdesolutions.com//MV Framework 1.0.0.1607 Calendar//EN
VERSION:2.0
METHOD:PUBLISH
CALSCALE:GREGORIAN
BEGIN:VEVENT
UID:gfqib@games.golnetwork.com
LOCATION:Lamport Stadium - Field 3
GEO:43.6390028;-79.4232104
CREATED:20200219T191249Z
DTSTART:20200218T230000Z
DTEND:20200219T000000Z
DTSTAMP:20260420T131511Z
SUMMARY:Sundowns vs. Liberty Street Hooligans
DESCRIPTION:Liberty Street Hooligans vs. SundownsMore info: #330
X-ALT-DESC;FMTTYPE=text/html:<!DOCTYPE HTML PUBLIC "-//W3C//DTD HTML 3.2//E
	N">\n<HTML>\n<HEAD>\n<TITLE></TITLE>\n</HEAD>\n<BODY>\n<h3>Liberty Street H
	ooligans vs. Sundowns</h3>More info: <a href="https://www.golnetwork.com/ga
	me/v/156349/">#330</a>\n\n</BODY>\n</HTML>
STATUS:CONFIRMED
CLASS:PUBLIC
URL:https://www.golnetwork.com/game/v/156349/
X-MICROSOFT-CDO-BUSYSTATUS:BUSY
X-MICROSOFT-CDO-IMPORTANCE:1
END:VEVENT
BEGIN:VEVENT
UID:gfqid@games.golnetwork.com
LOCATION:Lamport Stadium - Field 3
GEO:43.6390028;-79.4232104
CREATED:20200219T191257Z
DTSTART:20200219T010000Z
DTEND:20200219T020000Z
DTSTAMP:20260420T131511Z
SUMMARY:MO Better F.U. vs. The Grass Kickers
DESCRIPTION:The Grass Kickers vs. MO Better F.U.More info: #335
X-ALT-DESC;FMTTYPE=text/html:<!DOCTYPE HTML PUBLIC "-//W3C//DTD HTML 3.2//E
	N">\n<HTML>\n<HEAD>\n<TITLE></TITLE>\n</HEAD>\n<BODY>\n<h3>The Grass Kicker
	s vs. MO Better F.U.</h3>More info: <a href="https://www.golnetwork.com/gam
	e/v/156350/">#335</a>\n\n</BODY>\n</HTML>
STATUS:CONFIRMED
CLASS:PUBLIC
URL:https://www.golnetwork.com/game/v/156350/
X-MICROSOFT-CDO-BUSYSTATUS:BUSY
X-MICROSOFT-CDO-IMPORTANCE:1
END:VEVENT
BEGIN:VEVENT
UID:gfqif@games.golnetwork.com
LOCATION:Lamport Stadium - Field 2
GEO:43.6390028;-79.4232104
CREATED:20200219T191308Z
DTSTART:20200219T030000Z
DTEND:20200219T040000Z
DTSTAMP:20260420T131511Z
SUMMARY:West End Hooligans vs. Vandelay Industries
DESCRIPTION:Vandelay Industries vs. West End HooligansMore info: #343
X-ALT-DESC;FMTTYPE=text/html:<!DOCTYPE HTML PUBLIC "-//W3C//DTD HTML 3.2//E
	N">\n<HTML>\n<HEAD>\n<TITLE></TITLE>\n</HEAD>\n<BODY>\n<h3>Vandelay Industr
	ies vs. West End Hooligans</h3>More info: <a href="https://www.golnetwork.c
	om/game/v/156351/">#343</a>\n\n</BODY>\n</HTML>
STATUS:CONFIRMED
CLASS:PUBLIC
URL:https://www.golnetwork.com/game/v/156351/
X-MICROSOFT-CDO-BUSYSTATUS:BUSY
X-MICROSOFT-CDO-IMPORTANCE:1
END:VEVENT
BEGIN:VEVENT
UID:gfqih@games.golnetwork.com
LOCATION:Lamport Stadium - Field 2
GEO:43.6390028;-79.4232104
CREATED:20200219T191315Z
DTSTART:20200219T040000Z
DTEND:20200219T050000Z
DTSTAMP:20260420T131511Z
SUMMARY:KOHO vs. Riot Club
DESCRIPTION:Riot Club vs. KOHOMore info: #347
X-ALT-DESC;FMTTYPE=text/html:<!DOCTYPE HTML PUBLIC "-//W3C//DTD HTML 3.2//E
	N">\n<HTML>\n<HEAD>\n<TITLE></TITLE>\n</HEAD>\n<BODY>\n<h3>Riot Club vs. KO
	HO</h3>More info: <a href="https://www.golnetwork.com/game/v/156352/">#347<
	/a>\n\n</BODY>\n</HTML>
STATUS:CONFIRMED
CLASS:PUBLIC
URL:https://www.golnetwork.com/game/v/156352/
X-MICROSOFT-CDO-BUSYSTATUS:BUSY
X-MICROSOFT-CDO-IMPORTANCE:1
END:VEVENT
BEGIN:VEVENT
UID:gfqij@games.golnetwork.com
LOCATION:Lamport Stadium - Field 2
GEO:43.6390028;-79.4232104
CREATED:20200219T191326Z
DTSTART:20200225T230000Z
DTEND:20200226T000000Z
DTSTAMP:20260420T131511Z
SUMMARY:Riot Club vs. Liberty Street Hooligans
DESCRIPTION:Liberty Street Hooligans vs. Riot ClubMore info: #432
X-ALT-DESC;FMTTYPE=text/html:<!DOCTYPE HTML PUBLIC "-//W3C//DTD HTML 3.2//E
	N">\n<HTML>\n<HEAD>\n<TITLE></TITLE>\n</HEAD>\n<BODY>\n<h3>Liberty Street H
	ooligans vs. Riot Club</h3>More info: <a href="https://www.golnetwork.com/g
	ame/v/156353/">#432</a>\n\n</BODY>\n</HTML>
STATUS:CONFIRMED
CLASS:PUBLIC
URL:https://www.golnetwork.com/game/v/156353/
X-MICROSOFT-CDO-BUSYSTATUS:BUSY
X-MICROSOFT-CDO-IMPORTANCE:1
END:VEVENT
BEGIN:VEVENT
UID:gfqil@games.golnetwork.com
LOCATION:Lamport Stadium - Field 2
GEO:43.6390028;-79.4232104
CREATED:20200219T191334Z
DTSTART:20200226T000000Z
DTEND:20200226T010000Z
DTSTAMP:20260420T131511Z
SUMMARY:KOHO vs. Vandelay Industries
DESCRIPTION:Vandelay Industries vs. KOHOMore info: #434
X-ALT-DESC;FMTTYPE=text/html:<!DOCTYPE HTML PUBLIC "-//W3C//DTD HTML 3.2//E
	N">\n<HTML>\n<HEAD>\n<TITLE></TITLE>\n</HEAD>\n<BODY>\n<h3>Vandelay Industr
	ies vs. KOHO</h3>More info: <a href="https://www.golnetwork.com/game/v/1563
	54/">#434</a>\n\n</BODY>\n</HTML>
STATUS:CONFIRMED
CLASS:PUBLIC
URL:https://www.golnetwork.com/game/v/156354/
X-MICROSOFT-CDO-BUSYSTATUS:BUSY
X-MICROSOFT-CDO-IMPORTANCE:1
END:VEVENT
BEGIN:VEVENT
UID:gfqin@games.golnetwork.com
LOCATION:Lamport Stadium - Field 3
GEO:43.6390028;-79.4232104
CREATED:20200219T191345Z
DTSTART:20200226T010000Z
DTEND:20200226T020000Z
DTSTAMP:20260420T131511Z
SUMMARY:MO Better F.U. vs. Sundowns
DESCRIPTION:Sundowns vs. MO Better F.U.More info: #438
X-ALT-DESC;FMTTYPE=text/html:<!DOCTYPE HTML PUBLIC "-//W3C//DTD HTML 3.2//E
	N">\n<HTML>\n<HEAD>\n<TITLE></TITLE>\n</HEAD>\n<BODY>\n<h3>Sundowns vs. MO 
	Better F.U.</h3>More info: <a href="https://www.golnetwork.com/game/v/15635
	5/">#438</a>\n\n</BODY>\n</HTML>
STATUS:CONFIRMED
CLASS:PUBLIC
URL:https://www.golnetwork.com/game/v/156355/
X-MICROSOFT-CDO-BUSYSTATUS:BUSY
X-MICROSOFT-CDO-IMPORTANCE:1
END:VEVENT
BEGIN:VEVENT
UID:gfqip@games.golnetwork.com
LOCATION:Lamport Stadium - Field 2
GEO:43.6390028;-79.4232104
CREATED:20200219T191426Z
DTSTART:20200226T040000Z
DTEND:20200226T050000Z
DTSTAMP:20260420T131511Z
SUMMARY:West End Hooligans vs. The Grass Kickers
DESCRIPTION:The Grass Kickers vs. West End HooligansMore info: #455
X-ALT-DESC;FMTTYPE=text/html:<!DOCTYPE HTML PUBLIC "-//W3C//DTD HTML 3.2//E
	N">\n<HTML>\n<HEAD>\n<TITLE></TITLE>\n</HEAD>\n<BODY>\n<h3>The Grass Kicker
	s vs. West End Hooligans</h3>More info: <a href="https://www.golnetwork.com
	/game/v/156356/">#455</a>\n\n</BODY>\n</HTML>
STATUS:CONFIRMED
CLASS:PUBLIC
URL:https://www.golnetwork.com/game/v/156356/
X-MICROSOFT-CDO-BUSYSTATUS:BUSY
X-MICROSOFT-CDO-IMPORTANCE:1
END:VEVENT
BEGIN:VEVENT
UID:gfqj0@games.golnetwork.com
LOCATION:Lamport Stadium - Field 3
GEO:43.6390028;-79.4232104
CREATED:20200219T191438Z
DTSTART:20200303T230000Z
DTEND:20200304T000000Z
DTSTAMP:20260420T131511Z
SUMMARY:The Grass Kickers vs. Liberty Street Hooligans
DESCRIPTION:Liberty Street Hooligans vs. The Grass KickersMore info: #542
X-ALT-DESC;FMTTYPE=text/html:<!DOCTYPE HTML PUBLIC "-//W3C//DTD HTML 3.2//E
	N">\n<HTML>\n<HEAD>\n<TITLE></TITLE>\n</HEAD>\n<BODY>\n<h3>Liberty Street H
	ooligans vs. The Grass Kickers</h3>More info: <a href="https://www.golnetwo
	rk.com/game/v/156357/">#542</a>\n\n</BODY>\n</HTML>
STATUS:CONFIRMED
CLASS:PUBLIC
URL:https://www.golnetwork.com/game/v/156357/
X-MICROSOFT-CDO-BUSYSTATUS:BUSY
X-MICROSOFT-CDO-IMPORTANCE:1
END:VEVENT
BEGIN:VEVENT
UID:gfqj2@games.golnetwork.com
LOCATION:Lamport Stadium - Field 2
GEO:43.6390028;-79.4232104
CREATED:20200219T191449Z
DTSTART:20200304T020000Z
DTEND:20200304T030000Z
DTSTAMP:20260420T131511Z
SUMMARY:Riot Club vs. West End Hooligans
DESCRIPTION:West End Hooligans vs. Riot ClubMore info: #548
X-ALT-DESC;FMTTYPE=text/html:<!DOCTYPE HTML PUBLIC "-//W3C//DTD HTML 3.2//E
	N">\n<HTML>\n<HEAD>\n<TITLE></TITLE>\n</HEAD>\n<BODY>\n<h3>West End Hooliga
	ns vs. Riot Club</h3>More info: <a href="https://www.golnetwork.com/game/v/
	156358/">#548</a>\n\n</BODY>\n</HTML>
STATUS:CONFIRMED
CLASS:PUBLIC
URL:https://www.golnetwork.com/game/v/156358/
X-MICROSOFT-CDO-BUSYSTATUS:BUSY
X-MICROSOFT-CDO-IMPORTANCE:1
END:VEVENT
BEGIN:VEVENT
UID:gfqj4@games.golnetwork.com
LOCATION:Lamport Stadium - Field 2
GEO:43.6390028;-79.4232104
CREATED:20200219T191458Z
DTSTART:20200304T030000Z
DTEND:20200304T040000Z
DTSTAMP:20260420T131511Z
SUMMARY:KOHO vs. Sundowns
DESCRIPTION:Sundowns vs. KOHOMore info: #554
X-ALT-DESC;FMTTYPE=text/html:<!DOCTYPE HTML PUBLIC "-//W3C//DTD HTML 3.2//E
	N">\n<HTML>\n<HEAD>\n<TITLE></TITLE>\n</HEAD>\n<BODY>\n<h3>Sundowns vs. KOH
	O</h3>More info: <a href="https://www.golnetwork.com/game/v/156359/">#554</
	a>\n\n</BODY>\n</HTML>
STATUS:CONFIRMED
CLASS:PUBLIC
URL:https://www.golnetwork.com/game/v/156359/
X-MICROSOFT-CDO-BUSYSTATUS:BUSY
X-MICROSOFT-CDO-IMPORTANCE:1
END:VEVENT
BEGIN:VEVENT
UID:gfqj6@games.golnetwork.com
LOCATION:Lamport Stadium - Field 2
GEO:43.6390028;-79.4232104
CREATED:20200219T191507Z
DTSTART:20200304T040000Z
DTEND:20200304T050000Z
DTSTAMP:20260420T131511Z
SUMMARY:Vandelay Industries vs. MO Better F.U.
DESCRIPTION:MO Better F.U. vs. Vandelay IndustriesMore info: #562
X-ALT-DESC;FMTTYPE=text/html:<!DOCTYPE HTML PUBLIC "-//W3C//DTD HTML 3.2//E
	N">\n<HTML>\n<HEAD>\n<TITLE></TITLE>\n</HEAD>\n<BODY>\n<h3>MO Better F.U. v
	s. Vandelay Industries</h3>More info: <a href="https://www.golnetwork.com/g
	ame/v/156360/">#562</a>\n\n</BODY>\n</HTML>
STATUS:CONFIRMED
CLASS:PUBLIC
URL:https://www.golnetwork.com/game/v/156360/
X-MICROSOFT-CDO-BUSYSTATUS:BUSY
X-MICROSOFT-CDO-IMPORTANCE:1
END:VEVENT
BEGIN:VEVENT
UID:gfqj8@games.golnetwork.com
LOCATION:Lamport Stadium - Field 3
GEO:43.6390028;-79.4232104
CREATED:20200219T191520Z
DTSTART:20200310T220000Z
DTEND:20200310T230000Z
DTSTAMP:20260420T131511Z
SUMMARY:Vandelay Industries vs. Liberty Street Hooligans
DESCRIPTION:Liberty Street Hooligans vs. Vandelay IndustriesMore info: #635
X-ALT-DESC;FMTTYPE=text/html:<!DOCTYPE HTML PUBLIC "-//W3C//DTD HTML 3.2//E
	N">\n<HTML>\n<HEAD>\n<TITLE></TITLE>\n</HEAD>\n<BODY>\n<h3>Liberty Street H
	ooligans vs. Vandelay Industries</h3>More info: <a href="https://www.golnet
	work.com/game/v/156361/">#635</a>\n\n</BODY>\n</HTML>
STATUS:CONFIRMED
CLASS:PUBLIC
URL:https://www.golnetwork.com/game/v/156361/
X-MICROSOFT-CDO-BUSYSTATUS:BUSY
X-MICROSOFT-CDO-IMPORTANCE:1
END:VEVENT
BEGIN:VEVENT
UID:gfqja@games.golnetwork.com
LOCATION:Lamport Stadium - Field 3
GEO:43.6390028;-79.4232104
CREATED:20200219T191528Z
DTSTART:20200310T230000Z
DTEND:20200311T000000Z
DTSTAMP:20260420T131511Z
SUMMARY:Riot Club vs. The Grass Kickers
DESCRIPTION:The Grass Kickers vs. Riot ClubMore info: #637
X-ALT-DESC;FMTTYPE=text/html:<!DOCTYPE HTML PUBLIC "-//W3C//DTD HTML 3.2//E
	N">\n<HTML>\n<HEAD>\n<TITLE></TITLE>\n</HEAD>\n<BODY>\n<h3>The Grass Kicker
	s vs. Riot Club</h3>More info: <a href="https://www.golnetwork.com/game/v/1
	56362/">#637</a>\n\n</BODY>\n</HTML>
STATUS:CONFIRMED
CLASS:PUBLIC
URL:https://www.golnetwork.com/game/v/156362/
X-MICROSOFT-CDO-BUSYSTATUS:BUSY
X-MICROSOFT-CDO-IMPORTANCE:1
END:VEVENT
BEGIN:VEVENT
UID:gfqje@games.golnetwork.com
LOCATION:Lamport Stadium - Field 3
GEO:43.6390028;-79.4232104
CREATED:20200219T191545Z
DTSTART:20200311T000000Z
DTEND:20200311T010000Z
DTSTAMP:20260420T131511Z
SUMMARY:West End Hooligans vs. Sundowns
DESCRIPTION:Sundowns vs. West End HooligansMore info: #640
X-ALT-DESC;FMTTYPE=text/html:<!DOCTYPE HTML PUBLIC "-//W3C//DTD HTML 3.2//E
	N">\n<HTML>\n<HEAD>\n<TITLE></TITLE>\n</HEAD>\n<BODY>\n<h3>Sundowns vs. Wes
	t End Hooligans</h3>More info: <a href="https://www.golnetwork.com/game/v/1
	56364/">#640</a>\n\n</BODY>\n</HTML>
STATUS:CONFIRMED
CLASS:PUBLIC
URL:https://www.golnetwork.com/game/v/156364/
X-MICROSOFT-CDO-BUSYSTATUS:BUSY
X-MICROSOFT-CDO-IMPORTANCE:1
END:VEVENT
BEGIN:VEVENT
UID:gfqjc@games.golnetwork.com
LOCATION:Lamport Stadium - Field 3
GEO:43.6390028;-79.4232104
CREATED:20200219T191536Z
DTSTART:20200311T010000Z
DTEND:20200311T020000Z
DTSTAMP:20260420T131511Z
SUMMARY:KOHO vs. MO Better F.U.
DESCRIPTION:MO Better F.U. vs. KOHOMore info: #644
X-ALT-DESC;FMTTYPE=text/html:<!DOCTYPE HTML PUBLIC "-//W3C//DTD HTML 3.2//E
	N">\n<HTML>\n<HEAD>\n<TITLE></TITLE>\n</HEAD>\n<BODY>\n<h3>MO Better F.U. v
	s. KOHO</h3>More info: <a href="https://www.golnetwork.com/game/v/156363/">
	#644</a>\n\n</BODY>\n</HTML>
STATUS:CONFIRMED
CLASS:PUBLIC
URL:https://www.golnetwork.com/game/v/156363/
X-MICROSOFT-CDO-BUSYSTATUS:BUSY
X-MICROSOFT-CDO-IMPORTANCE:1
END:VEVENT
BEGIN:VEVENT
UID:gfqjg@games.golnetwork.com
LOCATION:Lamport Stadium - Field 2
GEO:43.6390028;-79.4232104
CREATED:20200219T191557Z
DTSTART:20200317T220000Z
DTEND:20200317T230000Z
DTSTAMP:20260420T131511Z
SUMMARY:West End Hooligans vs. Liberty Street Hooligans
DESCRIPTION:Liberty Street Hooligans vs. West End HooligansMore info: #723
X-ALT-DESC;FMTTYPE=text/html:<!DOCTYPE HTML PUBLIC "-//W3C//DTD HTML 3.2//E
	N">\n<HTML>\n<HEAD>\n<TITLE></TITLE>\n</HEAD>\n<BODY>\n<h3>Liberty Street H
	ooligans vs. West End Hooligans</h3>More info: <a href="https://www.golnetw
	ork.com/game/v/156365/">#723</a>\n\n</BODY>\n</HTML>
STATUS:CONFIRMED
CLASS:PUBLIC
URL:https://www.golnetwork.com/game/v/156365/
X-MICROSOFT-CDO-BUSYSTATUS:BUSY
X-MICROSOFT-CDO-IMPORTANCE:1
END:VEVENT
BEGIN:VEVENT
UID:gfqji@games.golnetwork.com
LOCATION:Lamport Stadium - Field 3
GEO:43.6390028;-79.4232104
CREATED:20200219T191606Z
DTSTART:20200317T230000Z
DTEND:20200318T000000Z
DTSTAMP:20260420T131511Z
SUMMARY:KOHO vs. The Grass Kickers
DESCRIPTION:The Grass Kickers vs. KOHOMore info: #726
X-ALT-DESC;FMTTYPE=text/html:<!DOCTYPE HTML PUBLIC "-//W3C//DTD HTML 3.2//E
	N">\n<HTML>\n<HEAD>\n<TITLE></TITLE>\n</HEAD>\n<BODY>\n<h3>The Grass Kicker
	s vs. KOHO</h3>More info: <a href="https://www.golnetwork.com/game/v/156366
	/">#726</a>\n\n</BODY>\n</HTML>
STATUS:CONFIRMED
CLASS:PUBLIC
URL:https://www.golnetwork.com/game/v/156366/
X-MICROSOFT-CDO-BUSYSTATUS:BUSY
X-MICROSOFT-CDO-IMPORTANCE:1
END:VEVENT
BEGIN:VEVENT
UID:gfqjk@games.golnetwork.com
LOCATION:Lamport Stadium - Field 2
GEO:43.6390028;-79.4232104
CREATED:20200219T191617Z
DTSTART:20200318T020000Z
DTEND:20200318T030000Z
DTSTAMP:20260420T131511Z
SUMMARY:Riot Club vs. MO Better F.U.
DESCRIPTION:MO Better F.U. vs. Riot ClubMore info: #739
X-ALT-DESC;FMTTYPE=text/html:<!DOCTYPE HTML PUBLIC "-//W3C//DTD HTML 3.2//E
	N">\n<HTML>\n<HEAD>\n<TITLE></TITLE>\n</HEAD>\n<BODY>\n<h3>MO Better F.U. v
	s. Riot Club</h3>More info: <a href="https://www.golnetwork.com/game/v/1563
	67/">#739</a>\n\n</BODY>\n</HTML>
STATUS:CONFIRMED
CLASS:PUBLIC
URL:https://www.golnetwork.com/game/v/156367/
X-MICROSOFT-CDO-BUSYSTATUS:BUSY
X-MICROSOFT-CDO-IMPORTANCE:1
END:VEVENT
BEGIN:VEVENT
UID:gfqjm@games.golnetwork.com
LOCATION:Lamport Stadium - Field 2
GEO:43.6390028;-79.4232104
CREATED:20200219T191627Z
DTSTART:20200318T030000Z
DTEND:20200318T040000Z
DTSTAMP:20260420T131511Z
SUMMARY:Vandelay Industries vs. Sundowns
DESCRIPTION:Sundowns vs. Vandelay IndustriesMore info: #746
X-ALT-DESC;FMTTYPE=text/html:<!DOCTYPE HTML PUBLIC "-//W3C//DTD HTML 3.2//E
	N">\n<HTML>\n<HEAD>\n<TITLE></TITLE>\n</HEAD>\n<BODY>\n<h3>Sundowns vs. Van
	delay Industries</h3>More info: <a href="https://www.golnetwork.com/game/v/
	156368/">#746</a>\n\n</BODY>\n</HTML>
STATUS:CONFIRMED
CLASS:PUBLIC
URL:https://www.golnetwork.com/game/v/156368/
X-MICROSOFT-CDO-BUSYSTATUS:BUSY
X-MICROSOFT-CDO-IMPORTANCE:1
END:VEVENT
BEGIN:VEVENT
UID:gfqjo@games.golnetwork.com
LOCATION:Lamport Stadium - Field 3
GEO:43.6390028;-79.4232104
CREATED:20200219T191640Z
DTSTART:20200324T220000Z
DTEND:20200324T230000Z
DTSTAMP:20260420T131511Z
SUMMARY:KOHO vs. Liberty Street Hooligans
DESCRIPTION:Liberty Street Hooligans vs. KOHOMore info: #797
X-ALT-DESC;FMTTYPE=text/html:<!DOCTYPE HTML PUBLIC "-//W3C//DTD HTML 3.2//E
	N">\n<HTML>\n<HEAD>\n<TITLE></TITLE>\n</HEAD>\n<BODY>\n<h3>Liberty Street H
	ooligans vs. KOHO</h3>More info: <a href="https://www.golnetwork.com/game/v
	/156369/">#797</a>\n\n</BODY>\n</HTML>
STATUS:CONFIRMED
CLASS:PUBLIC
URL:https://www.golnetwork.com/game/v/156369/
X-MICROSOFT-CDO-BUSYSTATUS:BUSY
X-MICROSOFT-CDO-IMPORTANCE:1
END:VEVENT
BEGIN:VEVENT
UID:gfqjq@games.golnetwork.com
LOCATION:Lamport Stadium - Field 3
GEO:43.6390028;-79.4232104
CREATED:20200219T191650Z
DTSTART:20200324T230000Z
DTEND:20200325T000000Z
DTSTAMP:20260420T131511Z
SUMMARY:West End Hooligans vs. MO Better F.U.
DESCRIPTION:MO Better F.U. vs. West End HooligansMore info: #799
X-ALT-DESC;FMTTYPE=text/html:<!DOCTYPE HTML PUBLIC "-//W3C//DTD HTML 3.2//E
	N">\n<HTML>\n<HEAD>\n<TITLE></TITLE>\n</HEAD>\n<BODY>\n<h3>MO Better F.U. v
	s. West End Hooligans</h3>More info: <a href="https://www.golnetwork.com/ga
	me/v/156370/">#799</a>\n\n</BODY>\n</HTML>
STATUS:CONFIRMED
CLASS:PUBLIC
URL:https://www.golnetwork.com/game/v/156370/
X-MICROSOFT-CDO-BUSYSTATUS:BUSY
X-MICROSOFT-CDO-IMPORTANCE:1
END:VEVENT
BEGIN:VEVENT
UID:gfqk3@games.golnetwork.com
LOCATION:Lamport Stadium - Field 3
GEO:43.6390028;-79.4232104
CREATED:20200219T191709Z
DTSTART:20200325T000000Z
DTEND:20200325T010000Z
DTSTAMP:20260420T131511Z
SUMMARY:Riot Club vs. Vandelay Industries
DESCRIPTION:Vandelay Industries vs. Riot ClubMore info: #801
X-ALT-DESC;FMTTYPE=text/html:<!DOCTYPE HTML PUBLIC "-//W3C//DTD HTML 3.2//E
	N">\n<HTML>\n<HEAD>\n<TITLE></TITLE>\n</HEAD>\n<BODY>\n<h3>Vandelay Industr
	ies vs. Riot Club</h3>More info: <a href="https://www.golnetwork.com/game/v
	/156372/">#801</a>\n\n</BODY>\n</HTML>
STATUS:CONFIRMED
CLASS:PUBLIC
URL:https://www.golnetwork.com/game/v/156372/
X-MICROSOFT-CDO-BUSYSTATUS:BUSY
X-MICROSOFT-CDO-IMPORTANCE:1
END:VEVENT
BEGIN:VEVENT
UID:gfqk1@games.golnetwork.com
LOCATION:Lamport Stadium - Field 3
GEO:43.6390028;-79.4232104
CREATED:20200219T191658Z
DTSTART:20200325T010000Z
DTEND:20200325T020000Z
DTSTAMP:20260420T131511Z
SUMMARY:The Grass Kickers vs. Sundowns
DESCRIPTION:Sundowns vs. The Grass KickersMore info: #804
X-ALT-DESC;FMTTYPE=text/html:<!DOCTYPE HTML PUBLIC "-//W3C//DTD HTML 3.2//E
	N">\n<HTML>\n<HEAD>\n<TITLE></TITLE>\n</HEAD>\n<BODY>\n<h3>Sundowns vs. The
	 Grass Kickers</h3>More info: <a href="https://www.golnetwork.com/game/v/15
	6371/">#804</a>\n\n</BODY>\n</HTML>
STATUS:CONFIRMED
CLASS:PUBLIC
URL:https://www.golnetwork.com/game/v/156371/
X-MICROSOFT-CDO-BUSYSTATUS:BUSY
X-MICROSOFT-CDO-IMPORTANCE:1
END:VEVENT
BEGIN:VEVENT
UID:gfqk5@games.golnetwork.com
LOCATION:Lamport Stadium - Field 3
GEO:43.6390028;-79.4232104
CREATED:20200219T191725Z
DTSTART:20200331T220000Z
DTEND:20200331T230000Z
DTSTAMP:20260420T131511Z
SUMMARY:MO Better F.U. vs. Liberty Street Hooligans
DESCRIPTION:Liberty Street Hooligans vs. MO Better F.U.More info: #867
X-ALT-DESC;FMTTYPE=text/html:<!DOCTYPE HTML PUBLIC "-//W3C//DTD HTML 3.2//E
	N">\n<HTML>\n<HEAD>\n<TITLE></TITLE>\n</HEAD>\n<BODY>\n<h3>Liberty Street H
	ooligans vs. MO Better F.U.</h3>More info: <a href="https://www.golnetwork.
	com/game/v/156373/">#867</a>\n\n</BODY>\n</HTML>
STATUS:CONFIRMED
CLASS:PUBLIC
URL:https://www.golnetwork.com/game/v/156373/
X-MICROSOFT-CDO-BUSYSTATUS:BUSY
X-MICROSOFT-CDO-IMPORTANCE:1
END:VEVENT
BEGIN:VEVENT
UID:gfqk7@games.golnetwork.com
LOCATION:Lamport Stadium - Field 2
GEO:43.6390028;-79.4232104
CREATED:20200219T191736Z
DTSTART:20200401T010000Z
DTEND:20200401T020000Z
DTSTAMP:20260420T131511Z
SUMMARY:Vandelay Industries vs. The Grass Kickers
DESCRIPTION:The Grass Kickers vs. Vandelay IndustriesMore info: #875
X-ALT-DESC;FMTTYPE=text/html:<!DOCTYPE HTML PUBLIC "-//W3C//DTD HTML 3.2//E
	N">\n<HTML>\n<HEAD>\n<TITLE></TITLE>\n</HEAD>\n<BODY>\n<h3>The Grass Kicker
	s vs. Vandelay Industries</h3>More info: <a href="https://www.golnetwork.co
	m/game/v/156374/">#875</a>\n\n</BODY>\n</HTML>
STATUS:CONFIRMED
CLASS:PUBLIC
URL:https://www.golnetwork.com/game/v/156374/
X-MICROSOFT-CDO-BUSYSTATUS:BUSY
X-MICROSOFT-CDO-IMPORTANCE:1
END:VEVENT
BEGIN:VEVENT
UID:gfqk9@games.golnetwork.com
LOCATION:Lamport Stadium - Field 2
GEO:43.6390028;-79.4232104
CREATED:20200219T191746Z
DTSTART:20200401T020000Z
DTEND:20200401T030000Z
DTSTAMP:20260420T131511Z
SUMMARY:Riot Club vs. Sundowns
DESCRIPTION:Sundowns vs. Riot ClubMore info: #881
X-ALT-DESC;FMTTYPE=text/html:<!DOCTYPE HTML PUBLIC "-//W3C//DTD HTML 3.2//E
	N">\n<HTML>\n<HEAD>\n<TITLE></TITLE>\n</HEAD>\n<BODY>\n<h3>Sundowns vs. Rio
	t Club</h3>More info: <a href="https://www.golnetwork.com/game/v/156375/">#
	881</a>\n\n</BODY>\n</HTML>
STATUS:CONFIRMED
CLASS:PUBLIC
URL:https://www.golnetwork.com/game/v/156375/
X-MICROSOFT-CDO-BUSYSTATUS:BUSY
X-MICROSOFT-CDO-IMPORTANCE:1
END:VEVENT
BEGIN:VEVENT
UID:gfqkb@games.golnetwork.com
LOCATION:Lamport Stadium - Field 2
GEO:43.6390028;-79.4232104
CREATED:20200219T191756Z
DTSTART:20200401T030000Z
DTEND:20200401T040000Z
DTSTAMP:20260420T131511Z
SUMMARY:KOHO vs. West End Hooligans
DESCRIPTION:West End Hooligans vs. KOHOMore info: #887
X-ALT-DESC;FMTTYPE=text/html:<!DOCTYPE HTML PUBLIC "-//W3C//DTD HTML 3.2//E
	N">\n<HTML>\n<HEAD>\n<TITLE></TITLE>\n</HEAD>\n<BODY>\n<h3>West End Hooliga
	ns vs. KOHO</h3>More info: <a href="https://www.golnetwork.com/game/v/15637
	6/">#887</a>\n\n</BODY>\n</HTML>
STATUS:CONFIRMED
CLASS:PUBLIC
URL:https://www.golnetwork.com/game/v/156376/
X-MICROSOFT-CDO-BUSYSTATUS:BUSY
X-MICROSOFT-CDO-IMPORTANCE:1
END:VEVENT
BEGIN:VEVENT
UID:gfqkf@games.golnetwork.com
LOCATION:Lamport Stadium - Field 3
GEO:43.6390028;-79.4232104
CREATED:20200219T191809Z
DTSTART:20200407T220000Z
DTEND:20200407T230000Z
DTSTAMP:20260420T131511Z
SUMMARY:TBD* vs. TBD*
DESCRIPTION:TBD* vs. TBD*More info: #928
X-ALT-DESC;FMTTYPE=text/html:<!DOCTYPE HTML PUBLIC "-//W3C//DTD HTML 3.2//E
	N">\n<HTML>\n<HEAD>\n<TITLE></TITLE>\n</HEAD>\n<BODY>\n<h3>TBD* vs. TBD*</h
	3>More info: <a href="https://www.golnetwork.com/game/v/156378/">#928</a>\n
	\n</BODY>\n</HTML>
STATUS:CONFIRMED
CLASS:PUBLIC
URL:https://www.golnetwork.com/game/v/156378/
X-MICROSOFT-CDO-BUSYSTATUS:BUSY
X-MICROSOFT-CDO-IMPORTANCE:1
END:VEVENT
BEGIN:VEVENT
UID:gfqkd@games.golnetwork.com
LOCATION:Lamport Stadium - Field 3
GEO:43.6390028;-79.4232104
CREATED:20200219T191804Z
DTSTART:20200408T030000Z
DTEND:20200408T040000Z
DTSTAMP:20260420T131511Z
SUMMARY:TBD* vs. TBD*
DESCRIPTION:TBD* vs. TBD*More info: #945
X-ALT-DESC;FMTTYPE=text/html:<!DOCTYPE HTML PUBLIC "-//W3C//DTD HTML 3.2//E
	N">\n<HTML>\n<HEAD>\n<TITLE></TITLE>\n</HEAD>\n<BODY>\n<h3>TBD* vs. TBD*</h
	3>More info: <a href="https://www.golnetwork.com/game/v/156377/">#945</a>\n
	\n</BODY>\n</HTML>
STATUS:CONFIRMED
CLASS:PUBLIC
URL:https://www.golnetwork.com/game/v/156377/
X-MICROSOFT-CDO-BUSYSTATUS:BUSY
X-MICROSOFT-CDO-IMPORTANCE:1
END:VEVENT
BEGIN:VEVENT
UID:gfqkh@games.golnetwork.com
LOCATION:Lamport Stadium - Field 3
GEO:43.6390028;-79.4232104
CREATED:20200219T191821Z
DTSTART:20200414T220000Z
DTEND:20200414T230000Z
DTSTAMP:20260420T131511Z
SUMMARY:TBD* vs. TBD*
DESCRIPTION:TBD* vs. TBD*More info: #952
X-ALT-DESC;FMTTYPE=text/html:<!DOCTYPE HTML PUBLIC "-//W3C//DTD HTML 3.2//E
	N">\n<HTML>\n<HEAD>\n<TITLE></TITLE>\n</HEAD>\n<BODY>\n<h3>TBD* vs. TBD*</h
	3>More info: <a href="https://www.golnetwork.com/game/v/156379/">#952</a>\n
	\n</BODY>\n</HTML>
STATUS:CONFIRMED
CLASS:PUBLIC
URL:https://www.golnetwork.com/game/v/156379/
X-MICROSOFT-CDO-BUSYSTATUS:BUSY
X-MICROSOFT-CDO-IMPORTANCE:1
END:VEVENT
BEGIN:VEVENT
UID:gfqkj@games.golnetwork.com
LOCATION:Lamport Stadium - Field 2
GEO:43.6390028;-79.4232104
CREATED:20200219T191826Z
DTSTART:20200414T230000Z
DTEND:20200415T000000Z
DTSTAMP:20260420T131511Z
SUMMARY:TBD* vs. TBD*
DESCRIPTION:TBD* vs. TBD*More info: #953
X-ALT-DESC;FMTTYPE=text/html:<!DOCTYPE HTML PUBLIC "-//W3C//DTD HTML 3.2//E
	N">\n<HTML>\n<HEAD>\n<TITLE></TITLE>\n</HEAD>\n<BODY>\n<h3>TBD* vs. TBD*</h
	3>More info: <a href="https://www.golnetwork.com/game/v/156380/">#953</a>\n
	\n</BODY>\n</HTML>
STATUS:CONFIRMED
CLASS:PUBLIC
URL:https://www.golnetwork.com/game/v/156380/
X-MICROSOFT-CDO-BUSYSTATUS:BUSY
X-MICROSOFT-CDO-IMPORTANCE:1
END:VEVENT
BEGIN:VEVENT
UID:gfqkl@games.golnetwork.com
LOCATION:Lamport Stadium - Field 3
GEO:43.6390028;-79.4232104
CREATED:20200219T191831Z
DTSTART:20200415T010000Z
DTEND:20200415T020000Z
DTSTAMP:20260420T131511Z
SUMMARY:TBD* vs. TBD*
DESCRIPTION:TBD* vs. TBD*More info: #959
X-ALT-DESC;FMTTYPE=text/html:<!DOCTYPE HTML PUBLIC "-//W3C//DTD HTML 3.2//E
	N">\n<HTML>\n<HEAD>\n<TITLE></TITLE>\n</HEAD>\n<BODY>\n<h3>TBD* vs. TBD*</h
	3>More info: <a href="https://www.golnetwork.com/game/v/156381/">#959</a>\n
	\n</BODY>\n</HTML>
STATUS:CONFIRMED
CLASS:PUBLIC
URL:https://www.golnetwork.com/game/v/156381/
X-MICROSOFT-CDO-BUSYSTATUS:BUSY
X-MICROSOFT-CDO-IMPORTANCE:1
END:VEVENT
END:VCALENDAR
