BEGIN:VCALENDAR
PRODID:-//gdesolutions.com//MV Framework 1.0.0.1607 Calendar//EN
VERSION:2.0
METHOD:PUBLISH
CALSCALE:GREGORIAN
BEGIN:VEVENT
UID:gfmmh@games.golnetwork.com
LOCATION:MetroGolf SportsPlex - Field 1
CREATED:20200121T215035Z
DTSTART:20200128T000000Z
DTEND:20200128T010000Z
DTSTAMP:20260420T212633Z
SUMMARY:We Try FC vs. Boro FC
DESCRIPTION:Boro FC vs. We Try FCMore info: #122
X-ALT-DESC;FMTTYPE=text/html:<!DOCTYPE HTML PUBLIC "-//W3C//DTD HTML 3.2//E
	N">\n<HTML>\n<HEAD>\n<TITLE></TITLE>\n</HEAD>\n<BODY>\n<h3>Boro FC vs. We T
	ry FC</h3>More info: <a href="https://www.golnetwork.com/game/v/154948/">#1
	22</a>\n\n</BODY>\n</HTML>
STATUS:CONFIRMED
CLASS:PUBLIC
URL:https://www.golnetwork.com/game/v/154948/
X-MICROSOFT-CDO-BUSYSTATUS:BUSY
X-MICROSOFT-CDO-IMPORTANCE:1
END:VEVENT
BEGIN:VEVENT
UID:gfmmj@games.golnetwork.com
LOCATION:MetroGolf SportsPlex - Field 1
CREATED:20200121T215043Z
DTSTART:20200128T010000Z
DTEND:20200128T020000Z
DTSTAMP:20260420T212633Z
SUMMARY:The Grass Kickers vs. Channel Niners
DESCRIPTION:Channel Niners vs. The Grass KickersMore info: #124
X-ALT-DESC;FMTTYPE=text/html:<!DOCTYPE HTML PUBLIC "-//W3C//DTD HTML 3.2//E
	N">\n<HTML>\n<HEAD>\n<TITLE></TITLE>\n</HEAD>\n<BODY>\n<h3>Channel Niners v
	s. The Grass Kickers</h3>More info: <a href="https://www.golnetwork.com/gam
	e/v/154949/">#124</a>\n\n</BODY>\n</HTML>
STATUS:CONFIRMED
CLASS:PUBLIC
URL:https://www.golnetwork.com/game/v/154949/
X-MICROSOFT-CDO-BUSYSTATUS:BUSY
X-MICROSOFT-CDO-IMPORTANCE:1
END:VEVENT
BEGIN:VEVENT
UID:gfmml@games.golnetwork.com
LOCATION:MetroGolf SportsPlex - Field 1
CREATED:20200121T215050Z
DTSTART:20200128T020000Z
DTEND:20200128T030000Z
DTSTAMP:20260420T212633Z
SUMMARY:Jerk Chicken United vs. Lenda FC
DESCRIPTION:Lenda FC vs. Jerk Chicken UnitedMore info: #127
X-ALT-DESC;FMTTYPE=text/html:<!DOCTYPE HTML PUBLIC "-//W3C//DTD HTML 3.2//E
	N">\n<HTML>\n<HEAD>\n<TITLE></TITLE>\n</HEAD>\n<BODY>\n<h3>Lenda FC vs. Jer
	k Chicken United</h3>More info: <a href="https://www.golnetwork.com/game/v/
	154950/">#127</a>\n\n</BODY>\n</HTML>
STATUS:CONFIRMED
CLASS:PUBLIC
URL:https://www.golnetwork.com/game/v/154950/
X-MICROSOFT-CDO-BUSYSTATUS:BUSY
X-MICROSOFT-CDO-IMPORTANCE:1
END:VEVENT
BEGIN:VEVENT
UID:gfmmn@games.golnetwork.com
LOCATION:MetroGolf SportsPlex - Field 1
CREATED:20200121T215058Z
DTSTART:20200128T030000Z
DTEND:20200128T040000Z
DTSTAMP:20260420T212633Z
SUMMARY:Brick Squad vs. Toronto Pickering FC
DESCRIPTION:Toronto Pickering FC vs. Brick SquadMore info: #130
X-ALT-DESC;FMTTYPE=text/html:<!DOCTYPE HTML PUBLIC "-//W3C//DTD HTML 3.2//E
	N">\n<HTML>\n<HEAD>\n<TITLE></TITLE>\n</HEAD>\n<BODY>\n<h3>Toronto Pickerin
	g FC vs. Brick Squad</h3>More info: <a href="https://www.golnetwork.com/gam
	e/v/154951/">#130</a>\n\n</BODY>\n</HTML>
STATUS:CONFIRMED
CLASS:PUBLIC
URL:https://www.golnetwork.com/game/v/154951/
X-MICROSOFT-CDO-BUSYSTATUS:BUSY
X-MICROSOFT-CDO-IMPORTANCE:1
END:VEVENT
BEGIN:VEVENT
UID:gfn80@games.golnetwork.com
LOCATION:MetroGolf SportsPlex - Field 1
CREATED:20200128T154831Z
DTSTART:20200204T000000Z
DTEND:20200204T010000Z
DTSTAMP:20260420T212633Z
SUMMARY:Lenda FC vs. The Grass Kickers
DESCRIPTION:The Grass Kickers vs. Lenda FCMore info: #171
X-ALT-DESC;FMTTYPE=text/html:<!DOCTYPE HTML PUBLIC "-//W3C//DTD HTML 3.2//E
	N">\n<HTML>\n<HEAD>\n<TITLE></TITLE>\n</HEAD>\n<BODY>\n<h3>The Grass Kicker
	s vs. Lenda FC</h3>More info: <a href="https://www.golnetwork.com/game/v/15
	5115/">#171</a>\n\n</BODY>\n</HTML>
STATUS:CONFIRMED
CLASS:PUBLIC
URL:https://www.golnetwork.com/game/v/155115/
X-MICROSOFT-CDO-BUSYSTATUS:BUSY
X-MICROSOFT-CDO-IMPORTANCE:1
END:VEVENT
BEGIN:VEVENT
UID:gfn82@games.golnetwork.com
LOCATION:MetroGolf SportsPlex - Field 1
CREATED:20200128T154841Z
DTSTART:20200204T010000Z
DTEND:20200204T020000Z
DTSTAMP:20260420T212633Z
SUMMARY:Brick Squad vs. We Try FC
DESCRIPTION:We Try FC vs. Brick SquadMore info: #173
X-ALT-DESC;FMTTYPE=text/html:<!DOCTYPE HTML PUBLIC "-//W3C//DTD HTML 3.2//E
	N">\n<HTML>\n<HEAD>\n<TITLE></TITLE>\n</HEAD>\n<BODY>\n<h3>We Try FC vs. Br
	ick Squad</h3>More info: <a href="https://www.golnetwork.com/game/v/155116/
	">#173</a>\n\n</BODY>\n</HTML>
STATUS:CONFIRMED
CLASS:PUBLIC
URL:https://www.golnetwork.com/game/v/155116/
X-MICROSOFT-CDO-BUSYSTATUS:BUSY
X-MICROSOFT-CDO-IMPORTANCE:1
END:VEVENT
BEGIN:VEVENT
UID:gfn84@games.golnetwork.com
LOCATION:MetroGolf SportsPlex - Field 1
CREATED:20200128T154848Z
DTSTART:20200204T020000Z
DTEND:20200204T030000Z
DTSTAMP:20260420T212633Z
SUMMARY:Jerk Chicken United vs. Toronto Pickering FC
DESCRIPTION:Toronto Pickering FC vs. Jerk Chicken UnitedMore info: #176
X-ALT-DESC;FMTTYPE=text/html:<!DOCTYPE HTML PUBLIC "-//W3C//DTD HTML 3.2//E
	N">\n<HTML>\n<HEAD>\n<TITLE></TITLE>\n</HEAD>\n<BODY>\n<h3>Toronto Pickerin
	g FC vs. Jerk Chicken United</h3>More info: <a href="https://www.golnetwork
	.com/game/v/155117/">#176</a>\n\n</BODY>\n</HTML>
STATUS:CONFIRMED
CLASS:PUBLIC
URL:https://www.golnetwork.com/game/v/155117/
X-MICROSOFT-CDO-BUSYSTATUS:BUSY
X-MICROSOFT-CDO-IMPORTANCE:1
END:VEVENT
BEGIN:VEVENT
UID:gfn86@games.golnetwork.com
LOCATION:MetroGolf SportsPlex - Field 1
CREATED:20200128T154855Z
DTSTART:20200204T030000Z
DTEND:20200204T040000Z
DTSTAMP:20260420T212633Z
SUMMARY:Channel Niners vs. Boro FC
DESCRIPTION:Boro FC vs. Channel NinersMore info: #179
X-ALT-DESC;FMTTYPE=text/html:<!DOCTYPE HTML PUBLIC "-//W3C//DTD HTML 3.2//E
	N">\n<HTML>\n<HEAD>\n<TITLE></TITLE>\n</HEAD>\n<BODY>\n<h3>Boro FC vs. Chan
	nel Niners</h3>More info: <a href="https://www.golnetwork.com/game/v/155118
	/">#179</a>\n\n</BODY>\n</HTML>
STATUS:CONFIRMED
CLASS:PUBLIC
URL:https://www.golnetwork.com/game/v/155118/
X-MICROSOFT-CDO-BUSYSTATUS:BUSY
X-MICROSOFT-CDO-IMPORTANCE:1
END:VEVENT
BEGIN:VEVENT
UID:gfn88@games.golnetwork.com
LOCATION:MetroGolf SportsPlex - Field 1
CREATED:20200128T154906Z
DTSTART:20200211T000000Z
DTEND:20200211T010000Z
DTSTAMP:20260420T212633Z
SUMMARY:Toronto Pickering FC vs. Channel Niners
DESCRIPTION:Channel Niners vs. Toronto Pickering FCMore info: #246
X-ALT-DESC;FMTTYPE=text/html:<!DOCTYPE HTML PUBLIC "-//W3C//DTD HTML 3.2//E
	N">\n<HTML>\n<HEAD>\n<TITLE></TITLE>\n</HEAD>\n<BODY>\n<h3>Channel Niners v
	s. Toronto Pickering FC</h3>More info: <a href="https://www.golnetwork.com/
	game/v/155119/">#246</a>\n\n</BODY>\n</HTML>
STATUS:CONFIRMED
CLASS:PUBLIC
URL:https://www.golnetwork.com/game/v/155119/
X-MICROSOFT-CDO-BUSYSTATUS:BUSY
X-MICROSOFT-CDO-IMPORTANCE:1
END:VEVENT
BEGIN:VEVENT
UID:gfn8a@games.golnetwork.com
LOCATION:MetroGolf SportsPlex - Field 1
CREATED:20200128T154913Z
DTSTART:20200211T010000Z
DTEND:20200211T020000Z
DTSTAMP:20260420T212633Z
SUMMARY:Lenda FC vs. Boro FC
DESCRIPTION:Boro FC vs. Lenda FCMore info: #250
X-ALT-DESC;FMTTYPE=text/html:<!DOCTYPE HTML PUBLIC "-//W3C//DTD HTML 3.2//E
	N">\n<HTML>\n<HEAD>\n<TITLE></TITLE>\n</HEAD>\n<BODY>\n<h3>Boro FC vs. Lend
	a FC</h3>More info: <a href="https://www.golnetwork.com/game/v/155120/">#25
	0</a>\n\n</BODY>\n</HTML>
STATUS:CONFIRMED
CLASS:PUBLIC
URL:https://www.golnetwork.com/game/v/155120/
X-MICROSOFT-CDO-BUSYSTATUS:BUSY
X-MICROSOFT-CDO-IMPORTANCE:1
END:VEVENT
BEGIN:VEVENT
UID:gfn8c@games.golnetwork.com
LOCATION:MetroGolf SportsPlex - Field 1
CREATED:20200128T154922Z
DTSTART:20200211T020000Z
DTEND:20200211T030000Z
DTSTAMP:20260420T212633Z
SUMMARY:Brick Squad vs. The Grass Kickers
DESCRIPTION:The Grass Kickers vs. Brick SquadMore info: #255
X-ALT-DESC;FMTTYPE=text/html:<!DOCTYPE HTML PUBLIC "-//W3C//DTD HTML 3.2//E
	N">\n<HTML>\n<HEAD>\n<TITLE></TITLE>\n</HEAD>\n<BODY>\n<h3>The Grass Kicker
	s vs. Brick Squad</h3>More info: <a href="https://www.golnetwork.com/game/v
	/155121/">#255</a>\n\n</BODY>\n</HTML>
STATUS:CONFIRMED
CLASS:PUBLIC
URL:https://www.golnetwork.com/game/v/155121/
X-MICROSOFT-CDO-BUSYSTATUS:BUSY
X-MICROSOFT-CDO-IMPORTANCE:1
END:VEVENT
BEGIN:VEVENT
UID:gfn8e@games.golnetwork.com
LOCATION:MetroGolf SportsPlex - Field 1
CREATED:20200128T154930Z
DTSTART:20200211T030000Z
DTEND:20200211T040000Z
DTSTAMP:20260420T212633Z
SUMMARY:Jerk Chicken United vs. We Try FC
DESCRIPTION:We Try FC vs. Jerk Chicken UnitedMore info: #260
X-ALT-DESC;FMTTYPE=text/html:<!DOCTYPE HTML PUBLIC "-//W3C//DTD HTML 3.2//E
	N">\n<HTML>\n<HEAD>\n<TITLE></TITLE>\n</HEAD>\n<BODY>\n<h3>We Try FC vs. Je
	rk Chicken United</h3>More info: <a href="https://www.golnetwork.com/game/v
	/155122/">#260</a>\n\n</BODY>\n</HTML>
STATUS:CONFIRMED
CLASS:PUBLIC
URL:https://www.golnetwork.com/game/v/155122/
X-MICROSOFT-CDO-BUSYSTATUS:BUSY
X-MICROSOFT-CDO-IMPORTANCE:1
END:VEVENT
BEGIN:VEVENT
UID:gfn91@games.golnetwork.com
LOCATION:MetroGolf SportsPlex - Field 1
CREATED:20200128T155234Z
DTSTART:20200225T000000Z
DTEND:20200225T010000Z
DTSTAMP:20260420T212633Z
SUMMARY:Brick Squad vs. Channel Niners
DESCRIPTION:Channel Niners vs. Brick SquadMore info: #413
X-ALT-DESC;FMTTYPE=text/html:<!DOCTYPE HTML PUBLIC "-//W3C//DTD HTML 3.2//E
	N">\n<HTML>\n<HEAD>\n<TITLE></TITLE>\n</HEAD>\n<BODY>\n<h3>Channel Niners v
	s. Brick Squad</h3>More info: <a href="https://www.golnetwork.com/game/v/15
	5129/">#413</a>\n\n</BODY>\n</HTML>
STATUS:CONFIRMED
CLASS:PUBLIC
URL:https://www.golnetwork.com/game/v/155129/
X-MICROSOFT-CDO-BUSYSTATUS:BUSY
X-MICROSOFT-CDO-IMPORTANCE:1
END:VEVENT
BEGIN:VEVENT
UID:gfn8q@games.golnetwork.com
LOCATION:MetroGolf SportsPlex - Field 1
CREATED:20200128T155227Z
DTSTART:20200225T010000Z
DTEND:20200225T020000Z
DTSTAMP:20260420T212633Z
SUMMARY:Lenda FC vs. We Try FC
DESCRIPTION:We Try FC vs. Lenda FCMore info: #417
X-ALT-DESC;FMTTYPE=text/html:<!DOCTYPE HTML PUBLIC "-//W3C//DTD HTML 3.2//E
	N">\n<HTML>\n<HEAD>\n<TITLE></TITLE>\n</HEAD>\n<BODY>\n<h3>We Try FC vs. Le
	nda FC</h3>More info: <a href="https://www.golnetwork.com/game/v/155128/">#
	417</a>\n\n</BODY>\n</HTML>
STATUS:CONFIRMED
CLASS:PUBLIC
URL:https://www.golnetwork.com/game/v/155128/
X-MICROSOFT-CDO-BUSYSTATUS:BUSY
X-MICROSOFT-CDO-IMPORTANCE:1
END:VEVENT
BEGIN:VEVENT
UID:gfn8o@games.golnetwork.com
LOCATION:MetroGolf SportsPlex - Field 1
CREATED:20200128T155218Z
DTSTART:20200225T020000Z
DTEND:20200225T030000Z
DTSTAMP:20260420T212633Z
SUMMARY:Jerk Chicken United vs. Boro FC
DESCRIPTION:Boro FC vs. Jerk Chicken UnitedMore info: #422
X-ALT-DESC;FMTTYPE=text/html:<!DOCTYPE HTML PUBLIC "-//W3C//DTD HTML 3.2//E
	N">\n<HTML>\n<HEAD>\n<TITLE></TITLE>\n</HEAD>\n<BODY>\n<h3>Boro FC vs. Jerk
	 Chicken United</h3>More info: <a href="https://www.golnetwork.com/game/v/1
	55127/">#422</a>\n\n</BODY>\n</HTML>
STATUS:CONFIRMED
CLASS:PUBLIC
URL:https://www.golnetwork.com/game/v/155127/
X-MICROSOFT-CDO-BUSYSTATUS:BUSY
X-MICROSOFT-CDO-IMPORTANCE:1
END:VEVENT
BEGIN:VEVENT
UID:gfn93@games.golnetwork.com
LOCATION:MetroGolf SportsPlex - Field 1
CREATED:20200128T155241Z
DTSTART:20200225T030000Z
DTEND:20200225T040000Z
DTSTAMP:20260420T212633Z
SUMMARY:Toronto Pickering FC vs. The Grass Kickers
DESCRIPTION:The Grass Kickers vs. Toronto Pickering FCMore info: #426
X-ALT-DESC;FMTTYPE=text/html:<!DOCTYPE HTML PUBLIC "-//W3C//DTD HTML 3.2//E
	N">\n<HTML>\n<HEAD>\n<TITLE></TITLE>\n</HEAD>\n<BODY>\n<h3>The Grass Kicker
	s vs. Toronto Pickering FC</h3>More info: <a href="https://www.golnetwork.c
	om/game/v/155130/">#426</a>\n\n</BODY>\n</HTML>
STATUS:CONFIRMED
CLASS:PUBLIC
URL:https://www.golnetwork.com/game/v/155130/
X-MICROSOFT-CDO-BUSYSTATUS:BUSY
X-MICROSOFT-CDO-IMPORTANCE:1
END:VEVENT
BEGIN:VEVENT
UID:gfn99@games.golnetwork.com
LOCATION:MetroGolf SportsPlex - Field 1
CREATED:20200128T155308Z
DTSTART:20200303T000000Z
DTEND:20200303T010000Z
DTSTAMP:20260420T212633Z
SUMMARY:The Grass Kickers vs. Boro FC
DESCRIPTION:Boro FC vs. The Grass KickersMore info: #522
X-ALT-DESC;FMTTYPE=text/html:<!DOCTYPE HTML PUBLIC "-//W3C//DTD HTML 3.2//E
	N">\n<HTML>\n<HEAD>\n<TITLE></TITLE>\n</HEAD>\n<BODY>\n<h3>Boro FC vs. The 
	Grass Kickers</h3>More info: <a href="https://www.golnetwork.com/game/v/155
	133/">#522</a>\n\n</BODY>\n</HTML>
STATUS:CONFIRMED
CLASS:PUBLIC
URL:https://www.golnetwork.com/game/v/155133/
X-MICROSOFT-CDO-BUSYSTATUS:BUSY
X-MICROSOFT-CDO-IMPORTANCE:1
END:VEVENT
BEGIN:VEVENT
UID:gfn97@games.golnetwork.com
LOCATION:MetroGolf SportsPlex - Field 1
CREATED:20200128T155300Z
DTSTART:20200303T010000Z
DTEND:20200303T020000Z
DTSTAMP:20260420T212633Z
SUMMARY:Toronto Pickering FC vs. We Try FC
DESCRIPTION:We Try FC vs. Toronto Pickering FCMore info: #526
X-ALT-DESC;FMTTYPE=text/html:<!DOCTYPE HTML PUBLIC "-//W3C//DTD HTML 3.2//E
	N">\n<HTML>\n<HEAD>\n<TITLE></TITLE>\n</HEAD>\n<BODY>\n<h3>We Try FC vs. To
	ronto Pickering FC</h3>More info: <a href="https://www.golnetwork.com/game/
	v/155132/">#526</a>\n\n</BODY>\n</HTML>
STATUS:CONFIRMED
CLASS:PUBLIC
URL:https://www.golnetwork.com/game/v/155132/
X-MICROSOFT-CDO-BUSYSTATUS:BUSY
X-MICROSOFT-CDO-IMPORTANCE:1
END:VEVENT
BEGIN:VEVENT
UID:gfn95@games.golnetwork.com
LOCATION:MetroGolf SportsPlex - Field 1
CREATED:20200128T155252Z
DTSTART:20200303T020000Z
DTEND:20200303T030000Z
DTSTAMP:20260420T212633Z
SUMMARY:Brick Squad vs. Jerk Chicken United
DESCRIPTION:Jerk Chicken United vs. Brick SquadMore info: #530
X-ALT-DESC;FMTTYPE=text/html:<!DOCTYPE HTML PUBLIC "-//W3C//DTD HTML 3.2//E
	N">\n<HTML>\n<HEAD>\n<TITLE></TITLE>\n</HEAD>\n<BODY>\n<h3>Jerk Chicken Uni
	ted vs. Brick Squad</h3>More info: <a href="https://www.golnetwork.com/game
	/v/155131/">#530</a>\n\n</BODY>\n</HTML>
STATUS:CONFIRMED
CLASS:PUBLIC
URL:https://www.golnetwork.com/game/v/155131/
X-MICROSOFT-CDO-BUSYSTATUS:BUSY
X-MICROSOFT-CDO-IMPORTANCE:1
END:VEVENT
BEGIN:VEVENT
UID:gfn9b@games.golnetwork.com
LOCATION:MetroGolf SportsPlex - Field 1
CREATED:20200128T155315Z
DTSTART:20200303T030000Z
DTEND:20200303T040000Z
DTSTAMP:20260420T212633Z
SUMMARY:Lenda FC vs. Channel Niners
DESCRIPTION:Channel Niners vs. Lenda FCMore info: #535
X-ALT-DESC;FMTTYPE=text/html:<!DOCTYPE HTML PUBLIC "-//W3C//DTD HTML 3.2//E
	N">\n<HTML>\n<HEAD>\n<TITLE></TITLE>\n</HEAD>\n<BODY>\n<h3>Channel Niners v
	s. Lenda FC</h3>More info: <a href="https://www.golnetwork.com/game/v/15513
	4/">#535</a>\n\n</BODY>\n</HTML>
STATUS:CONFIRMED
CLASS:PUBLIC
URL:https://www.golnetwork.com/game/v/155134/
X-MICROSOFT-CDO-BUSYSTATUS:BUSY
X-MICROSOFT-CDO-IMPORTANCE:1
END:VEVENT
BEGIN:VEVENT
UID:gfn9d@games.golnetwork.com
LOCATION:MetroGolf SportsPlex - Field 1
CREATED:20200128T155327Z
DTSTART:20200309T230000Z
DTEND:20200310T000000Z
DTSTAMP:20260420T212633Z
SUMMARY:Toronto Pickering FC vs. Lenda FC
DESCRIPTION:Lenda FC vs. Toronto Pickering FCMore info: #614
X-ALT-DESC;FMTTYPE=text/html:<!DOCTYPE HTML PUBLIC "-//W3C//DTD HTML 3.2//E
	N">\n<HTML>\n<HEAD>\n<TITLE></TITLE>\n</HEAD>\n<BODY>\n<h3>Lenda FC vs. Tor
	onto Pickering FC</h3>More info: <a href="https://www.golnetwork.com/game/v
	/155135/">#614</a>\n\n</BODY>\n</HTML>
STATUS:CONFIRMED
CLASS:PUBLIC
URL:https://www.golnetwork.com/game/v/155135/
X-MICROSOFT-CDO-BUSYSTATUS:BUSY
X-MICROSOFT-CDO-IMPORTANCE:1
END:VEVENT
BEGIN:VEVENT
UID:gfn9f@games.golnetwork.com
LOCATION:MetroGolf SportsPlex - Field 1
CREATED:20200128T155333Z
DTSTART:20200310T000000Z
DTEND:20200310T010000Z
DTSTAMP:20260420T212633Z
SUMMARY:Brick Squad vs. Boro FC
DESCRIPTION:Boro FC vs. Brick SquadMore info: #618
X-ALT-DESC;FMTTYPE=text/html:<!DOCTYPE HTML PUBLIC "-//W3C//DTD HTML 3.2//E
	N">\n<HTML>\n<HEAD>\n<TITLE></TITLE>\n</HEAD>\n<BODY>\n<h3>Boro FC vs. Bric
	k Squad</h3>More info: <a href="https://www.golnetwork.com/game/v/155136/">
	#618</a>\n\n</BODY>\n</HTML>
STATUS:CONFIRMED
CLASS:PUBLIC
URL:https://www.golnetwork.com/game/v/155136/
X-MICROSOFT-CDO-BUSYSTATUS:BUSY
X-MICROSOFT-CDO-IMPORTANCE:1
END:VEVENT
BEGIN:VEVENT
UID:gfn9h@games.golnetwork.com
LOCATION:MetroGolf SportsPlex - Field 1
CREATED:20200128T155343Z
DTSTART:20200310T010000Z
DTEND:20200310T020000Z
DTSTAMP:20260420T212633Z
SUMMARY:Channel Niners vs. We Try FC
DESCRIPTION:We Try FC vs. Channel NinersMore info: #623
X-ALT-DESC;FMTTYPE=text/html:<!DOCTYPE HTML PUBLIC "-//W3C//DTD HTML 3.2//E
	N">\n<HTML>\n<HEAD>\n<TITLE></TITLE>\n</HEAD>\n<BODY>\n<h3>We Try FC vs. Ch
	annel Niners</h3>More info: <a href="https://www.golnetwork.com/game/v/1551
	37/">#623</a>\n\n</BODY>\n</HTML>
STATUS:CONFIRMED
CLASS:PUBLIC
URL:https://www.golnetwork.com/game/v/155137/
X-MICROSOFT-CDO-BUSYSTATUS:BUSY
X-MICROSOFT-CDO-IMPORTANCE:1
END:VEVENT
BEGIN:VEVENT
UID:gfn9j@games.golnetwork.com
LOCATION:MetroGolf SportsPlex - Field 1
CREATED:20200128T155351Z
DTSTART:20200310T020000Z
DTEND:20200310T030000Z
DTSTAMP:20260420T212633Z
SUMMARY:Jerk Chicken United vs. The Grass Kickers
DESCRIPTION:The Grass Kickers vs. Jerk Chicken UnitedMore info: #628
X-ALT-DESC;FMTTYPE=text/html:<!DOCTYPE HTML PUBLIC "-//W3C//DTD HTML 3.2//E
	N">\n<HTML>\n<HEAD>\n<TITLE></TITLE>\n</HEAD>\n<BODY>\n<h3>The Grass Kicker
	s vs. Jerk Chicken United</h3>More info: <a href="https://www.golnetwork.co
	m/game/v/155138/">#628</a>\n\n</BODY>\n</HTML>
STATUS:CONFIRMED
CLASS:PUBLIC
URL:https://www.golnetwork.com/game/v/155138/
X-MICROSOFT-CDO-BUSYSTATUS:BUSY
X-MICROSOFT-CDO-IMPORTANCE:1
END:VEVENT
BEGIN:VEVENT
UID:gfn9n@games.golnetwork.com
LOCATION:MetroGolf SportsPlex - Field 1
CREATED:20200128T155410Z
DTSTART:20200316T230000Z
DTEND:20200317T000000Z
DTSTAMP:20260420T212633Z
SUMMARY:Brick Squad vs. Toronto Pickering FC
DESCRIPTION:Toronto Pickering FC vs. Brick SquadMore info: #704
X-ALT-DESC;FMTTYPE=text/html:<!DOCTYPE HTML PUBLIC "-//W3C//DTD HTML 3.2//E
	N">\n<HTML>\n<HEAD>\n<TITLE></TITLE>\n</HEAD>\n<BODY>\n<h3>Toronto Pickerin
	g FC vs. Brick Squad</h3>More info: <a href="https://www.golnetwork.com/gam
	e/v/155140/">#704</a>\n\n</BODY>\n</HTML>
STATUS:CONFIRMED
CLASS:PUBLIC
URL:https://www.golnetwork.com/game/v/155140/
X-MICROSOFT-CDO-BUSYSTATUS:BUSY
X-MICROSOFT-CDO-IMPORTANCE:1
END:VEVENT
BEGIN:VEVENT
UID:gfn9l@games.golnetwork.com
LOCATION:MetroGolf SportsPlex - Field 1
CREATED:20200128T155403Z
DTSTART:20200317T000000Z
DTEND:20200317T010000Z
DTSTAMP:20260420T212633Z
SUMMARY:The Grass Kickers vs. Channel Niners
DESCRIPTION:Channel Niners vs. The Grass KickersMore info: #708
X-ALT-DESC;FMTTYPE=text/html:<!DOCTYPE HTML PUBLIC "-//W3C//DTD HTML 3.2//E
	N">\n<HTML>\n<HEAD>\n<TITLE></TITLE>\n</HEAD>\n<BODY>\n<h3>Channel Niners v
	s. The Grass Kickers</h3>More info: <a href="https://www.golnetwork.com/gam
	e/v/155139/">#708</a>\n\n</BODY>\n</HTML>
STATUS:CONFIRMED
CLASS:PUBLIC
URL:https://www.golnetwork.com/game/v/155139/
X-MICROSOFT-CDO-BUSYSTATUS:BUSY
X-MICROSOFT-CDO-IMPORTANCE:1
END:VEVENT
BEGIN:VEVENT
UID:gfn9p@games.golnetwork.com
LOCATION:MetroGolf SportsPlex - Field 1
CREATED:20200128T155418Z
DTSTART:20200317T010000Z
DTEND:20200317T020000Z
DTSTAMP:20260420T212633Z
SUMMARY:Jerk Chicken United vs. Lenda FC
DESCRIPTION:Lenda FC vs. Jerk Chicken UnitedMore info: #713
X-ALT-DESC;FMTTYPE=text/html:<!DOCTYPE HTML PUBLIC "-//W3C//DTD HTML 3.2//E
	N">\n<HTML>\n<HEAD>\n<TITLE></TITLE>\n</HEAD>\n<BODY>\n<h3>Lenda FC vs. Jer
	k Chicken United</h3>More info: <a href="https://www.golnetwork.com/game/v/
	155141/">#713</a>\n\n</BODY>\n</HTML>
STATUS:CONFIRMED
CLASS:PUBLIC
URL:https://www.golnetwork.com/game/v/155141/
X-MICROSOFT-CDO-BUSYSTATUS:BUSY
X-MICROSOFT-CDO-IMPORTANCE:1
END:VEVENT
BEGIN:VEVENT
UID:gfna0@games.golnetwork.com
LOCATION:MetroGolf SportsPlex - Field 1
CREATED:20200128T155426Z
DTSTART:20200317T020000Z
DTEND:20200317T030000Z
DTSTAMP:20260420T212633Z
SUMMARY:We Try FC vs. Boro FC
DESCRIPTION:Boro FC vs. We Try FCMore info: #717
X-ALT-DESC;FMTTYPE=text/html:<!DOCTYPE HTML PUBLIC "-//W3C//DTD HTML 3.2//E
	N">\n<HTML>\n<HEAD>\n<TITLE></TITLE>\n</HEAD>\n<BODY>\n<h3>Boro FC vs. We T
	ry FC</h3>More info: <a href="https://www.golnetwork.com/game/v/155142/">#7
	17</a>\n\n</BODY>\n</HTML>
STATUS:CONFIRMED
CLASS:PUBLIC
URL:https://www.golnetwork.com/game/v/155142/
X-MICROSOFT-CDO-BUSYSTATUS:BUSY
X-MICROSOFT-CDO-IMPORTANCE:1
END:VEVENT
BEGIN:VEVENT
UID:gfn8m@games.golnetwork.com
LOCATION:MetroGolf SportsPlex - Field 1
CREATED:20200128T155010Z
DTSTART:20200323T230000Z
DTEND:20200324T000000Z
DTSTAMP:20260420T212633Z
SUMMARY:Brick Squad vs. Lenda FC
DESCRIPTION:Lenda FC vs. Brick SquadMore info: #784
X-ALT-DESC;FMTTYPE=text/html:<!DOCTYPE HTML PUBLIC "-//W3C//DTD HTML 3.2//E
	N">\n<HTML>\n<HEAD>\n<TITLE></TITLE>\n</HEAD>\n<BODY>\n<h3>Lenda FC vs. Bri
	ck Squad</h3>More info: <a href="https://www.golnetwork.com/game/v/155126/"
	>#784</a>\n\n</BODY>\n</HTML>
STATUS:CONFIRMED
CLASS:PUBLIC
URL:https://www.golnetwork.com/game/v/155126/
X-MICROSOFT-CDO-BUSYSTATUS:BUSY
X-MICROSOFT-CDO-IMPORTANCE:1
END:VEVENT
BEGIN:VEVENT
UID:gfn8k@games.golnetwork.com
LOCATION:MetroGolf SportsPlex - Field 1
CREATED:20200128T155002Z
DTSTART:20200324T000000Z
DTEND:20200324T010000Z
DTSTAMP:20260420T212633Z
SUMMARY:Toronto Pickering FC vs. Boro FC
DESCRIPTION:Boro FC vs. Toronto Pickering FCMore info: #787
X-ALT-DESC;FMTTYPE=text/html:<!DOCTYPE HTML PUBLIC "-//W3C//DTD HTML 3.2//E
	N">\n<HTML>\n<HEAD>\n<TITLE></TITLE>\n</HEAD>\n<BODY>\n<h3>Boro FC vs. Toro
	nto Pickering FC</h3>More info: <a href="https://www.golnetwork.com/game/v/
	155125/">#787</a>\n\n</BODY>\n</HTML>
STATUS:CONFIRMED
CLASS:PUBLIC
URL:https://www.golnetwork.com/game/v/155125/
X-MICROSOFT-CDO-BUSYSTATUS:BUSY
X-MICROSOFT-CDO-IMPORTANCE:1
END:VEVENT
BEGIN:VEVENT
UID:gfn8i@games.golnetwork.com
LOCATION:MetroGolf SportsPlex - Field 1
CREATED:20200128T154952Z
DTSTART:20200324T010000Z
DTEND:20200324T020000Z
DTSTAMP:20260420T212633Z
SUMMARY:Jerk Chicken United vs. Channel Niners
DESCRIPTION:Channel Niners vs. Jerk Chicken UnitedMore info: #790
X-ALT-DESC;FMTTYPE=text/html:<!DOCTYPE HTML PUBLIC "-//W3C//DTD HTML 3.2//E
	N">\n<HTML>\n<HEAD>\n<TITLE></TITLE>\n</HEAD>\n<BODY>\n<h3>Channel Niners v
	s. Jerk Chicken United</h3>More info: <a href="https://www.golnetwork.com/g
	ame/v/155124/">#790</a>\n\n</BODY>\n</HTML>
STATUS:CONFIRMED
CLASS:PUBLIC
URL:https://www.golnetwork.com/game/v/155124/
X-MICROSOFT-CDO-BUSYSTATUS:BUSY
X-MICROSOFT-CDO-IMPORTANCE:1
END:VEVENT
BEGIN:VEVENT
UID:gfn8g@games.golnetwork.com
LOCATION:MetroGolf SportsPlex - Field 1
CREATED:20200128T154943Z
DTSTART:20200324T020000Z
DTEND:20200324T030000Z
DTSTAMP:20260420T212633Z
SUMMARY:The Grass Kickers vs. We Try FC
DESCRIPTION:We Try FC vs. The Grass KickersMore info: #793
X-ALT-DESC;FMTTYPE=text/html:<!DOCTYPE HTML PUBLIC "-//W3C//DTD HTML 3.2//E
	N">\n<HTML>\n<HEAD>\n<TITLE></TITLE>\n</HEAD>\n<BODY>\n<h3>We Try FC vs. Th
	e Grass Kickers</h3>More info: <a href="https://www.golnetwork.com/game/v/1
	55123/">#793</a>\n\n</BODY>\n</HTML>
STATUS:CONFIRMED
CLASS:PUBLIC
URL:https://www.golnetwork.com/game/v/155123/
X-MICROSOFT-CDO-BUSYSTATUS:BUSY
X-MICROSOFT-CDO-IMPORTANCE:1
END:VEVENT
BEGIN:VEVENT
UID:gfna4@games.golnetwork.com
LOCATION:MetroGolf SportsPlex - Field 1
CREATED:20200128T155435Z
DTSTART:20200330T230000Z
DTEND:20200331T000000Z
DTSTAMP:20260420T212633Z
SUMMARY:TBD* vs. TBD*
DESCRIPTION:TBD* vs. TBD*More info: #854
X-ALT-DESC;FMTTYPE=text/html:<!DOCTYPE HTML PUBLIC "-//W3C//DTD HTML 3.2//E
	N">\n<HTML>\n<HEAD>\n<TITLE></TITLE>\n</HEAD>\n<BODY>\n<h3>TBD* vs. TBD*</h
	3>More info: <a href="https://www.golnetwork.com/game/v/155144/">#854</a>\n
	\n</BODY>\n</HTML>
STATUS:CONFIRMED
CLASS:PUBLIC
URL:https://www.golnetwork.com/game/v/155144/
X-MICROSOFT-CDO-BUSYSTATUS:BUSY
X-MICROSOFT-CDO-IMPORTANCE:1
END:VEVENT
BEGIN:VEVENT
UID:gfna2@games.golnetwork.com
LOCATION:MetroGolf SportsPlex - Field 1
CREATED:20200128T155431Z
DTSTART:20200331T020000Z
DTEND:20200331T030000Z
DTSTAMP:20260420T212633Z
SUMMARY:TBD* vs. TBD*
DESCRIPTION:TBD* vs. TBD*More info: #863
X-ALT-DESC;FMTTYPE=text/html:<!DOCTYPE HTML PUBLIC "-//W3C//DTD HTML 3.2//E
	N">\n<HTML>\n<HEAD>\n<TITLE></TITLE>\n</HEAD>\n<BODY>\n<h3>TBD* vs. TBD*</h
	3>More info: <a href="https://www.golnetwork.com/game/v/155143/">#863</a>\n
	\n</BODY>\n</HTML>
STATUS:CONFIRMED
CLASS:PUBLIC
URL:https://www.golnetwork.com/game/v/155143/
X-MICROSOFT-CDO-BUSYSTATUS:BUSY
X-MICROSOFT-CDO-IMPORTANCE:1
END:VEVENT
BEGIN:VEVENT
UID:gfna6@games.golnetwork.com
LOCATION:MetroGolf SportsPlex - Field 1
CREATED:20200128T155439Z
DTSTART:20200406T230000Z
DTEND:20200407T000000Z
DTSTAMP:20260420T212633Z
SUMMARY:TBD* vs. TBD*
DESCRIPTION:TBD* vs. TBD*More info: #916
X-ALT-DESC;FMTTYPE=text/html:<!DOCTYPE HTML PUBLIC "-//W3C//DTD HTML 3.2//E
	N">\n<HTML>\n<HEAD>\n<TITLE></TITLE>\n</HEAD>\n<BODY>\n<h3>TBD* vs. TBD*</h
	3>More info: <a href="https://www.golnetwork.com/game/v/155145/">#916</a>\n
	\n</BODY>\n</HTML>
STATUS:CONFIRMED
CLASS:PUBLIC
URL:https://www.golnetwork.com/game/v/155145/
X-MICROSOFT-CDO-BUSYSTATUS:BUSY
X-MICROSOFT-CDO-IMPORTANCE:1
END:VEVENT
BEGIN:VEVENT
UID:gfna8@games.golnetwork.com
LOCATION:MetroGolf SportsPlex - Field 1
CREATED:20200128T155442Z
DTSTART:20200407T010000Z
DTEND:20200407T020000Z
DTSTAMP:20260420T212633Z
SUMMARY:TBD* vs. TBD*
DESCRIPTION:TBD* vs. TBD*More info: #921
X-ALT-DESC;FMTTYPE=text/html:<!DOCTYPE HTML PUBLIC "-//W3C//DTD HTML 3.2//E
	N">\n<HTML>\n<HEAD>\n<TITLE></TITLE>\n</HEAD>\n<BODY>\n<h3>TBD* vs. TBD*</h
	3>More info: <a href="https://www.golnetwork.com/game/v/155146/">#921</a>\n
	\n</BODY>\n</HTML>
STATUS:CONFIRMED
CLASS:PUBLIC
URL:https://www.golnetwork.com/game/v/155146/
X-MICROSOFT-CDO-BUSYSTATUS:BUSY
X-MICROSOFT-CDO-IMPORTANCE:1
END:VEVENT
BEGIN:VEVENT
UID:gfnaa@games.golnetwork.com
LOCATION:MetroGolf SportsPlex - Field 1
CREATED:20200128T155445Z
DTSTART:20200407T020000Z
DTEND:20200407T030000Z
DTSTAMP:20260420T212633Z
SUMMARY:TBD* vs. TBD*
DESCRIPTION:TBD* vs. TBD*More info: #924
X-ALT-DESC;FMTTYPE=text/html:<!DOCTYPE HTML PUBLIC "-//W3C//DTD HTML 3.2//E
	N">\n<HTML>\n<HEAD>\n<TITLE></TITLE>\n</HEAD>\n<BODY>\n<h3>TBD* vs. TBD*</h
	3>More info: <a href="https://www.golnetwork.com/game/v/155147/">#924</a>\n
	\n</BODY>\n</HTML>
STATUS:CONFIRMED
CLASS:PUBLIC
URL:https://www.golnetwork.com/game/v/155147/
X-MICROSOFT-CDO-BUSYSTATUS:BUSY
X-MICROSOFT-CDO-IMPORTANCE:1
END:VEVENT
END:VCALENDAR
