BEGIN:VCALENDAR
PRODID:-//gdesolutions.com//MV Framework 1.0.0.1607 Calendar//EN
VERSION:2.0
METHOD:PUBLISH
CALSCALE:GREGORIAN
BEGIN:VEVENT
UID:gfll3@games.golnetwork.com
LOCATION:Albert Street COLT Gym
GEO:45.4168764;-75.7064231
CREATED:20200102T203052Z
DTSTART:20200107T010000Z
DTEND:20200107T020000Z
DTSTAMP:20260422T041616Z
SUMMARY:Vipers vs. Norway Jose
DESCRIPTION:Norway Jose vs. VipersMore info: #1
X-ALT-DESC;FMTTYPE=text/html:<!DOCTYPE HTML PUBLIC "-//W3C//DTD HTML 3.2//E
	N">\n<HTML>\n<HEAD>\n<TITLE></TITLE>\n</HEAD>\n<BODY>\n<h3>Norway Jose vs. 
	Vipers</h3>More info: <a href="https://www.golnetwork.com/game/v/154563/">#
	1</a>\n\n</BODY>\n</HTML>
STATUS:CONFIRMED
CLASS:PUBLIC
URL:https://www.golnetwork.com/game/v/154563/
X-MICROSOFT-CDO-BUSYSTATUS:BUSY
X-MICROSOFT-CDO-IMPORTANCE:1
END:VEVENT
BEGIN:VEVENT
UID:gfll5@games.golnetwork.com
LOCATION:Albert Street COLT Gym
GEO:45.4168764;-75.7064231
CREATED:20200102T203058Z
DTSTART:20200107T020000Z
DTEND:20200107T030000Z
DTSTAMP:20260422T041616Z
SUMMARY:Short Pass vs. OLE
DESCRIPTION:OLE vs. Short PassMore info: #2
X-ALT-DESC;FMTTYPE=text/html:<!DOCTYPE HTML PUBLIC "-//W3C//DTD HTML 3.2//E
	N">\n<HTML>\n<HEAD>\n<TITLE></TITLE>\n</HEAD>\n<BODY>\n<h3>OLE vs. Short Pa
	ss</h3>More info: <a href="https://www.golnetwork.com/game/v/154564/">#2</a
	>\n\n</BODY>\n</HTML>
STATUS:CONFIRMED
CLASS:PUBLIC
URL:https://www.golnetwork.com/game/v/154564/
X-MICROSOFT-CDO-BUSYSTATUS:BUSY
X-MICROSOFT-CDO-IMPORTANCE:1
END:VEVENT
BEGIN:VEVENT
UID:gfm7g@games.golnetwork.com
LOCATION:Albert Street COLT Gym
GEO:45.4168764;-75.7064231
CREATED:20200111T221316Z
DTSTART:20200114T010000Z
DTEND:20200114T020000Z
DTSTAMP:20260422T041616Z
SUMMARY:OLE vs. Vipers
DESCRIPTION:Vipers vs. OLEMore info: #3
X-ALT-DESC;FMTTYPE=text/html:<!DOCTYPE HTML PUBLIC "-//W3C//DTD HTML 3.2//E
	N">\n<HTML>\n<HEAD>\n<TITLE></TITLE>\n</HEAD>\n<BODY>\n<h3>Vipers vs. OLE</
	h3>More info: <a href="https://www.golnetwork.com/game/v/154745/">#3</a>\n\
	n</BODY>\n</HTML>
STATUS:CONFIRMED
CLASS:PUBLIC
URL:https://www.golnetwork.com/game/v/154745/
X-MICROSOFT-CDO-BUSYSTATUS:BUSY
X-MICROSOFT-CDO-IMPORTANCE:1
END:VEVENT
BEGIN:VEVENT
UID:gfm7i@games.golnetwork.com
LOCATION:Albert Street COLT Gym
GEO:45.4168764;-75.7064231
CREATED:20200111T221324Z
DTSTART:20200114T020000Z
DTEND:20200114T030000Z
DTSTAMP:20260422T041616Z
SUMMARY:Individuals vs. Short Pass
DESCRIPTION:Short Pass vs. IndividualsMore info: #4
X-ALT-DESC;FMTTYPE=text/html:<!DOCTYPE HTML PUBLIC "-//W3C//DTD HTML 3.2//E
	N">\n<HTML>\n<HEAD>\n<TITLE></TITLE>\n</HEAD>\n<BODY>\n<h3>Short Pass vs. I
	ndividuals</h3>More info: <a href="https://www.golnetwork.com/game/v/154746
	/">#4</a>\n\n</BODY>\n</HTML>
STATUS:CONFIRMED
CLASS:PUBLIC
URL:https://www.golnetwork.com/game/v/154746/
X-MICROSOFT-CDO-BUSYSTATUS:BUSY
X-MICROSOFT-CDO-IMPORTANCE:1
END:VEVENT
BEGIN:VEVENT
UID:gfm7k@games.golnetwork.com
LOCATION:Colonel By High School
GEO:45.4552857;-75.6002507
CREATED:20200111T221332Z
DTSTART:20200114T020000Z
DTEND:20200114T030000Z
DTSTAMP:20260422T041616Z
SUMMARY:Puma vs. Norway Jose
DESCRIPTION:Norway Jose vs. PumaMore info: #5
X-ALT-DESC;FMTTYPE=text/html:<!DOCTYPE HTML PUBLIC "-//W3C//DTD HTML 3.2//E
	N">\n<HTML>\n<HEAD>\n<TITLE></TITLE>\n</HEAD>\n<BODY>\n<h3>Norway Jose vs. 
	Puma</h3>More info: <a href="https://www.golnetwork.com/game/v/154747/">#5<
	/a>\n\n</BODY>\n</HTML>
STATUS:CONFIRMED
CLASS:PUBLIC
URL:https://www.golnetwork.com/game/v/154747/
X-MICROSOFT-CDO-BUSYSTATUS:BUSY
X-MICROSOFT-CDO-IMPORTANCE:1
END:VEVENT
BEGIN:VEVENT
UID:gfm7m@games.golnetwork.com
LOCATION:Colonel By High School
GEO:45.4552857;-75.6002507
CREATED:20200111T221353Z
DTSTART:20200121T000000Z
DTEND:20200121T010000Z
DTSTAMP:20260422T041616Z
SUMMARY:OLE vs. Puma
DESCRIPTION:Puma vs. OLEMore info: #6
X-ALT-DESC;FMTTYPE=text/html:<!DOCTYPE HTML PUBLIC "-//W3C//DTD HTML 3.2//E
	N">\n<HTML>\n<HEAD>\n<TITLE></TITLE>\n</HEAD>\n<BODY>\n<h3>Puma vs. OLE</h3
	>More info: <a href="https://www.golnetwork.com/game/v/154748/">#6</a>\n\n<
	/BODY>\n</HTML>
STATUS:CONFIRMED
CLASS:PUBLIC
URL:https://www.golnetwork.com/game/v/154748/
X-MICROSOFT-CDO-BUSYSTATUS:BUSY
X-MICROSOFT-CDO-IMPORTANCE:1
END:VEVENT
BEGIN:VEVENT
UID:gfm87@games.golnetwork.com
LOCATION:Albert Street COLT Gym
GEO:45.4168764;-75.7064231
CREATED:20200111T221501Z
DTSTART:20200121T010000Z
DTEND:20200121T020000Z
DTSTAMP:20260422T041616Z
SUMMARY:Norway Jose vs. Individuals
DESCRIPTION:Individuals vs. Norway JoseMore info: #7
X-ALT-DESC;FMTTYPE=text/html:<!DOCTYPE HTML PUBLIC "-//W3C//DTD HTML 3.2//E
	N">\n<HTML>\n<HEAD>\n<TITLE></TITLE>\n</HEAD>\n<BODY>\n<h3>Individuals vs. 
	Norway Jose</h3>More info: <a href="https://www.golnetwork.com/game/v/15475
	4/">#7</a>\n\n</BODY>\n</HTML>
STATUS:CONFIRMED
CLASS:PUBLIC
URL:https://www.golnetwork.com/game/v/154754/
X-MICROSOFT-CDO-BUSYSTATUS:BUSY
X-MICROSOFT-CDO-IMPORTANCE:1
END:VEVENT
BEGIN:VEVENT
UID:gfm7q@games.golnetwork.com
LOCATION:Albert Street COLT Gym
GEO:45.4168764;-75.7064231
CREATED:20200111T221408Z
DTSTART:20200121T020000Z
DTEND:20200121T030000Z
DTSTAMP:20260422T041616Z
SUMMARY:Vipers vs. Short Pass
DESCRIPTION:Short Pass vs. VipersMore info: #8
X-ALT-DESC;FMTTYPE=text/html:<!DOCTYPE HTML PUBLIC "-//W3C//DTD HTML 3.2//E
	N">\n<HTML>\n<HEAD>\n<TITLE></TITLE>\n</HEAD>\n<BODY>\n<h3>Short Pass vs. V
	ipers</h3>More info: <a href="https://www.golnetwork.com/game/v/154750/">#8
	</a>\n\n</BODY>\n</HTML>
STATUS:CONFIRMED
CLASS:PUBLIC
URL:https://www.golnetwork.com/game/v/154750/
X-MICROSOFT-CDO-BUSYSTATUS:BUSY
X-MICROSOFT-CDO-IMPORTANCE:1
END:VEVENT
BEGIN:VEVENT
UID:gfm85@games.golnetwork.com
LOCATION:Colonel By High School
GEO:45.4552857;-75.6002507
CREATED:20200111T221433Z
DTSTART:20200128T000000Z
DTEND:20200128T010000Z
DTSTAMP:20260422T041616Z
SUMMARY:Puma vs. Vipers
DESCRIPTION:Vipers vs. PumaMore info: #9
X-ALT-DESC;FMTTYPE=text/html:<!DOCTYPE HTML PUBLIC "-//W3C//DTD HTML 3.2//E
	N">\n<HTML>\n<HEAD>\n<TITLE></TITLE>\n</HEAD>\n<BODY>\n<h3>Vipers vs. Puma<
	/h3>More info: <a href="https://www.golnetwork.com/game/v/154753/">#9</a>\n
	\n</BODY>\n</HTML>
STATUS:CONFIRMED
CLASS:PUBLIC
URL:https://www.golnetwork.com/game/v/154753/
X-MICROSOFT-CDO-BUSYSTATUS:BUSY
X-MICROSOFT-CDO-IMPORTANCE:1
END:VEVENT
BEGIN:VEVENT
UID:gfm81@games.golnetwork.com
LOCATION:Albert Street COLT Gym
GEO:45.4168764;-75.7064231
CREATED:20200111T221418Z
DTSTART:20200128T010000Z
DTEND:20200128T020000Z
DTSTAMP:20260422T041616Z
SUMMARY:Short Pass vs. Norway Jose
DESCRIPTION:Norway Jose vs. Short PassMore info: #10
X-ALT-DESC;FMTTYPE=text/html:<!DOCTYPE HTML PUBLIC "-//W3C//DTD HTML 3.2//E
	N">\n<HTML>\n<HEAD>\n<TITLE></TITLE>\n</HEAD>\n<BODY>\n<h3>Norway Jose vs. 
	Short Pass</h3>More info: <a href="https://www.golnetwork.com/game/v/154751
	/">#10</a>\n\n</BODY>\n</HTML>
STATUS:CONFIRMED
CLASS:PUBLIC
URL:https://www.golnetwork.com/game/v/154751/
X-MICROSOFT-CDO-BUSYSTATUS:BUSY
X-MICROSOFT-CDO-IMPORTANCE:1
END:VEVENT
BEGIN:VEVENT
UID:gfm83@games.golnetwork.com
LOCATION:Albert Street COLT Gym
GEO:45.4168764;-75.7064231
CREATED:20200111T221425Z
DTSTART:20200128T020000Z
DTEND:20200128T030000Z
DTSTAMP:20260422T041616Z
SUMMARY:Individuals vs. OLE
DESCRIPTION:OLE vs. IndividualsMore info: #11
X-ALT-DESC;FMTTYPE=text/html:<!DOCTYPE HTML PUBLIC "-//W3C//DTD HTML 3.2//E
	N">\n<HTML>\n<HEAD>\n<TITLE></TITLE>\n</HEAD>\n<BODY>\n<h3>OLE vs. Individu
	als</h3>More info: <a href="https://www.golnetwork.com/game/v/154752/">#11<
	/a>\n\n</BODY>\n</HTML>
STATUS:CONFIRMED
CLASS:PUBLIC
URL:https://www.golnetwork.com/game/v/154752/
X-MICROSOFT-CDO-BUSYSTATUS:BUSY
X-MICROSOFT-CDO-IMPORTANCE:1
END:VEVENT
BEGIN:VEVENT
UID:gfnmi@games.golnetwork.com
LOCATION:Albert Street COLT Gym
GEO:45.4168764;-75.7064231
CREATED:20200130T231501Z
DTSTART:20200204T010000Z
DTEND:20200204T020000Z
DTSTAMP:20260422T041616Z
SUMMARY:Individuals vs. Vipers
DESCRIPTION:Vipers vs. IndividualsMore info: #12
X-ALT-DESC;FMTTYPE=text/html:<!DOCTYPE HTML PUBLIC "-//W3C//DTD HTML 3.2//E
	N">\n<HTML>\n<HEAD>\n<TITLE></TITLE>\n</HEAD>\n<BODY>\n<h3>Vipers vs. Indiv
	iduals</h3>More info: <a href="https://www.golnetwork.com/game/v/155313/">#
	12</a>\n\n</BODY>\n</HTML>
STATUS:CONFIRMED
CLASS:PUBLIC
URL:https://www.golnetwork.com/game/v/155313/
X-MICROSOFT-CDO-BUSYSTATUS:BUSY
X-MICROSOFT-CDO-IMPORTANCE:1
END:VEVENT
BEGIN:VEVENT
UID:gfnmk@games.golnetwork.com
LOCATION:Albert Street COLT Gym
GEO:45.4168764;-75.7064231
CREATED:20200130T231510Z
DTSTART:20200204T020000Z
DTEND:20200204T030000Z
DTSTAMP:20260422T041616Z
SUMMARY:Puma vs. Short Pass
DESCRIPTION:Short Pass vs. PumaMore info: #13
X-ALT-DESC;FMTTYPE=text/html:<!DOCTYPE HTML PUBLIC "-//W3C//DTD HTML 3.2//E
	N">\n<HTML>\n<HEAD>\n<TITLE></TITLE>\n</HEAD>\n<BODY>\n<h3>Short Pass vs. P
	uma</h3>More info: <a href="https://www.golnetwork.com/game/v/155314/">#13<
	/a>\n\n</BODY>\n</HTML>
STATUS:CONFIRMED
CLASS:PUBLIC
URL:https://www.golnetwork.com/game/v/155314/
X-MICROSOFT-CDO-BUSYSTATUS:BUSY
X-MICROSOFT-CDO-IMPORTANCE:1
END:VEVENT
BEGIN:VEVENT
UID:gfnmm@games.golnetwork.com
LOCATION:Colonel By High School
GEO:45.4552857;-75.6002507
CREATED:20200130T231515Z
DTSTART:20200204T020000Z
DTEND:20200204T030000Z
DTSTAMP:20260422T041616Z
SUMMARY:OLE vs. Norway Jose
DESCRIPTION:Norway Jose vs. OLEMore info: #14
X-ALT-DESC;FMTTYPE=text/html:<!DOCTYPE HTML PUBLIC "-//W3C//DTD HTML 3.2//E
	N">\n<HTML>\n<HEAD>\n<TITLE></TITLE>\n</HEAD>\n<BODY>\n<h3>Norway Jose vs. 
	OLE</h3>More info: <a href="https://www.golnetwork.com/game/v/155315/">#14<
	/a>\n\n</BODY>\n</HTML>
STATUS:CONFIRMED
CLASS:PUBLIC
URL:https://www.golnetwork.com/game/v/155315/
X-MICROSOFT-CDO-BUSYSTATUS:BUSY
X-MICROSOFT-CDO-IMPORTANCE:1
END:VEVENT
BEGIN:VEVENT
UID:gg0ak@games.golnetwork.com
LOCATION:Albert Street COLT Gym
GEO:45.4168764;-75.7064231
CREATED:20200228T201358Z
DTSTART:20200303T010000Z
DTEND:20200303T020000Z
DTSTAMP:20260422T041616Z
SUMMARY:Short Pass vs. Individuals
DESCRIPTION:Individuals vs. Short PassMore info: #21
X-ALT-DESC;FMTTYPE=text/html:<!DOCTYPE HTML PUBLIC "-//W3C//DTD HTML 3.2//E
	N">\n<HTML>\n<HEAD>\n<TITLE></TITLE>\n</HEAD>\n<BODY>\n<h3>Individuals vs. 
	Short Pass</h3>More info: <a href="https://www.golnetwork.com/game/v/156610
	/">#21</a>\n\n</BODY>\n</HTML>
STATUS:CONFIRMED
CLASS:PUBLIC
URL:https://www.golnetwork.com/game/v/156610/
X-MICROSOFT-CDO-BUSYSTATUS:BUSY
X-MICROSOFT-CDO-IMPORTANCE:1
END:VEVENT
BEGIN:VEVENT
UID:gg0ao@games.golnetwork.com
LOCATION:Colonel By High School
GEO:45.4552857;-75.6002507
CREATED:20200228T201410Z
DTSTART:20200303T010000Z
DTEND:20200303T020000Z
DTSTAMP:20260422T041616Z
SUMMARY:Norway Jose vs. Puma
DESCRIPTION:Puma vs. Norway JoseMore info: #22
X-ALT-DESC;FMTTYPE=text/html:<!DOCTYPE HTML PUBLIC "-//W3C//DTD HTML 3.2//E
	N">\n<HTML>\n<HEAD>\n<TITLE></TITLE>\n</HEAD>\n<BODY>\n<h3>Puma vs. Norway 
	Jose</h3>More info: <a href="https://www.golnetwork.com/game/v/156612/">#22
	</a>\n\n</BODY>\n</HTML>
STATUS:CONFIRMED
CLASS:PUBLIC
URL:https://www.golnetwork.com/game/v/156612/
X-MICROSOFT-CDO-BUSYSTATUS:BUSY
X-MICROSOFT-CDO-IMPORTANCE:1
END:VEVENT
END:VCALENDAR
