BEGIN:VCALENDAR
PRODID:-//gdesolutions.com//MV Framework 1.0.0.1607 Calendar//EN
VERSION:2.0
METHOD:PUBLISH
CALSCALE:GREGORIAN
BEGIN:VEVENT
UID:gfqq9@games.golnetwork.com
LOCATION:Colonel By High School
GEO:45.4552857;-75.6002507
CREATED:20200223T003507Z
DTSTART:20200225T000000Z
DTEND:20200225T005500Z
DTSTAMP:20260422T020846Z
SUMMARY:TBD vs. Feedbag
DESCRIPTION:Feedbag vs. TBDMore info: #1
X-ALT-DESC;FMTTYPE=text/html:<!DOCTYPE HTML PUBLIC "-//W3C//DTD HTML 3.2//E
	N">\n<HTML>\n<HEAD>\n<TITLE></TITLE>\n</HEAD>\n<BODY>\n<h3>Feedbag vs. TBD<
	/h3>More info: <a href="https://www.golnetwork.com/game/v/156456/">#1</a>\n
	\n</BODY>\n</HTML>
STATUS:CONFIRMED
CLASS:PUBLIC
URL:https://www.golnetwork.com/game/v/156456/
X-MICROSOFT-CDO-BUSYSTATUS:BUSY
X-MICROSOFT-CDO-IMPORTANCE:1
END:VEVENT
BEGIN:VEVENT
UID:gfqqd@games.golnetwork.com
LOCATION:Assumption School Gym
GEO:45.4350102;-75.6602042
CREATED:20200223T003525Z
DTSTART:20200225T000000Z
DTEND:20200225T005500Z
DTSTAMP:20260422T020846Z
SUMMARY:The B Team vs. The Hot Lobsters
DESCRIPTION:The Hot Lobsters vs. The B TeamMore info: #2
X-ALT-DESC;FMTTYPE=text/html:<!DOCTYPE HTML PUBLIC "-//W3C//DTD HTML 3.2//E
	N">\n<HTML>\n<HEAD>\n<TITLE></TITLE>\n</HEAD>\n<BODY>\n<h3>The Hot Lobsters
	 vs. The B Team</h3>More info: <a href="https://www.golnetwork.com/game/v/1
	56458/">#2</a>\n\n</BODY>\n</HTML>
STATUS:CONFIRMED
CLASS:PUBLIC
URL:https://www.golnetwork.com/game/v/156458/
X-MICROSOFT-CDO-BUSYSTATUS:BUSY
X-MICROSOFT-CDO-IMPORTANCE:1
END:VEVENT
BEGIN:VEVENT
UID:gfqqf@games.golnetwork.com
LOCATION:Assumption School Gym
GEO:45.4350102;-75.6602042
CREATED:20200223T003532Z
DTSTART:20200225T010000Z
DTEND:20200225T015500Z
DTSTAMP:20260422T020846Z
SUMMARY:Cool Beans vs. Mighty-Chondria
DESCRIPTION:Mighty-Chondria vs. Cool BeansMore info: #3
X-ALT-DESC;FMTTYPE=text/html:<!DOCTYPE HTML PUBLIC "-//W3C//DTD HTML 3.2//E
	N">\n<HTML>\n<HEAD>\n<TITLE></TITLE>\n</HEAD>\n<BODY>\n<h3>Mighty-Chondria 
	vs. Cool Beans</h3>More info: <a href="https://www.golnetwork.com/game/v/15
	6459/">#3</a>\n\n</BODY>\n</HTML>
STATUS:CONFIRMED
CLASS:PUBLIC
URL:https://www.golnetwork.com/game/v/156459/
X-MICROSOFT-CDO-BUSYSTATUS:BUSY
X-MICROSOFT-CDO-IMPORTANCE:1
END:VEVENT
BEGIN:VEVENT
UID:gfqqb@games.golnetwork.com
LOCATION:Colonel By High School
GEO:45.4552857;-75.6002507
CREATED:20200223T003514Z
DTSTART:20200225T020000Z
DTEND:20200225T025500Z
DTSTAMP:20260422T020846Z
SUMMARY:The Doms and the Rest of Us vs. I thought this was trivia night
DESCRIPTION:I thought this was trivia night vs. The Doms and the Rest of Us
	More info: #4
X-ALT-DESC;FMTTYPE=text/html:<!DOCTYPE HTML PUBLIC "-//W3C//DTD HTML 3.2//E
	N">\n<HTML>\n<HEAD>\n<TITLE></TITLE>\n</HEAD>\n<BODY>\n<h3>I thought this w
	as trivia night vs. The Doms and the Rest of Us</h3>More info: <a href="htt
	ps://www.golnetwork.com/game/v/156457/">#4</a>\n\n</BODY>\n</HTML>
STATUS:CONFIRMED
CLASS:PUBLIC
URL:https://www.golnetwork.com/game/v/156457/
X-MICROSOFT-CDO-BUSYSTATUS:BUSY
X-MICROSOFT-CDO-IMPORTANCE:1
END:VEVENT
BEGIN:VEVENT
UID:gfqqh@games.golnetwork.com
LOCATION:Assumption School Gym
GEO:45.4350102;-75.6602042
CREATED:20200223T003537Z
DTSTART:20200225T020000Z
DTEND:20200225T025500Z
DTSTAMP:20260422T020846Z
SUMMARY:Orange is the new Pink vs. Goal Diggers
DESCRIPTION:Goal Diggers vs. Orange is the new PinkMore info: #5
X-ALT-DESC;FMTTYPE=text/html:<!DOCTYPE HTML PUBLIC "-//W3C//DTD HTML 3.2//E
	N">\n<HTML>\n<HEAD>\n<TITLE></TITLE>\n</HEAD>\n<BODY>\n<h3>Goal Diggers vs.
	 Orange is the new Pink</h3>More info: <a href="https://www.golnetwork.com/
	game/v/156460/">#5</a>\n\n</BODY>\n</HTML>
STATUS:CONFIRMED
CLASS:PUBLIC
URL:https://www.golnetwork.com/game/v/156460/
X-MICROSOFT-CDO-BUSYSTATUS:BUSY
X-MICROSOFT-CDO-IMPORTANCE:1
END:VEVENT
BEGIN:VEVENT
UID:gg0b3@games.golnetwork.com
LOCATION:Colonel By High School
GEO:45.4552857;-75.6002507
CREATED:20200228T210904Z
DTSTART:20200303T000000Z
DTEND:20200303T005500Z
DTSTAMP:20260422T020846Z
SUMMARY:TBD* vs. Orange is the new Pink
DESCRIPTION:Orange is the new Pink vs. TBD*More info: #6
X-ALT-DESC;FMTTYPE=text/html:<!DOCTYPE HTML PUBLIC "-//W3C//DTD HTML 3.2//E
	N">\n<HTML>\n<HEAD>\n<TITLE></TITLE>\n</HEAD>\n<BODY>\n<h3>Orange is the ne
	w Pink vs. TBD*</h3>More info: <a href="https://www.golnetwork.com/game/v/1
	56615/">#6</a>\n\n</BODY>\n</HTML>
STATUS:CONFIRMED
CLASS:PUBLIC
URL:https://www.golnetwork.com/game/v/156615/
X-MICROSOFT-CDO-BUSYSTATUS:BUSY
X-MICROSOFT-CDO-IMPORTANCE:1
END:VEVENT
BEGIN:VEVENT
UID:gg0b1@games.golnetwork.com
LOCATION:Colonel By High School
GEO:45.4552857;-75.6002507
CREATED:20200228T210858Z
DTSTART:20200303T000000Z
DTEND:20200303T005500Z
DTSTAMP:20260422T020846Z
SUMMARY:Goal Diggers vs. The Hot Lobsters
DESCRIPTION:The Hot Lobsters vs. Goal DiggersMore info: #7
X-ALT-DESC;FMTTYPE=text/html:<!DOCTYPE HTML PUBLIC "-//W3C//DTD HTML 3.2//E
	N">\n<HTML>\n<HEAD>\n<TITLE></TITLE>\n</HEAD>\n<BODY>\n<h3>The Hot Lobsters
	 vs. Goal Diggers</h3>More info: <a href="https://www.golnetwork.com/game/v
	/156614/">#7</a>\n\n</BODY>\n</HTML>
STATUS:CONFIRMED
CLASS:PUBLIC
URL:https://www.golnetwork.com/game/v/156614/
X-MICROSOFT-CDO-BUSYSTATUS:BUSY
X-MICROSOFT-CDO-IMPORTANCE:1
END:VEVENT
BEGIN:VEVENT
UID:gg0b7@games.golnetwork.com
LOCATION:Assumption School Gym
GEO:45.4350102;-75.6602042
CREATED:20200228T210924Z
DTSTART:20200303T000000Z
DTEND:20200303T005500Z
DTSTAMP:20260422T020846Z
SUMMARY:I thought this was trivia night vs. Feedbag
DESCRIPTION:Feedbag vs. I thought this was trivia nightMore info: #8
X-ALT-DESC;FMTTYPE=text/html:<!DOCTYPE HTML PUBLIC "-//W3C//DTD HTML 3.2//E
	N">\n<HTML>\n<HEAD>\n<TITLE></TITLE>\n</HEAD>\n<BODY>\n<h3>Feedbag vs. I th
	ought this was trivia night</h3>More info: <a href="https://www.golnetwork.
	com/game/v/156617/">#8</a>\n\n</BODY>\n</HTML>
STATUS:CONFIRMED
CLASS:PUBLIC
URL:https://www.golnetwork.com/game/v/156617/
X-MICROSOFT-CDO-BUSYSTATUS:BUSY
X-MICROSOFT-CDO-IMPORTANCE:1
END:VEVENT
BEGIN:VEVENT
UID:gg0b9@games.golnetwork.com
LOCATION:Assumption School Gym
GEO:45.4350102;-75.6602042
CREATED:20200228T210934Z
DTSTART:20200303T010000Z
DTEND:20200303T015500Z
DTSTAMP:20260422T020846Z
SUMMARY:Too Cool For Beans vs. Mighty-Chondria
DESCRIPTION:Mighty-Chondria vs. Too Cool For BeansMore info: #9
X-ALT-DESC;FMTTYPE=text/html:<!DOCTYPE HTML PUBLIC "-//W3C//DTD HTML 3.2//E
	N">\n<HTML>\n<HEAD>\n<TITLE></TITLE>\n</HEAD>\n<BODY>\n<h3>Mighty-Chondria 
	vs. Too Cool For Beans</h3>More info: <a href="https://www.golnetwork.com/g
	ame/v/156618/">#9</a>\n\n</BODY>\n</HTML>
STATUS:CONFIRMED
CLASS:PUBLIC
URL:https://www.golnetwork.com/game/v/156618/
X-MICROSOFT-CDO-BUSYSTATUS:BUSY
X-MICROSOFT-CDO-IMPORTANCE:1
END:VEVENT
BEGIN:VEVENT
UID:gg0b5@games.golnetwork.com
LOCATION:Colonel By High School
GEO:45.4552857;-75.6002507
CREATED:20200228T210915Z
DTSTART:20200303T020000Z
DTEND:20200303T025500Z
DTSTAMP:20260422T020846Z
SUMMARY:TBD vs. The Doms and the Rest of Us
DESCRIPTION:The Doms and the Rest of Us vs. TBDMore info: #10
X-ALT-DESC;FMTTYPE=text/html:<!DOCTYPE HTML PUBLIC "-//W3C//DTD HTML 3.2//E
	N">\n<HTML>\n<HEAD>\n<TITLE></TITLE>\n</HEAD>\n<BODY>\n<h3>The Doms and the
	 Rest of Us vs. TBD</h3>More info: <a href="https://www.golnetwork.com/game
	/v/156616/">#10</a>\n\n</BODY>\n</HTML>
STATUS:CONFIRMED
CLASS:PUBLIC
URL:https://www.golnetwork.com/game/v/156616/
X-MICROSOFT-CDO-BUSYSTATUS:BUSY
X-MICROSOFT-CDO-IMPORTANCE:1
END:VEVENT
BEGIN:VEVENT
UID:gg0bb@games.golnetwork.com
LOCATION:Assumption School Gym
GEO:45.4350102;-75.6602042
CREATED:20200228T210941Z
DTSTART:20200303T020000Z
DTEND:20200303T025500Z
DTSTAMP:20260422T020846Z
SUMMARY:Cool Beans vs. The B Team
DESCRIPTION:The B Team vs. Cool BeansMore info: #11
X-ALT-DESC;FMTTYPE=text/html:<!DOCTYPE HTML PUBLIC "-//W3C//DTD HTML 3.2//E
	N">\n<HTML>\n<HEAD>\n<TITLE></TITLE>\n</HEAD>\n<BODY>\n<h3>The B Team vs. C
	ool Beans</h3>More info: <a href="https://www.golnetwork.com/game/v/156619/
	">#11</a>\n\n</BODY>\n</HTML>
STATUS:CONFIRMED
CLASS:PUBLIC
URL:https://www.golnetwork.com/game/v/156619/
X-MICROSOFT-CDO-BUSYSTATUS:BUSY
X-MICROSOFT-CDO-IMPORTANCE:1
END:VEVENT
BEGIN:VEVENT
UID:gg0bd@games.golnetwork.com
LOCATION:Colonel By High School
GEO:45.4552857;-75.6002507
CREATED:20200228T210959Z
DTSTART:20200309T230000Z
DTEND:20200309T235500Z
DTSTAMP:20260422T020846Z
SUMMARY:Orange is the new Pink vs. The Doms and the Rest of Us
DESCRIPTION:The Doms and the Rest of Us vs. Orange is the new PinkMore info
	: #12
X-ALT-DESC;FMTTYPE=text/html:<!DOCTYPE HTML PUBLIC "-//W3C//DTD HTML 3.2//E
	N">\n<HTML>\n<HEAD>\n<TITLE></TITLE>\n</HEAD>\n<BODY>\n<h3>The Doms and the
	 Rest of Us vs. Orange is the new Pink</h3>More info: <a href="https://www.
	golnetwork.com/game/v/156620/">#12</a>\n\n</BODY>\n</HTML>
STATUS:CONFIRMED
CLASS:PUBLIC
URL:https://www.golnetwork.com/game/v/156620/
X-MICROSOFT-CDO-BUSYSTATUS:BUSY
X-MICROSOFT-CDO-IMPORTANCE:1
END:VEVENT
BEGIN:VEVENT
UID:gg0bj@games.golnetwork.com
LOCATION:Assumption School Gym
GEO:45.4350102;-75.6602042
CREATED:20200228T211021Z
DTSTART:20200309T230000Z
DTEND:20200309T235500Z
DTSTAMP:20260422T020846Z
SUMMARY:Cool Beans vs. The Hot Lobsters
DESCRIPTION:The Hot Lobsters vs. Cool BeansMore info: #13
X-ALT-DESC;FMTTYPE=text/html:<!DOCTYPE HTML PUBLIC "-//W3C//DTD HTML 3.2//E
	N">\n<HTML>\n<HEAD>\n<TITLE></TITLE>\n</HEAD>\n<BODY>\n<h3>The Hot Lobsters
	 vs. Cool Beans</h3>More info: <a href="https://www.golnetwork.com/game/v/1
	56623/">#13</a>\n\n</BODY>\n</HTML>
STATUS:CONFIRMED
CLASS:PUBLIC
URL:https://www.golnetwork.com/game/v/156623/
X-MICROSOFT-CDO-BUSYSTATUS:BUSY
X-MICROSOFT-CDO-IMPORTANCE:1
END:VEVENT
BEGIN:VEVENT
UID:gg0bf@games.golnetwork.com
LOCATION:Colonel By High School
GEO:45.4552857;-75.6002507
CREATED:20200228T211007Z
DTSTART:20200310T000000Z
DTEND:20200310T005500Z
DTSTAMP:20260422T020846Z
SUMMARY:The B Team vs. Mighty-Chondria
DESCRIPTION:Mighty-Chondria vs. The B TeamMore info: #14
X-ALT-DESC;FMTTYPE=text/html:<!DOCTYPE HTML PUBLIC "-//W3C//DTD HTML 3.2//E
	N">\n<HTML>\n<HEAD>\n<TITLE></TITLE>\n</HEAD>\n<BODY>\n<h3>Mighty-Chondria 
	vs. The B Team</h3>More info: <a href="https://www.golnetwork.com/game/v/15
	6621/">#14</a>\n\n</BODY>\n</HTML>
STATUS:CONFIRMED
CLASS:PUBLIC
URL:https://www.golnetwork.com/game/v/156621/
X-MICROSOFT-CDO-BUSYSTATUS:BUSY
X-MICROSOFT-CDO-IMPORTANCE:1
END:VEVENT
BEGIN:VEVENT
UID:gg0bh@games.golnetwork.com
LOCATION:Colonel By High School
GEO:45.4552857;-75.6002507
CREATED:20200228T211012Z
DTSTART:20200310T000000Z
DTEND:20200310T005500Z
DTSTAMP:20260422T020846Z
SUMMARY:TBD* vs. Too Cool For Beans
DESCRIPTION:Too Cool For Beans vs. TBD*More info: #15
X-ALT-DESC;FMTTYPE=text/html:<!DOCTYPE HTML PUBLIC "-//W3C//DTD HTML 3.2//E
	N">\n<HTML>\n<HEAD>\n<TITLE></TITLE>\n</HEAD>\n<BODY>\n<h3>Too Cool For Bea
	ns vs. TBD*</h3>More info: <a href="https://www.golnetwork.com/game/v/15662
	2/">#15</a>\n\n</BODY>\n</HTML>
STATUS:CONFIRMED
CLASS:PUBLIC
URL:https://www.golnetwork.com/game/v/156622/
X-MICROSOFT-CDO-BUSYSTATUS:BUSY
X-MICROSOFT-CDO-IMPORTANCE:1
END:VEVENT
BEGIN:VEVENT
UID:gg0bl@games.golnetwork.com
LOCATION:Assumption School Gym
GEO:45.4350102;-75.6602042
CREATED:20200228T211027Z
DTSTART:20200310T000000Z
DTEND:20200310T005500Z
DTSTAMP:20260422T020846Z
SUMMARY:Goal Diggers vs. Feedbag
DESCRIPTION:Feedbag vs. Goal DiggersMore info: #16
X-ALT-DESC;FMTTYPE=text/html:<!DOCTYPE HTML PUBLIC "-//W3C//DTD HTML 3.2//E
	N">\n<HTML>\n<HEAD>\n<TITLE></TITLE>\n</HEAD>\n<BODY>\n<h3>Feedbag vs. Goal
	 Diggers</h3>More info: <a href="https://www.golnetwork.com/game/v/156624/"
	>#16</a>\n\n</BODY>\n</HTML>
STATUS:CONFIRMED
CLASS:PUBLIC
URL:https://www.golnetwork.com/game/v/156624/
X-MICROSOFT-CDO-BUSYSTATUS:BUSY
X-MICROSOFT-CDO-IMPORTANCE:1
END:VEVENT
BEGIN:VEVENT
UID:gg0bn@games.golnetwork.com
LOCATION:Assumption School Gym
GEO:45.4350102;-75.6602042
CREATED:20200228T211033Z
DTSTART:20200310T010000Z
DTEND:20200310T015500Z
DTSTAMP:20260422T020846Z
SUMMARY:TBD vs. I thought this was trivia night
DESCRIPTION:I thought this was trivia night vs. TBDMore info: #17
X-ALT-DESC;FMTTYPE=text/html:<!DOCTYPE HTML PUBLIC "-//W3C//DTD HTML 3.2//E
	N">\n<HTML>\n<HEAD>\n<TITLE></TITLE>\n</HEAD>\n<BODY>\n<h3>I thought this w
	as trivia night vs. TBD</h3>More info: <a href="https://www.golnetwork.com/
	game/v/156625/">#17</a>\n\n</BODY>\n</HTML>
STATUS:CONFIRMED
CLASS:PUBLIC
URL:https://www.golnetwork.com/game/v/156625/
X-MICROSOFT-CDO-BUSYSTATUS:BUSY
X-MICROSOFT-CDO-IMPORTANCE:1
END:VEVENT
BEGIN:VEVENT
UID:gg1an@games.golnetwork.com
LOCATION:Nepean Sportsplex Field #1
GEO:45.3267752;-75.7452786
CREATED:20200313T131113Z
DTSTART:20200316T231500Z
DTEND:20200317T001000Z
DTSTAMP:20260422T020846Z
SUMMARY:The Doms and the Rest of Us vs. Mighty-Chondria
DESCRIPTION:Mighty-Chondria vs. The Doms and the Rest of UsMore info: #18
X-ALT-DESC;FMTTYPE=text/html:<!DOCTYPE HTML PUBLIC "-//W3C//DTD HTML 3.2//E
	N">\n<HTML>\n<HEAD>\n<TITLE></TITLE>\n</HEAD>\n<BODY>\n<h3>Mighty-Chondria 
	vs. The Doms and the Rest of Us</h3>More info: <a href="https://www.golnetw
	ork.com/game/v/156976/">#18</a>\n\n</BODY>\n</HTML>
STATUS:CONFIRMED
CLASS:PUBLIC
URL:https://www.golnetwork.com/game/v/156976/
X-MICROSOFT-CDO-BUSYSTATUS:BUSY
X-MICROSOFT-CDO-IMPORTANCE:1
END:VEVENT
BEGIN:VEVENT
UID:gg0c0@games.golnetwork.com
LOCATION:Nepean Sportsplex Field #1
GEO:45.3267752;-75.7452786
CREATED:20200228T212258Z
DTSTART:20200316T231500Z
DTEND:20200317T001000Z
DTSTAMP:20260422T020846Z
SUMMARY:I thought this was trivia night vs. Goal Diggers
DESCRIPTION:Goal Diggers vs. I thought this was trivia nightMore info: #19
X-ALT-DESC;FMTTYPE=text/html:<!DOCTYPE HTML PUBLIC "-//W3C//DTD HTML 3.2//E
	N">\n<HTML>\n<HEAD>\n<TITLE></TITLE>\n</HEAD>\n<BODY>\n<h3>Goal Diggers vs.
	 I thought this was trivia night</h3>More info: <a href="https://www.golnet
	work.com/game/v/156627/">#19</a>\n\n</BODY>\n</HTML>
STATUS:CONFIRMED
CLASS:PUBLIC
URL:https://www.golnetwork.com/game/v/156627/
X-MICROSOFT-CDO-BUSYSTATUS:BUSY
X-MICROSOFT-CDO-IMPORTANCE:1
END:VEVENT
BEGIN:VEVENT
UID:gg0c2@games.golnetwork.com
LOCATION:Nepean Sportsplex Field #1
GEO:45.3267752;-75.7452786
CREATED:20200228T212303Z
DTSTART:20200316T231500Z
DTEND:20200317T001000Z
DTSTAMP:20260422T020846Z
SUMMARY:TBD vs. Orange is the new Pink
DESCRIPTION:Orange is the new Pink vs. TBDMore info: #20
X-ALT-DESC;FMTTYPE=text/html:<!DOCTYPE HTML PUBLIC "-//W3C//DTD HTML 3.2//E
	N">\n<HTML>\n<HEAD>\n<TITLE></TITLE>\n</HEAD>\n<BODY>\n<h3>Orange is the ne
	w Pink vs. TBD</h3>More info: <a href="https://www.golnetwork.com/game/v/15
	6628/">#20</a>\n\n</BODY>\n</HTML>
STATUS:CONFIRMED
CLASS:PUBLIC
URL:https://www.golnetwork.com/game/v/156628/
X-MICROSOFT-CDO-BUSYSTATUS:BUSY
X-MICROSOFT-CDO-IMPORTANCE:1
END:VEVENT
BEGIN:VEVENT
UID:gg0c4@games.golnetwork.com
LOCATION:Nepean Sportsplex Field #1
GEO:45.3267752;-75.7452786
CREATED:20200228T212311Z
DTSTART:20200316T231500Z
DTEND:20200317T001000Z
DTSTAMP:20260422T020846Z
SUMMARY:Cool Beans vs. Too Cool For Beans
DESCRIPTION:Too Cool For Beans vs. Cool BeansMore info: #21
X-ALT-DESC;FMTTYPE=text/html:<!DOCTYPE HTML PUBLIC "-//W3C//DTD HTML 3.2//E
	N">\n<HTML>\n<HEAD>\n<TITLE></TITLE>\n</HEAD>\n<BODY>\n<h3>Too Cool For Bea
	ns vs. Cool Beans</h3>More info: <a href="https://www.golnetwork.com/game/v
	/156629/">#21</a>\n\n</BODY>\n</HTML>
STATUS:CONFIRMED
CLASS:PUBLIC
URL:https://www.golnetwork.com/game/v/156629/
X-MICROSOFT-CDO-BUSYSTATUS:BUSY
X-MICROSOFT-CDO-IMPORTANCE:1
END:VEVENT
BEGIN:VEVENT
UID:gg0c6@games.golnetwork.com
LOCATION:Nepean Sportsplex Field #1
GEO:45.3267752;-75.7452786
CREATED:20200228T212316Z
DTSTART:20200316T231500Z
DTEND:20200317T001000Z
DTSTAMP:20260422T020846Z
SUMMARY:Feedbag vs. The Hot Lobsters
DESCRIPTION:The Hot Lobsters vs. FeedbagMore info: #22
X-ALT-DESC;FMTTYPE=text/html:<!DOCTYPE HTML PUBLIC "-//W3C//DTD HTML 3.2//E
	N">\n<HTML>\n<HEAD>\n<TITLE></TITLE>\n</HEAD>\n<BODY>\n<h3>The Hot Lobsters
	 vs. Feedbag</h3>More info: <a href="https://www.golnetwork.com/game/v/1566
	30/">#22</a>\n\n</BODY>\n</HTML>
STATUS:CONFIRMED
CLASS:PUBLIC
URL:https://www.golnetwork.com/game/v/156630/
X-MICROSOFT-CDO-BUSYSTATUS:BUSY
X-MICROSOFT-CDO-IMPORTANCE:1
END:VEVENT
BEGIN:VEVENT
UID:gg1ap@games.golnetwork.com
LOCATION:Nepean Sportsplex Field #1
GEO:45.3267752;-75.7452786
CREATED:20200313T131133Z
DTSTART:20200317T004500Z
DTEND:20200317T014000Z
DTSTAMP:20260422T020846Z
SUMMARY:The B Team vs. The Hot Lobsters
DESCRIPTION:The Hot Lobsters vs. The B TeamMore info: #23
X-ALT-DESC;FMTTYPE=text/html:<!DOCTYPE HTML PUBLIC "-//W3C//DTD HTML 3.2//E
	N">\n<HTML>\n<HEAD>\n<TITLE></TITLE>\n</HEAD>\n<BODY>\n<h3>The Hot Lobsters
	 vs. The B Team</h3>More info: <a href="https://www.golnetwork.com/game/v/1
	56977/">#23</a>\n\n</BODY>\n</HTML>
STATUS:CONFIRMED
CLASS:PUBLIC
URL:https://www.golnetwork.com/game/v/156977/
X-MICROSOFT-CDO-BUSYSTATUS:BUSY
X-MICROSOFT-CDO-IMPORTANCE:1
END:VEVENT
END:VCALENDAR
