BEGIN:VCALENDAR
PRODID:-//gdesolutions.com//MV Framework 1.0.0.1607 Calendar//EN
VERSION:2.0
METHOD:PUBLISH
CALSCALE:GREGORIAN
BEGIN:VEVENT
UID:gg149@games.golnetwork.com
LOCATION:Central Tech - Field 2
GEO:43.6637272;-79.4087613
CREATED:20200305T171406Z
DTSTART:20200308T190000Z
DTEND:20200308T200000Z
DTSTAMP:20260421T004133Z
SUMMARY:Cheeky Grinders vs. CN Power
DESCRIPTION:CN Power vs. Cheeky GrindersMore info: #6
X-ALT-DESC;FMTTYPE=text/html:<!DOCTYPE HTML PUBLIC "-//W3C//DTD HTML 3.2//E
	N">\n<HTML>\n<HEAD>\n<TITLE></TITLE>\n</HEAD>\n<BODY>\n<h3>CN Power vs. Che
	eky Grinders</h3>More info: <a href="https://www.golnetwork.com/game/v/1568
	88/">#6</a>\n\n</BODY>\n</HTML>
STATUS:CONFIRMED
CLASS:PUBLIC
URL:https://www.golnetwork.com/game/v/156888/
X-MICROSOFT-CDO-BUSYSTATUS:BUSY
X-MICROSOFT-CDO-IMPORTANCE:1
END:VEVENT
BEGIN:VEVENT
UID:gg14b@games.golnetwork.com
LOCATION:Central Tech - Field 2
GEO:43.6637272;-79.4087613
CREATED:20200305T171413Z
DTSTART:20200308T200000Z
DTEND:20200308T210000Z
DTSTAMP:20260421T004133Z
SUMMARY:Mangoes FC vs. Timbit Soccer
DESCRIPTION:Timbit Soccer vs. Mangoes FCMore info: #8
X-ALT-DESC;FMTTYPE=text/html:<!DOCTYPE HTML PUBLIC "-//W3C//DTD HTML 3.2//E
	N">\n<HTML>\n<HEAD>\n<TITLE></TITLE>\n</HEAD>\n<BODY>\n<h3>Timbit Soccer vs
	. Mangoes FC</h3>More info: <a href="https://www.golnetwork.com/game/v/1568
	89/">#8</a>\n\n</BODY>\n</HTML>
STATUS:CONFIRMED
CLASS:PUBLIC
URL:https://www.golnetwork.com/game/v/156889/
X-MICROSOFT-CDO-BUSYSTATUS:BUSY
X-MICROSOFT-CDO-IMPORTANCE:1
END:VEVENT
BEGIN:VEVENT
UID:gg14d@games.golnetwork.com
LOCATION:Central Tech - Field 2
GEO:43.6637272;-79.4087613
CREATED:20200305T171420Z
DTSTART:20200308T210000Z
DTEND:20200308T220000Z
DTSTAMP:20260421T004133Z
SUMMARY:VPA United vs. Chamillionaires
DESCRIPTION:Chamillionaires vs. VPA UnitedMore info: #10
X-ALT-DESC;FMTTYPE=text/html:<!DOCTYPE HTML PUBLIC "-//W3C//DTD HTML 3.2//E
	N">\n<HTML>\n<HEAD>\n<TITLE></TITLE>\n</HEAD>\n<BODY>\n<h3>Chamillionaires 
	vs. VPA United</h3>More info: <a href="https://www.golnetwork.com/game/v/15
	6890/">#10</a>\n\n</BODY>\n</HTML>
STATUS:CONFIRMED
CLASS:PUBLIC
URL:https://www.golnetwork.com/game/v/156890/
X-MICROSOFT-CDO-BUSYSTATUS:BUSY
X-MICROSOFT-CDO-IMPORTANCE:1
END:VEVENT
BEGIN:VEVENT
UID:gg14f@games.golnetwork.com
LOCATION:Central Tech - Field 2
GEO:43.6637272;-79.4087613
CREATED:20200305T171430Z
DTSTART:20200315T220000Z
DTEND:20200315T230000Z
DTSTAMP:20260421T004133Z
SUMMARY:Mangoes FC vs. VPA United
DESCRIPTION:VPA United vs. Mangoes FCMore info: #21
X-ALT-DESC;FMTTYPE=text/html:<!DOCTYPE HTML PUBLIC "-//W3C//DTD HTML 3.2//E
	N">\n<HTML>\n<HEAD>\n<TITLE></TITLE>\n</HEAD>\n<BODY>\n<h3>VPA United vs. M
	angoes FC</h3>More info: <a href="https://www.golnetwork.com/game/v/156891/
	">#21</a>\n\n</BODY>\n</HTML>
STATUS:CONFIRMED
CLASS:PUBLIC
URL:https://www.golnetwork.com/game/v/156891/
X-MICROSOFT-CDO-BUSYSTATUS:BUSY
X-MICROSOFT-CDO-IMPORTANCE:1
END:VEVENT
BEGIN:VEVENT
UID:gg14h@games.golnetwork.com
LOCATION:Central Tech - Field 2
GEO:43.6637272;-79.4087613
CREATED:20200305T171438Z
DTSTART:20200315T230000Z
DTEND:20200316T000000Z
DTSTAMP:20260421T004133Z
SUMMARY:CN Power vs. Chamillionaires
DESCRIPTION:Chamillionaires vs. CN PowerMore info: #23
X-ALT-DESC;FMTTYPE=text/html:<!DOCTYPE HTML PUBLIC "-//W3C//DTD HTML 3.2//E
	N">\n<HTML>\n<HEAD>\n<TITLE></TITLE>\n</HEAD>\n<BODY>\n<h3>Chamillionaires 
	vs. CN Power</h3>More info: <a href="https://www.golnetwork.com/game/v/1568
	92/">#23</a>\n\n</BODY>\n</HTML>
STATUS:CONFIRMED
CLASS:PUBLIC
URL:https://www.golnetwork.com/game/v/156892/
X-MICROSOFT-CDO-BUSYSTATUS:BUSY
X-MICROSOFT-CDO-IMPORTANCE:1
END:VEVENT
BEGIN:VEVENT
UID:gg14j@games.golnetwork.com
LOCATION:Central Tech - Field 2
GEO:43.6637272;-79.4087613
CREATED:20200305T171444Z
DTSTART:20200316T000000Z
DTEND:20200316T010000Z
DTSTAMP:20260421T004133Z
SUMMARY:Timbit Soccer vs. Cheeky Grinders
DESCRIPTION:Cheeky Grinders vs. Timbit SoccerMore info: #24
X-ALT-DESC;FMTTYPE=text/html:<!DOCTYPE HTML PUBLIC "-//W3C//DTD HTML 3.2//E
	N">\n<HTML>\n<HEAD>\n<TITLE></TITLE>\n</HEAD>\n<BODY>\n<h3>Cheeky Grinders 
	vs. Timbit Soccer</h3>More info: <a href="https://www.golnetwork.com/game/v
	/156893/">#24</a>\n\n</BODY>\n</HTML>
STATUS:CONFIRMED
CLASS:PUBLIC
URL:https://www.golnetwork.com/game/v/156893/
X-MICROSOFT-CDO-BUSYSTATUS:BUSY
X-MICROSOFT-CDO-IMPORTANCE:1
END:VEVENT
BEGIN:VEVENT
UID:gg14l@games.golnetwork.com
LOCATION:Central Tech - Field 2
GEO:43.6637272;-79.4087613
CREATED:20200305T171454Z
DTSTART:20200323T010000Z
DTEND:20200323T020000Z
DTSTAMP:20260421T004133Z
SUMMARY:Timbit Soccer vs. VPA United
DESCRIPTION:VPA United vs. Timbit SoccerMore info: #48
X-ALT-DESC;FMTTYPE=text/html:<!DOCTYPE HTML PUBLIC "-//W3C//DTD HTML 3.2//E
	N">\n<HTML>\n<HEAD>\n<TITLE></TITLE>\n</HEAD>\n<BODY>\n<h3>VPA United vs. T
	imbit Soccer</h3>More info: <a href="https://www.golnetwork.com/game/v/1568
	94/">#48</a>\n\n</BODY>\n</HTML>
STATUS:CONFIRMED
CLASS:PUBLIC
URL:https://www.golnetwork.com/game/v/156894/
X-MICROSOFT-CDO-BUSYSTATUS:BUSY
X-MICROSOFT-CDO-IMPORTANCE:1
END:VEVENT
BEGIN:VEVENT
UID:gg14n@games.golnetwork.com
LOCATION:Central Tech - Field 2
GEO:43.6637272;-79.4087613
CREATED:20200305T171502Z
DTSTART:20200323T020000Z
DTEND:20200323T030000Z
DTSTAMP:20260421T004133Z
SUMMARY:Chamillionaires vs. Cheeky Grinders
DESCRIPTION:Cheeky Grinders vs. ChamillionairesMore info: #49
X-ALT-DESC;FMTTYPE=text/html:<!DOCTYPE HTML PUBLIC "-//W3C//DTD HTML 3.2//E
	N">\n<HTML>\n<HEAD>\n<TITLE></TITLE>\n</HEAD>\n<BODY>\n<h3>Cheeky Grinders 
	vs. Chamillionaires</h3>More info: <a href="https://www.golnetwork.com/game
	/v/156895/">#49</a>\n\n</BODY>\n</HTML>
STATUS:CONFIRMED
CLASS:PUBLIC
URL:https://www.golnetwork.com/game/v/156895/
X-MICROSOFT-CDO-BUSYSTATUS:BUSY
X-MICROSOFT-CDO-IMPORTANCE:1
END:VEVENT
BEGIN:VEVENT
UID:gg14p@games.golnetwork.com
LOCATION:Central Tech - Field 2
GEO:43.6637272;-79.4087613
CREATED:20200305T171509Z
DTSTART:20200323T030000Z
DTEND:20200323T040000Z
DTSTAMP:20260421T004133Z
SUMMARY:CN Power vs. Mangoes FC
DESCRIPTION:Mangoes FC vs. CN PowerMore info: #50
X-ALT-DESC;FMTTYPE=text/html:<!DOCTYPE HTML PUBLIC "-//W3C//DTD HTML 3.2//E
	N">\n<HTML>\n<HEAD>\n<TITLE></TITLE>\n</HEAD>\n<BODY>\n<h3>Mangoes FC vs. C
	N Power</h3>More info: <a href="https://www.golnetwork.com/game/v/156896/">
	#50</a>\n\n</BODY>\n</HTML>
STATUS:CONFIRMED
CLASS:PUBLIC
URL:https://www.golnetwork.com/game/v/156896/
X-MICROSOFT-CDO-BUSYSTATUS:BUSY
X-MICROSOFT-CDO-IMPORTANCE:1
END:VEVENT
BEGIN:VEVENT
UID:gg150@games.golnetwork.com
LOCATION:Central Tech - Field 2
GEO:43.6637272;-79.4087613
CREATED:20200305T171521Z
DTSTART:20200329T190000Z
DTEND:20200329T200000Z
DTSTAMP:20260421T004133Z
SUMMARY:Chamillionaires vs. Mangoes FC
DESCRIPTION:Mangoes FC vs. ChamillionairesMore info: #56
X-ALT-DESC;FMTTYPE=text/html:<!DOCTYPE HTML PUBLIC "-//W3C//DTD HTML 3.2//E
	N">\n<HTML>\n<HEAD>\n<TITLE></TITLE>\n</HEAD>\n<BODY>\n<h3>Mangoes FC vs. C
	hamillionaires</h3>More info: <a href="https://www.golnetwork.com/game/v/15
	6897/">#56</a>\n\n</BODY>\n</HTML>
STATUS:CONFIRMED
CLASS:PUBLIC
URL:https://www.golnetwork.com/game/v/156897/
X-MICROSOFT-CDO-BUSYSTATUS:BUSY
X-MICROSOFT-CDO-IMPORTANCE:1
END:VEVENT
BEGIN:VEVENT
UID:gg152@games.golnetwork.com
LOCATION:Central Tech - Field 2
GEO:43.6637272;-79.4087613
CREATED:20200305T171532Z
DTSTART:20200329T200000Z
DTEND:20200329T210000Z
DTSTAMP:20260421T004133Z
SUMMARY:Cheeky Grinders vs. VPA United
DESCRIPTION:VPA United vs. Cheeky GrindersMore info: #57
X-ALT-DESC;FMTTYPE=text/html:<!DOCTYPE HTML PUBLIC "-//W3C//DTD HTML 3.2//E
	N">\n<HTML>\n<HEAD>\n<TITLE></TITLE>\n</HEAD>\n<BODY>\n<h3>VPA United vs. C
	heeky Grinders</h3>More info: <a href="https://www.golnetwork.com/game/v/15
	6898/">#57</a>\n\n</BODY>\n</HTML>
STATUS:CONFIRMED
CLASS:PUBLIC
URL:https://www.golnetwork.com/game/v/156898/
X-MICROSOFT-CDO-BUSYSTATUS:BUSY
X-MICROSOFT-CDO-IMPORTANCE:1
END:VEVENT
BEGIN:VEVENT
UID:gg154@games.golnetwork.com
LOCATION:Central Tech - Field 2
GEO:43.6637272;-79.4087613
CREATED:20200305T171540Z
DTSTART:20200329T210000Z
DTEND:20200329T220000Z
DTSTAMP:20260421T004133Z
SUMMARY:Timbit Soccer vs. CN Power
DESCRIPTION:CN Power vs. Timbit SoccerMore info: #58
X-ALT-DESC;FMTTYPE=text/html:<!DOCTYPE HTML PUBLIC "-//W3C//DTD HTML 3.2//E
	N">\n<HTML>\n<HEAD>\n<TITLE></TITLE>\n</HEAD>\n<BODY>\n<h3>CN Power vs. Tim
	bit Soccer</h3>More info: <a href="https://www.golnetwork.com/game/v/156899
	/">#58</a>\n\n</BODY>\n</HTML>
STATUS:CONFIRMED
CLASS:PUBLIC
URL:https://www.golnetwork.com/game/v/156899/
X-MICROSOFT-CDO-BUSYSTATUS:BUSY
X-MICROSOFT-CDO-IMPORTANCE:1
END:VEVENT
BEGIN:VEVENT
UID:gg156@games.golnetwork.com
LOCATION:Central Tech - Field 2
GEO:43.6637272;-79.4087613
CREATED:20200305T171600Z
DTSTART:20200405T220000Z
DTEND:20200405T230000Z
DTSTAMP:20260421T004133Z
SUMMARY:Chamillionaires vs. Timbit Soccer
DESCRIPTION:Timbit Soccer vs. ChamillionairesMore info: #74
X-ALT-DESC;FMTTYPE=text/html:<!DOCTYPE HTML PUBLIC "-//W3C//DTD HTML 3.2//E
	N">\n<HTML>\n<HEAD>\n<TITLE></TITLE>\n</HEAD>\n<BODY>\n<h3>Timbit Soccer vs
	. Chamillionaires</h3>More info: <a href="https://www.golnetwork.com/game/v
	/156900/">#74</a>\n\n</BODY>\n</HTML>
STATUS:CONFIRMED
CLASS:PUBLIC
URL:https://www.golnetwork.com/game/v/156900/
X-MICROSOFT-CDO-BUSYSTATUS:BUSY
X-MICROSOFT-CDO-IMPORTANCE:1
END:VEVENT
BEGIN:VEVENT
UID:gg158@games.golnetwork.com
LOCATION:Central Tech - Field 2
GEO:43.6637272;-79.4087613
CREATED:20200305T171607Z
DTSTART:20200405T230000Z
DTEND:20200406T000000Z
DTSTAMP:20260421T004133Z
SUMMARY:Mangoes FC vs. Cheeky Grinders
DESCRIPTION:Cheeky Grinders vs. Mangoes FCMore info: #75
X-ALT-DESC;FMTTYPE=text/html:<!DOCTYPE HTML PUBLIC "-//W3C//DTD HTML 3.2//E
	N">\n<HTML>\n<HEAD>\n<TITLE></TITLE>\n</HEAD>\n<BODY>\n<h3>Cheeky Grinders 
	vs. Mangoes FC</h3>More info: <a href="https://www.golnetwork.com/game/v/15
	6901/">#75</a>\n\n</BODY>\n</HTML>
STATUS:CONFIRMED
CLASS:PUBLIC
URL:https://www.golnetwork.com/game/v/156901/
X-MICROSOFT-CDO-BUSYSTATUS:BUSY
X-MICROSOFT-CDO-IMPORTANCE:1
END:VEVENT
BEGIN:VEVENT
UID:gg15a@games.golnetwork.com
LOCATION:Central Tech - Field 2
GEO:43.6637272;-79.4087613
CREATED:20200305T171614Z
DTSTART:20200406T000000Z
DTEND:20200406T010000Z
DTSTAMP:20260421T004133Z
SUMMARY:VPA United vs. CN Power
DESCRIPTION:CN Power vs. VPA UnitedMore info: #76
X-ALT-DESC;FMTTYPE=text/html:<!DOCTYPE HTML PUBLIC "-//W3C//DTD HTML 3.2//E
	N">\n<HTML>\n<HEAD>\n<TITLE></TITLE>\n</HEAD>\n<BODY>\n<h3>CN Power vs. VPA
	 United</h3>More info: <a href="https://www.golnetwork.com/game/v/156902/">
	#76</a>\n\n</BODY>\n</HTML>
STATUS:CONFIRMED
CLASS:PUBLIC
URL:https://www.golnetwork.com/game/v/156902/
X-MICROSOFT-CDO-BUSYSTATUS:BUSY
X-MICROSOFT-CDO-IMPORTANCE:1
END:VEVENT
BEGIN:VEVENT
UID:gg15c@games.golnetwork.com
LOCATION:Central Tech - Field 2
GEO:43.6637272;-79.4087613
CREATED:20200305T171625Z
DTSTART:20200420T010000Z
DTEND:20200420T020000Z
DTSTAMP:20260421T004133Z
SUMMARY:CN Power vs. Cheeky Grinders
DESCRIPTION:Cheeky Grinders vs. CN PowerMore info: #91
X-ALT-DESC;FMTTYPE=text/html:<!DOCTYPE HTML PUBLIC "-//W3C//DTD HTML 3.2//E
	N">\n<HTML>\n<HEAD>\n<TITLE></TITLE>\n</HEAD>\n<BODY>\n<h3>Cheeky Grinders 
	vs. CN Power</h3>More info: <a href="https://www.golnetwork.com/game/v/1569
	03/">#91</a>\n\n</BODY>\n</HTML>
STATUS:CONFIRMED
CLASS:PUBLIC
URL:https://www.golnetwork.com/game/v/156903/
X-MICROSOFT-CDO-BUSYSTATUS:BUSY
X-MICROSOFT-CDO-IMPORTANCE:1
END:VEVENT
BEGIN:VEVENT
UID:gg15e@games.golnetwork.com
LOCATION:Central Tech - Field 2
GEO:43.6637272;-79.4087613
CREATED:20200305T171633Z
DTSTART:20200420T020000Z
DTEND:20200420T030000Z
DTSTAMP:20260421T004133Z
SUMMARY:Mangoes FC vs. Timbit Soccer
DESCRIPTION:Timbit Soccer vs. Mangoes FCMore info: #93
X-ALT-DESC;FMTTYPE=text/html:<!DOCTYPE HTML PUBLIC "-//W3C//DTD HTML 3.2//E
	N">\n<HTML>\n<HEAD>\n<TITLE></TITLE>\n</HEAD>\n<BODY>\n<h3>Timbit Soccer vs
	. Mangoes FC</h3>More info: <a href="https://www.golnetwork.com/game/v/1569
	04/">#93</a>\n\n</BODY>\n</HTML>
STATUS:CONFIRMED
CLASS:PUBLIC
URL:https://www.golnetwork.com/game/v/156904/
X-MICROSOFT-CDO-BUSYSTATUS:BUSY
X-MICROSOFT-CDO-IMPORTANCE:1
END:VEVENT
BEGIN:VEVENT
UID:gg15g@games.golnetwork.com
LOCATION:Central Tech - Field 2
GEO:43.6637272;-79.4087613
CREATED:20200305T171642Z
DTSTART:20200420T030000Z
DTEND:20200420T040000Z
DTSTAMP:20260421T004133Z
SUMMARY:VPA United vs. Chamillionaires
DESCRIPTION:Chamillionaires vs. VPA UnitedMore info: #95
X-ALT-DESC;FMTTYPE=text/html:<!DOCTYPE HTML PUBLIC "-//W3C//DTD HTML 3.2//E
	N">\n<HTML>\n<HEAD>\n<TITLE></TITLE>\n</HEAD>\n<BODY>\n<h3>Chamillionaires 
	vs. VPA United</h3>More info: <a href="https://www.golnetwork.com/game/v/15
	6905/">#95</a>\n\n</BODY>\n</HTML>
STATUS:CONFIRMED
CLASS:PUBLIC
URL:https://www.golnetwork.com/game/v/156905/
X-MICROSOFT-CDO-BUSYSTATUS:BUSY
X-MICROSOFT-CDO-IMPORTANCE:1
END:VEVENT
BEGIN:VEVENT
UID:gg15i@games.golnetwork.com
LOCATION:Central Tech - Field 2
GEO:43.6637272;-79.4087613
CREATED:20200305T171654Z
DTSTART:20200426T190000Z
DTEND:20200426T200000Z
DTSTAMP:20260421T004133Z
SUMMARY:Mangoes FC vs. VPA United
DESCRIPTION:VPA United vs. Mangoes FCMore info: #101
X-ALT-DESC;FMTTYPE=text/html:<!DOCTYPE HTML PUBLIC "-//W3C//DTD HTML 3.2//E
	N">\n<HTML>\n<HEAD>\n<TITLE></TITLE>\n</HEAD>\n<BODY>\n<h3>VPA United vs. M
	angoes FC</h3>More info: <a href="https://www.golnetwork.com/game/v/156906/
	">#101</a>\n\n</BODY>\n</HTML>
STATUS:CONFIRMED
CLASS:PUBLIC
URL:https://www.golnetwork.com/game/v/156906/
X-MICROSOFT-CDO-BUSYSTATUS:BUSY
X-MICROSOFT-CDO-IMPORTANCE:1
END:VEVENT
BEGIN:VEVENT
UID:gg15k@games.golnetwork.com
LOCATION:Central Tech - Field 2
GEO:43.6637272;-79.4087613
CREATED:20200305T171700Z
DTSTART:20200426T200000Z
DTEND:20200426T210000Z
DTSTAMP:20260421T004133Z
SUMMARY:CN Power vs. Chamillionaires
DESCRIPTION:Chamillionaires vs. CN PowerMore info: #102
X-ALT-DESC;FMTTYPE=text/html:<!DOCTYPE HTML PUBLIC "-//W3C//DTD HTML 3.2//E
	N">\n<HTML>\n<HEAD>\n<TITLE></TITLE>\n</HEAD>\n<BODY>\n<h3>Chamillionaires 
	vs. CN Power</h3>More info: <a href="https://www.golnetwork.com/game/v/1569
	07/">#102</a>\n\n</BODY>\n</HTML>
STATUS:CONFIRMED
CLASS:PUBLIC
URL:https://www.golnetwork.com/game/v/156907/
X-MICROSOFT-CDO-BUSYSTATUS:BUSY
X-MICROSOFT-CDO-IMPORTANCE:1
END:VEVENT
BEGIN:VEVENT
UID:gg15m@games.golnetwork.com
LOCATION:Central Tech - Field 2
GEO:43.6637272;-79.4087613
CREATED:20200305T171708Z
DTSTART:20200426T210000Z
DTEND:20200426T220000Z
DTSTAMP:20260421T004133Z
SUMMARY:Cheeky Grinders vs. Timbit Soccer
DESCRIPTION:Timbit Soccer vs. Cheeky GrindersMore info: #104
X-ALT-DESC;FMTTYPE=text/html:<!DOCTYPE HTML PUBLIC "-//W3C//DTD HTML 3.2//E
	N">\n<HTML>\n<HEAD>\n<TITLE></TITLE>\n</HEAD>\n<BODY>\n<h3>Timbit Soccer vs
	. Cheeky Grinders</h3>More info: <a href="https://www.golnetwork.com/game/v
	/156908/">#104</a>\n\n</BODY>\n</HTML>
STATUS:CONFIRMED
CLASS:PUBLIC
URL:https://www.golnetwork.com/game/v/156908/
X-MICROSOFT-CDO-BUSYSTATUS:BUSY
X-MICROSOFT-CDO-IMPORTANCE:1
END:VEVENT
BEGIN:VEVENT
UID:gg15o@games.golnetwork.com
LOCATION:Central Tech - Field 2
GEO:43.6637272;-79.4087613
CREATED:20200305T171716Z
DTSTART:20200504T000000Z
DTEND:20200504T010000Z
DTSTAMP:20260421T004133Z
SUMMARY:TBD* vs. TBD*
DESCRIPTION:TBD* vs. TBD*More info: #119
X-ALT-DESC;FMTTYPE=text/html:<!DOCTYPE HTML PUBLIC "-//W3C//DTD HTML 3.2//E
	N">\n<HTML>\n<HEAD>\n<TITLE></TITLE>\n</HEAD>\n<BODY>\n<h3>TBD* vs. TBD*</h
	3>More info: <a href="https://www.golnetwork.com/game/v/156909/">#119</a>\n
	\n</BODY>\n</HTML>
STATUS:CONFIRMED
CLASS:PUBLIC
URL:https://www.golnetwork.com/game/v/156909/
X-MICROSOFT-CDO-BUSYSTATUS:BUSY
X-MICROSOFT-CDO-IMPORTANCE:1
END:VEVENT
BEGIN:VEVENT
UID:gg15q@games.golnetwork.com
LOCATION:Central Tech - Field 2
GEO:43.6637272;-79.4087613
CREATED:20200305T171725Z
DTSTART:20200511T020000Z
DTEND:20200511T030000Z
DTSTAMP:20260421T004133Z
SUMMARY:TBD* vs. TBD*
DESCRIPTION:TBD* vs. TBD*More info: #138
X-ALT-DESC;FMTTYPE=text/html:<!DOCTYPE HTML PUBLIC "-//W3C//DTD HTML 3.2//E
	N">\n<HTML>\n<HEAD>\n<TITLE></TITLE>\n</HEAD>\n<BODY>\n<h3>TBD* vs. TBD*</h
	3>More info: <a href="https://www.golnetwork.com/game/v/156910/">#138</a>\n
	\n</BODY>\n</HTML>
STATUS:CONFIRMED
CLASS:PUBLIC
URL:https://www.golnetwork.com/game/v/156910/
X-MICROSOFT-CDO-BUSYSTATUS:BUSY
X-MICROSOFT-CDO-IMPORTANCE:1
END:VEVENT
BEGIN:VEVENT
UID:gg161@games.golnetwork.com
LOCATION:Central Tech - Field 2
GEO:43.6637272;-79.4087613
CREATED:20200305T171728Z
DTSTART:20200511T030000Z
DTEND:20200511T040000Z
DTSTAMP:20260421T004133Z
SUMMARY:TBD* vs. TBD*
DESCRIPTION:TBD* vs. TBD*More info: #139
X-ALT-DESC;FMTTYPE=text/html:<!DOCTYPE HTML PUBLIC "-//W3C//DTD HTML 3.2//E
	N">\n<HTML>\n<HEAD>\n<TITLE></TITLE>\n</HEAD>\n<BODY>\n<h3>TBD* vs. TBD*</h
	3>More info: <a href="https://www.golnetwork.com/game/v/156911/">#139</a>\n
	\n</BODY>\n</HTML>
STATUS:CONFIRMED
CLASS:PUBLIC
URL:https://www.golnetwork.com/game/v/156911/
X-MICROSOFT-CDO-BUSYSTATUS:BUSY
X-MICROSOFT-CDO-IMPORTANCE:1
END:VEVENT
END:VCALENDAR
