BEGIN:VCALENDAR
PRODID:-//gdesolutions.com//MV Framework 1.0.0.1607 Calendar//EN
VERSION:2.0
METHOD:PUBLISH
CALSCALE:GREGORIAN
BEGIN:VEVENT
UID:gg8g6@games.golnetwork.com
LOCATION:Albert Street COLT Gym#1
CREATED:20211202T183338Z
DTSTART:20211207T230000Z
DTEND:20211208T000000Z
DTSTAMP:20260422T060419Z
SUMMARY:Individuals 1 vs. Hits From The 80s
DESCRIPTION:Hits From The 80s vs. Individuals 1More info: #1
X-ALT-DESC;FMTTYPE=text/html:<!DOCTYPE HTML PUBLIC "-//W3C//DTD HTML 3.2//E
	N">\n<HTML>\n<HEAD>\n<TITLE></TITLE>\n</HEAD>\n<BODY>\n<h3>Hits From The 80
	s vs. Individuals 1</h3>More info: <a href="https://www.golnetwork.com/game
	/v/159600/">#1</a>\n\n</BODY>\n</HTML>
STATUS:CONFIRMED
CLASS:PUBLIC
URL:https://www.golnetwork.com/game/v/159600/
X-MICROSOFT-CDO-BUSYSTATUS:BUSY
X-MICROSOFT-CDO-IMPORTANCE:1
END:VEVENT
BEGIN:VEVENT
UID:gg8g8@games.golnetwork.com
LOCATION:Albert Street COLT Gym#1
CREATED:20211202T183345Z
DTSTART:20211208T000000Z
DTEND:20211208T010000Z
DTSTAMP:20260422T060419Z
SUMMARY:Individuals 3 vs. Spike Protein
DESCRIPTION:Spike Protein vs. Individuals 3More info: #2
X-ALT-DESC;FMTTYPE=text/html:<!DOCTYPE HTML PUBLIC "-//W3C//DTD HTML 3.2//E
	N">\n<HTML>\n<HEAD>\n<TITLE></TITLE>\n</HEAD>\n<BODY>\n<h3>Spike Protein vs
	. Individuals 3</h3>More info: <a href="https://www.golnetwork.com/game/v/1
	59601/">#2</a>\n\n</BODY>\n</HTML>
STATUS:CONFIRMED
CLASS:PUBLIC
URL:https://www.golnetwork.com/game/v/159601/
X-MICROSOFT-CDO-BUSYSTATUS:BUSY
X-MICROSOFT-CDO-IMPORTANCE:1
END:VEVENT
BEGIN:VEVENT
UID:gg8jj@games.golnetwork.com
LOCATION:Albert Street COLT Gym#1
CREATED:20211211T173511Z
DTSTART:20211214T230000Z
DTEND:20211215T000000Z
DTSTAMP:20260422T060419Z
SUMMARY:Spike Protein vs. Hits From The 80s
DESCRIPTION:Hits From The 80s vs. Spike ProteinMore info: #3
X-ALT-DESC;FMTTYPE=text/html:<!DOCTYPE HTML PUBLIC "-//W3C//DTD HTML 3.2//E
	N">\n<HTML>\n<HEAD>\n<TITLE></TITLE>\n</HEAD>\n<BODY>\n<h3>Hits From The 80
	s vs. Spike Protein</h3>More info: <a href="https://www.golnetwork.com/game
	/v/159647/">#3</a>\n\n</BODY>\n</HTML>
STATUS:CONFIRMED
CLASS:PUBLIC
URL:https://www.golnetwork.com/game/v/159647/
X-MICROSOFT-CDO-BUSYSTATUS:BUSY
X-MICROSOFT-CDO-IMPORTANCE:1
END:VEVENT
BEGIN:VEVENT
UID:gg8jl@games.golnetwork.com
LOCATION:Albert Street COLT Gym#1
CREATED:20211211T173518Z
DTSTART:20211215T000000Z
DTEND:20211215T010000Z
DTSTAMP:20260422T060419Z
SUMMARY:Individuals 3 vs. Individuals 1
DESCRIPTION:Individuals 1 vs. Individuals 3More info: #4
X-ALT-DESC;FMTTYPE=text/html:<!DOCTYPE HTML PUBLIC "-//W3C//DTD HTML 3.2//E
	N">\n<HTML>\n<HEAD>\n<TITLE></TITLE>\n</HEAD>\n<BODY>\n<h3>Individuals 1 vs
	. Individuals 3</h3>More info: <a href="https://www.golnetwork.com/game/v/1
	59648/">#4</a>\n\n</BODY>\n</HTML>
STATUS:CONFIRMED
CLASS:PUBLIC
URL:https://www.golnetwork.com/game/v/159648/
X-MICROSOFT-CDO-BUSYSTATUS:BUSY
X-MICROSOFT-CDO-IMPORTANCE:1
END:VEVENT
BEGIN:VEVENT
UID:gga0k@games.golnetwork.com
LOCATION:Albert Street COLT Gym#1
CREATED:20220206T070657Z
DTSTART:20220208T230000Z
DTEND:20220209T000000Z
DTSTAMP:20260422T060419Z
SUMMARY:Spike Protein vs. Individuals 1
DESCRIPTION:Individuals 1 vs. Spike ProteinMore info: #5
X-ALT-DESC;FMTTYPE=text/html:<!DOCTYPE HTML PUBLIC "-//W3C//DTD HTML 3.2//E
	N">\n<HTML>\n<HEAD>\n<TITLE></TITLE>\n</HEAD>\n<BODY>\n<h3>Individuals 1 vs
	. Spike Protein</h3>More info: <a href="https://www.golnetwork.com/game/v/1
	60120/">#5</a>\n\n</BODY>\n</HTML>
STATUS:CONFIRMED
CLASS:PUBLIC
URL:https://www.golnetwork.com/game/v/160120/
X-MICROSOFT-CDO-BUSYSTATUS:BUSY
X-MICROSOFT-CDO-IMPORTANCE:1
END:VEVENT
BEGIN:VEVENT
UID:gga0m@games.golnetwork.com
LOCATION:Albert Street COLT Gym#1
CREATED:20220206T070703Z
DTSTART:20220209T000000Z
DTEND:20220209T010000Z
DTSTAMP:20260422T060419Z
SUMMARY:Individuals 3 vs. Hits From The 80s
DESCRIPTION:Hits From The 80s vs. Individuals 3More info: #6
X-ALT-DESC;FMTTYPE=text/html:<!DOCTYPE HTML PUBLIC "-//W3C//DTD HTML 3.2//E
	N">\n<HTML>\n<HEAD>\n<TITLE></TITLE>\n</HEAD>\n<BODY>\n<h3>Hits From The 80
	s vs. Individuals 3</h3>More info: <a href="https://www.golnetwork.com/game
	/v/160121/">#6</a>\n\n</BODY>\n</HTML>
STATUS:CONFIRMED
CLASS:PUBLIC
URL:https://www.golnetwork.com/game/v/160121/
X-MICROSOFT-CDO-BUSYSTATUS:BUSY
X-MICROSOFT-CDO-IMPORTANCE:1
END:VEVENT
BEGIN:VEVENT
UID:gga0o@games.golnetwork.com
LOCATION:Albert Street COLT Gym#1
CREATED:20220206T070713Z
DTSTART:20220215T230000Z
DTEND:20220216T000000Z
DTSTAMP:20260422T060419Z
SUMMARY:Individuals 3 vs. Spike Protein
DESCRIPTION:Spike Protein vs. Individuals 3More info: #7
X-ALT-DESC;FMTTYPE=text/html:<!DOCTYPE HTML PUBLIC "-//W3C//DTD HTML 3.2//E
	N">\n<HTML>\n<HEAD>\n<TITLE></TITLE>\n</HEAD>\n<BODY>\n<h3>Spike Protein vs
	. Individuals 3</h3>More info: <a href="https://www.golnetwork.com/game/v/1
	60122/">#7</a>\n\n</BODY>\n</HTML>
STATUS:CONFIRMED
CLASS:PUBLIC
URL:https://www.golnetwork.com/game/v/160122/
X-MICROSOFT-CDO-BUSYSTATUS:BUSY
X-MICROSOFT-CDO-IMPORTANCE:1
END:VEVENT
BEGIN:VEVENT
UID:gga0q@games.golnetwork.com
LOCATION:Albert Street COLT Gym#1
CREATED:20220206T070720Z
DTSTART:20220216T000000Z
DTEND:20220216T010000Z
DTSTAMP:20260422T060419Z
SUMMARY:Individuals 1 vs. Hits From The 80s
DESCRIPTION:Hits From The 80s vs. Individuals 1More info: #8
X-ALT-DESC;FMTTYPE=text/html:<!DOCTYPE HTML PUBLIC "-//W3C//DTD HTML 3.2//E
	N">\n<HTML>\n<HEAD>\n<TITLE></TITLE>\n</HEAD>\n<BODY>\n<h3>Hits From The 80
	s vs. Individuals 1</h3>More info: <a href="https://www.golnetwork.com/game
	/v/160123/">#8</a>\n\n</BODY>\n</HTML>
STATUS:CONFIRMED
CLASS:PUBLIC
URL:https://www.golnetwork.com/game/v/160123/
X-MICROSOFT-CDO-BUSYSTATUS:BUSY
X-MICROSOFT-CDO-IMPORTANCE:1
END:VEVENT
BEGIN:VEVENT
UID:gga11@games.golnetwork.com
LOCATION:Albert Street COLT Gym#1
CREATED:20220206T070728Z
DTSTART:20220222T230000Z
DTEND:20220223T000000Z
DTSTAMP:20260422T060419Z
SUMMARY:Individuals 3 vs. Individuals 1
DESCRIPTION:Individuals 1 vs. Individuals 3More info: #9
X-ALT-DESC;FMTTYPE=text/html:<!DOCTYPE HTML PUBLIC "-//W3C//DTD HTML 3.2//E
	N">\n<HTML>\n<HEAD>\n<TITLE></TITLE>\n</HEAD>\n<BODY>\n<h3>Individuals 1 vs
	. Individuals 3</h3>More info: <a href="https://www.golnetwork.com/game/v/1
	60124/">#9</a>\n\n</BODY>\n</HTML>
STATUS:CONFIRMED
CLASS:PUBLIC
URL:https://www.golnetwork.com/game/v/160124/
X-MICROSOFT-CDO-BUSYSTATUS:BUSY
X-MICROSOFT-CDO-IMPORTANCE:1
END:VEVENT
BEGIN:VEVENT
UID:gga13@games.golnetwork.com
LOCATION:Albert Street COLT Gym#1
CREATED:20220206T070737Z
DTSTART:20220223T000000Z
DTEND:20220223T010000Z
DTSTAMP:20260422T060419Z
SUMMARY:Spike Protein vs. Hits From The 80s
DESCRIPTION:Hits From The 80s vs. Spike ProteinMore info: #10
X-ALT-DESC;FMTTYPE=text/html:<!DOCTYPE HTML PUBLIC "-//W3C//DTD HTML 3.2//E
	N">\n<HTML>\n<HEAD>\n<TITLE></TITLE>\n</HEAD>\n<BODY>\n<h3>Hits From The 80
	s vs. Spike Protein</h3>More info: <a href="https://www.golnetwork.com/game
	/v/160125/">#10</a>\n\n</BODY>\n</HTML>
STATUS:CONFIRMED
CLASS:PUBLIC
URL:https://www.golnetwork.com/game/v/160125/
X-MICROSOFT-CDO-BUSYSTATUS:BUSY
X-MICROSOFT-CDO-IMPORTANCE:1
END:VEVENT
BEGIN:VEVENT
UID:gga15@games.golnetwork.com
LOCATION:Albert Street COLT Gym#1
CREATED:20220206T070747Z
DTSTART:20220301T230000Z
DTEND:20220302T000000Z
DTSTAMP:20260422T060419Z
SUMMARY:Individuals 3 vs. Hits From The 80s
DESCRIPTION:Hits From The 80s vs. Individuals 3More info: #11
X-ALT-DESC;FMTTYPE=text/html:<!DOCTYPE HTML PUBLIC "-//W3C//DTD HTML 3.2//E
	N">\n<HTML>\n<HEAD>\n<TITLE></TITLE>\n</HEAD>\n<BODY>\n<h3>Hits From The 80
	s vs. Individuals 3</h3>More info: <a href="https://www.golnetwork.com/game
	/v/160126/">#11</a>\n\n</BODY>\n</HTML>
STATUS:CONFIRMED
CLASS:PUBLIC
URL:https://www.golnetwork.com/game/v/160126/
X-MICROSOFT-CDO-BUSYSTATUS:BUSY
X-MICROSOFT-CDO-IMPORTANCE:1
END:VEVENT
BEGIN:VEVENT
UID:gga17@games.golnetwork.com
LOCATION:Albert Street COLT Gym#1
CREATED:20220206T070755Z
DTSTART:20220302T000000Z
DTEND:20220302T010000Z
DTSTAMP:20260422T060419Z
SUMMARY:Spike Protein vs. Individuals 1
DESCRIPTION:Individuals 1 vs. Spike ProteinMore info: #12
X-ALT-DESC;FMTTYPE=text/html:<!DOCTYPE HTML PUBLIC "-//W3C//DTD HTML 3.2//E
	N">\n<HTML>\n<HEAD>\n<TITLE></TITLE>\n</HEAD>\n<BODY>\n<h3>Individuals 1 vs
	. Spike Protein</h3>More info: <a href="https://www.golnetwork.com/game/v/1
	60127/">#12</a>\n\n</BODY>\n</HTML>
STATUS:CONFIRMED
CLASS:PUBLIC
URL:https://www.golnetwork.com/game/v/160127/
X-MICROSOFT-CDO-BUSYSTATUS:BUSY
X-MICROSOFT-CDO-IMPORTANCE:1
END:VEVENT
BEGIN:VEVENT
UID:ggago@games.golnetwork.com
LOCATION:Albert Street COLT Gym#1
CREATED:20220301T220839Z
DTSTART:20220308T230000Z
DTEND:20220309T000000Z
DTSTAMP:20260422T060419Z
SUMMARY:Individuals 1 vs. Hits From The 80s
DESCRIPTION:Hits From The 80s vs. Individuals 1More info: #13
X-ALT-DESC;FMTTYPE=text/html:<!DOCTYPE HTML PUBLIC "-//W3C//DTD HTML 3.2//E
	N">\n<HTML>\n<HEAD>\n<TITLE></TITLE>\n</HEAD>\n<BODY>\n<h3>Hits From The 80
	s vs. Individuals 1</h3>More info: <a href="https://www.golnetwork.com/game
	/v/160338/">#13</a>\n\n</BODY>\n</HTML>
STATUS:CONFIRMED
CLASS:PUBLIC
URL:https://www.golnetwork.com/game/v/160338/
X-MICROSOFT-CDO-BUSYSTATUS:BUSY
X-MICROSOFT-CDO-IMPORTANCE:1
END:VEVENT
BEGIN:VEVENT
UID:ggagq@games.golnetwork.com
LOCATION:Albert Street COLT Gym#1
CREATED:20220301T220847Z
DTSTART:20220309T000000Z
DTEND:20220309T010000Z
DTSTAMP:20260422T060419Z
SUMMARY:Individuals 3 vs. Spike Protein
DESCRIPTION:Spike Protein vs. Individuals 3More info: #14
X-ALT-DESC;FMTTYPE=text/html:<!DOCTYPE HTML PUBLIC "-//W3C//DTD HTML 3.2//E
	N">\n<HTML>\n<HEAD>\n<TITLE></TITLE>\n</HEAD>\n<BODY>\n<h3>Spike Protein vs
	. Individuals 3</h3>More info: <a href="https://www.golnetwork.com/game/v/1
	60339/">#14</a>\n\n</BODY>\n</HTML>
STATUS:CONFIRMED
CLASS:PUBLIC
URL:https://www.golnetwork.com/game/v/160339/
X-MICROSOFT-CDO-BUSYSTATUS:BUSY
X-MICROSOFT-CDO-IMPORTANCE:1
END:VEVENT
BEGIN:VEVENT
UID:ggb29@games.golnetwork.com
LOCATION:Albert Street COLT Gym#1
CREATED:20220324T020121Z
DTSTART:20220329T220000Z
DTEND:20220329T230000Z
DTSTAMP:20260422T060419Z
SUMMARY:Spike Protein vs. Individuals 1
DESCRIPTION:Individuals 1 vs. Spike ProteinMore info: #17
X-ALT-DESC;FMTTYPE=text/html:<!DOCTYPE HTML PUBLIC "-//W3C//DTD HTML 3.2//E
	N">\n<HTML>\n<HEAD>\n<TITLE></TITLE>\n</HEAD>\n<BODY>\n<h3>Individuals 1 vs
	. Spike Protein</h3>More info: <a href="https://www.golnetwork.com/game/v/1
	60506/">#17</a>\n\n</BODY>\n</HTML>
STATUS:CONFIRMED
CLASS:PUBLIC
URL:https://www.golnetwork.com/game/v/160506/
X-MICROSOFT-CDO-BUSYSTATUS:BUSY
X-MICROSOFT-CDO-IMPORTANCE:1
END:VEVENT
END:VCALENDAR
