BEGIN:VCALENDAR
PRODID:-//gdesolutions.com//MV Framework 1.0.0.1607 Calendar//EN
VERSION:2.0
METHOD:PUBLISH
CALSCALE:GREGORIAN
BEGIN:VEVENT
UID:ggb72@games.golnetwork.com
LOCATION:Albert Street COLT Gym#1
CREATED:20220401T031925Z
DTSTART:20220404T220000Z
DTEND:20220404T230000Z
DTSTAMP:20260422T020851Z
SUMMARY:The Pancakes vs. Hits From The 80s
DESCRIPTION:Hits From The 80s vs. The PancakesMore info: #1
X-ALT-DESC;FMTTYPE=text/html:<!DOCTYPE HTML PUBLIC "-//W3C//DTD HTML 3.2//E
	N">\n<HTML>\n<HEAD>\n<TITLE></TITLE>\n</HEAD>\n<BODY>\n<h3>Hits From The 80
	s vs. The Pancakes</h3>More info: <a href="https://www.golnetwork.com/game/
	v/160570/">#1</a>\n\n</BODY>\n</HTML>
STATUS:CONFIRMED
CLASS:PUBLIC
URL:https://www.golnetwork.com/game/v/160570/
X-MICROSOFT-CDO-BUSYSTATUS:BUSY
X-MICROSOFT-CDO-IMPORTANCE:1
END:VEVENT
BEGIN:VEVENT
UID:ggb70@games.golnetwork.com
LOCATION:Albert Street COLT Gym#1
CREATED:20220401T031913Z
DTSTART:20220404T230000Z
DTEND:20220405T000000Z
DTSTAMP:20260422T020851Z
SUMMARY:Individuals 2 vs. Individuals 3
DESCRIPTION:Individuals 3 vs. Individuals 2More info: #2
X-ALT-DESC;FMTTYPE=text/html:<!DOCTYPE HTML PUBLIC "-//W3C//DTD HTML 3.2//E
	N">\n<HTML>\n<HEAD>\n<TITLE></TITLE>\n</HEAD>\n<BODY>\n<h3>Individuals 3 vs
	. Individuals 2</h3>More info: <a href="https://www.golnetwork.com/game/v/1
	60569/">#2</a>\n\n</BODY>\n</HTML>
STATUS:CONFIRMED
CLASS:PUBLIC
URL:https://www.golnetwork.com/game/v/160569/
X-MICROSOFT-CDO-BUSYSTATUS:BUSY
X-MICROSOFT-CDO-IMPORTANCE:1
END:VEVENT
END:VCALENDAR
