BEGIN:VCALENDAR
PRODID:-//gdesolutions.com//MV Framework 1.0.0.1607 Calendar//EN
VERSION:2.0
METHOD:PUBLISH
CALSCALE:GREGORIAN
BEGIN:VEVENT
UID:g9ii5@games.golnetwork.com
LOCATION:Central Tech - Field 1
GEO:43.6637272;-79.4087613
CREATED:20160930T164915Z
DTSTART:20161223T010000Z
DTEND:20161223T020000Z
DTSTAMP:20260422T160853Z
SUMMARY:Grey VII vs. Tiki-taka
DESCRIPTION:Tiki-taka vs. Grey VIIMore info: #715
X-ALT-DESC;FMTTYPE=text/html:<!DOCTYPE HTML PUBLIC "-//W3C//DTD HTML 3.2//E
	N">\n<HTML>\n<HEAD>\n<TITLE></TITLE>\n</HEAD>\n<BODY>\n<h3>Tiki-taka vs. Gr
	ey VII</h3>More info: <a href="https://www.golnetwork.com/game/v/94381/">#7
	15</a>\n\n</BODY>\n</HTML>
STATUS:CONFIRMED
CLASS:PUBLIC
URL:https://www.golnetwork.com/game/v/94381/
X-MICROSOFT-CDO-BUSYSTATUS:BUSY
X-MICROSOFT-CDO-IMPORTANCE:1
END:VEVENT
BEGIN:VEVENT
UID:g9ii3@games.golnetwork.com
LOCATION:Central Tech - Field 1
GEO:43.6637272;-79.4087613
CREATED:20160930T164915Z
DTSTART:20161216T040000Z
DTEND:20161216T050000Z
DTSTAMP:20260422T160853Z
SUMMARY:Grey VII vs. Royal Gooses
DESCRIPTION:Royal Gooses vs. Grey VIIMore info: #658
X-ALT-DESC;FMTTYPE=text/html:<!DOCTYPE HTML PUBLIC "-//W3C//DTD HTML 3.2//E
	N">\n<HTML>\n<HEAD>\n<TITLE></TITLE>\n</HEAD>\n<BODY>\n<h3>Royal Gooses vs.
	 Grey VII</h3>More info: <a href="https://www.golnetwork.com/game/v/94380/"
	>#658</a>\n\n</BODY>\n</HTML>
STATUS:CONFIRMED
CLASS:PUBLIC
URL:https://www.golnetwork.com/game/v/94380/
X-MICROSOFT-CDO-BUSYSTATUS:BUSY
X-MICROSOFT-CDO-IMPORTANCE:1
END:VEVENT
BEGIN:VEVENT
UID:g9ihk@games.golnetwork.com
LOCATION:Central Tech - Field 1
GEO:43.6637272;-79.4087613
CREATED:20160930T164915Z
DTSTART:20161209T030000Z
DTEND:20161209T040000Z
DTSTAMP:20260422T160853Z
SUMMARY:Grey VII vs. Kicking & Screaming
DESCRIPTION:Kicking & Screaming vs. Grey VIIMore info: #579
X-ALT-DESC;FMTTYPE=text/html:<!DOCTYPE HTML PUBLIC "-//W3C//DTD HTML 3.2//E
	N">\n<HTML>\n<HEAD>\n<TITLE></TITLE>\n</HEAD>\n<BODY>\n<h3>Kicking & Scream
	ing vs. Grey VII</h3>More info: <a href="https://www.golnetwork.com/game/v/
	94375/">#579</a>\n\n</BODY>\n</HTML>
STATUS:CONFIRMED
CLASS:PUBLIC
URL:https://www.golnetwork.com/game/v/94375/
X-MICROSOFT-CDO-BUSYSTATUS:BUSY
X-MICROSOFT-CDO-IMPORTANCE:1
END:VEVENT
BEGIN:VEVENT
UID:g9ihc@games.golnetwork.com
LOCATION:Central Tech - Field 1
GEO:43.6637272;-79.4087613
CREATED:20160930T164915Z
DTSTART:20161202T020000Z
DTEND:20161202T030000Z
DTSTAMP:20260422T160853Z
SUMMARY:The Iguanodons vs. Grey VII
DESCRIPTION:Grey VII vs. The IguanodonsMore info: #491
X-ALT-DESC;FMTTYPE=text/html:<!DOCTYPE HTML PUBLIC "-//W3C//DTD HTML 3.2//E
	N">\n<HTML>\n<HEAD>\n<TITLE></TITLE>\n</HEAD>\n<BODY>\n<h3>Grey VII vs. The
	 Iguanodons</h3>More info: <a href="https://www.golnetwork.com/game/v/94371
	/">#491</a>\n\n</BODY>\n</HTML>
STATUS:CONFIRMED
CLASS:PUBLIC
URL:https://www.golnetwork.com/game/v/94371/
X-MICROSOFT-CDO-BUSYSTATUS:BUSY
X-MICROSOFT-CDO-IMPORTANCE:1
END:VEVENT
BEGIN:VEVENT
UID:g9ih4@games.golnetwork.com
LOCATION:Central Tech - Field 1
GEO:43.6637272;-79.4087613
CREATED:20160930T164914Z
DTSTART:20161125T010000Z
DTEND:20161125T020000Z
DTSTAMP:20260422T160853Z
SUMMARY:Grey VII vs. Royal Gooses
DESCRIPTION:Royal Gooses vs. Grey VIIMore info: #405
X-ALT-DESC;FMTTYPE=text/html:<!DOCTYPE HTML PUBLIC "-//W3C//DTD HTML 3.2//E
	N">\n<HTML>\n<HEAD>\n<TITLE></TITLE>\n</HEAD>\n<BODY>\n<h3>Royal Gooses vs.
	 Grey VII</h3>More info: <a href="https://www.golnetwork.com/game/v/94367/"
	>#405</a>\n\n</BODY>\n</HTML>
STATUS:CONFIRMED
CLASS:PUBLIC
URL:https://www.golnetwork.com/game/v/94367/
X-MICROSOFT-CDO-BUSYSTATUS:BUSY
X-MICROSOFT-CDO-IMPORTANCE:1
END:VEVENT
BEGIN:VEVENT
UID:g9ign@games.golnetwork.com
LOCATION:Central Tech - Field 2
GEO:43.6637272;-79.4087613
CREATED:20160930T164914Z
DTSTART:20161118T020000Z
DTEND:20161118T030000Z
DTSTAMP:20260422T160853Z
SUMMARY:All City FC vs. Grey VII
DESCRIPTION:Grey VII vs. All City FCMore info: #320
X-ALT-DESC;FMTTYPE=text/html:<!DOCTYPE HTML PUBLIC "-//W3C//DTD HTML 3.2//E
	N">\n<HTML>\n<HEAD>\n<TITLE></TITLE>\n</HEAD>\n<BODY>\n<h3>Grey VII vs. All
	 City FC</h3>More info: <a href="https://www.golnetwork.com/game/v/94363/">
	#320</a>\n\n</BODY>\n</HTML>
STATUS:CONFIRMED
CLASS:PUBLIC
URL:https://www.golnetwork.com/game/v/94363/
X-MICROSOFT-CDO-BUSYSTATUS:BUSY
X-MICROSOFT-CDO-IMPORTANCE:1
END:VEVENT
BEGIN:VEVENT
UID:g9igf@games.golnetwork.com
LOCATION:Central Tech - Field 1
GEO:43.6637272;-79.4087613
CREATED:20160930T164914Z
DTSTART:20161111T040000Z
DTEND:20161111T050000Z
DTSTAMP:20260422T160853Z
SUMMARY:Grey VII vs. Hangover FC
DESCRIPTION:Hangover FC vs. Grey VIIMore info: #235
X-ALT-DESC;FMTTYPE=text/html:<!DOCTYPE HTML PUBLIC "-//W3C//DTD HTML 3.2//E
	N">\n<HTML>\n<HEAD>\n<TITLE></TITLE>\n</HEAD>\n<BODY>\n<h3>Hangover FC vs. 
	Grey VII</h3>More info: <a href="https://www.golnetwork.com/game/v/94359/">
	#235</a>\n\n</BODY>\n</HTML>
STATUS:CONFIRMED
CLASS:PUBLIC
URL:https://www.golnetwork.com/game/v/94359/
X-MICROSOFT-CDO-BUSYSTATUS:BUSY
X-MICROSOFT-CDO-IMPORTANCE:1
END:VEVENT
BEGIN:VEVENT
UID:g9ig7@games.golnetwork.com
LOCATION:Central Tech - Field 1
GEO:43.6637272;-79.4087613
CREATED:20160930T164914Z
DTSTART:20161104T020000Z
DTEND:20161104T030000Z
DTSTAMP:20260422T160853Z
SUMMARY:Tiki-taka vs. Grey VII
DESCRIPTION:Grey VII vs. Tiki-takaMore info: #172
X-ALT-DESC;FMTTYPE=text/html:<!DOCTYPE HTML PUBLIC "-//W3C//DTD HTML 3.2//E
	N">\n<HTML>\n<HEAD>\n<TITLE></TITLE>\n</HEAD>\n<BODY>\n<h3>Grey VII vs. Tik
	i-taka</h3>More info: <a href="https://www.golnetwork.com/game/v/94355/">#1
	72</a>\n\n</BODY>\n</HTML>
STATUS:CONFIRMED
CLASS:PUBLIC
URL:https://www.golnetwork.com/game/v/94355/
X-MICROSOFT-CDO-BUSYSTATUS:BUSY
X-MICROSOFT-CDO-IMPORTANCE:1
END:VEVENT
BEGIN:VEVENT
UID:g9ifq@games.golnetwork.com
LOCATION:Central Tech - Field 1
GEO:43.6637272;-79.4087613
CREATED:20160930T164914Z
DTSTART:20161028T030000Z
DTEND:20161028T040000Z
DTSTAMP:20260422T160853Z
SUMMARY:Grey VII vs. Drinkalots FC
DESCRIPTION:Drinkalots FC vs. Grey VIIMore info: #121
X-ALT-DESC;FMTTYPE=text/html:<!DOCTYPE HTML PUBLIC "-//W3C//DTD HTML 3.2//E
	N">\n<HTML>\n<HEAD>\n<TITLE></TITLE>\n</HEAD>\n<BODY>\n<h3>Drinkalots FC vs
	. Grey VII</h3>More info: <a href="https://www.golnetwork.com/game/v/94351/
	">#121</a>\n\n</BODY>\n</HTML>
STATUS:CONFIRMED
CLASS:PUBLIC
URL:https://www.golnetwork.com/game/v/94351/
X-MICROSOFT-CDO-BUSYSTATUS:BUSY
X-MICROSOFT-CDO-IMPORTANCE:1
END:VEVENT
END:VCALENDAR
