BEGIN:VCALENDAR
PRODID:-//gdesolutions.com//MV Framework 1.0.0.1607 Calendar//EN
VERSION:2.0
METHOD:PUBLISH
CALSCALE:GREGORIAN
BEGIN:VEVENT
UID:gafc3@games.golnetwork.com
LOCATION:Central Tech - Field 4
CREATED:20170303T202441Z
DTSTART:20170502T000000Z
DTEND:20170502T010000Z
DTSTAMP:20260421T052457Z
SUMMARY:The PKs vs. Gunners
DESCRIPTION:Gunners vs. The PKsMore info: #321
X-ALT-DESC;FMTTYPE=text/html:<!DOCTYPE HTML PUBLIC "-//W3C//DTD HTML 3.2//E
	N">\n<HTML>\n<HEAD>\n<TITLE></TITLE>\n</HEAD>\n<BODY>\n<h3>Gunners vs. The 
	PKs</h3>More info: <a href="https://www.golnetwork.com/game/v/103047/">#321
	</a>\n\n</BODY>\n</HTML>
STATUS:CONFIRMED
CLASS:PUBLIC
URL:https://www.golnetwork.com/game/v/103047/
X-MICROSOFT-CDO-BUSYSTATUS:BUSY
X-MICROSOFT-CDO-IMPORTANCE:1
END:VEVENT
BEGIN:VEVENT
UID:gag64@games.golnetwork.com
LOCATION:Central Tech - Field 2
GEO:43.6637272;-79.4087613
CREATED:20170309T015530Z
DTSTART:20170418T020000Z
DTEND:20170418T030000Z
DTSTAMP:20260421T052457Z
SUMMARY:The PKs vs. Kickballz
DESCRIPTION:Kickballz vs. The PKsMore info: #255
X-ALT-DESC;FMTTYPE=text/html:<!DOCTYPE HTML PUBLIC "-//W3C//DTD HTML 3.2//E
	N">\n<HTML>\n<HEAD>\n<TITLE></TITLE>\n</HEAD>\n<BODY>\n<h3>Kickballz vs. Th
	e PKs</h3>More info: <a href="https://www.golnetwork.com/game/v/103331/">#2
	55</a>\n\n</BODY>\n</HTML>
STATUS:CONFIRMED
CLASS:PUBLIC
URL:https://www.golnetwork.com/game/v/103331/
X-MICROSOFT-CDO-BUSYSTATUS:BUSY
X-MICROSOFT-CDO-IMPORTANCE:1
END:VEVENT
BEGIN:VEVENT
UID:gafbi@games.golnetwork.com
LOCATION:Central Tech - Field 2
GEO:43.6637272;-79.4087613
CREATED:20170303T202132Z
DTSTART:20170411T030000Z
DTEND:20170411T040000Z
DTSTAMP:20260421T052457Z
SUMMARY:Gunners vs. The PKs
DESCRIPTION:The PKs vs. GunnersMore info: #222
X-ALT-DESC;FMTTYPE=text/html:<!DOCTYPE HTML PUBLIC "-//W3C//DTD HTML 3.2//E
	N">\n<HTML>\n<HEAD>\n<TITLE></TITLE>\n</HEAD>\n<BODY>\n<h3>The PKs vs. Gunn
	ers</h3>More info: <a href="https://www.golnetwork.com/game/v/103041/">#222
	</a>\n\n</BODY>\n</HTML>
STATUS:CONFIRMED
CLASS:PUBLIC
URL:https://www.golnetwork.com/game/v/103041/
X-MICROSOFT-CDO-BUSYSTATUS:BUSY
X-MICROSOFT-CDO-IMPORTANCE:1
END:VEVENT
BEGIN:VEVENT
UID:gafb8@games.golnetwork.com
LOCATION:Central Tech - Field 2
GEO:43.6637272;-79.4087613
CREATED:20170303T202041Z
DTSTART:20170404T010000Z
DTEND:20170404T020000Z
DTSTAMP:20260421T052457Z
SUMMARY:The PKs vs. Axonometrics
DESCRIPTION:Axonometrics vs. The PKsMore info: #174
X-ALT-DESC;FMTTYPE=text/html:<!DOCTYPE HTML PUBLIC "-//W3C//DTD HTML 3.2//E
	N">\n<HTML>\n<HEAD>\n<TITLE></TITLE>\n</HEAD>\n<BODY>\n<h3>Axonometrics vs.
	 The PKs</h3>More info: <a href="https://www.golnetwork.com/game/v/103036/"
	>#174</a>\n\n</BODY>\n</HTML>
STATUS:CONFIRMED
CLASS:PUBLIC
URL:https://www.golnetwork.com/game/v/103036/
X-MICROSOFT-CDO-BUSYSTATUS:BUSY
X-MICROSOFT-CDO-IMPORTANCE:1
END:VEVENT
BEGIN:VEVENT
UID:gafb0@games.golnetwork.com
LOCATION:Central Tech - Field 2
GEO:43.6637272;-79.4087613
CREATED:20170303T201956Z
DTSTART:20170328T000000Z
DTEND:20170328T010000Z
DTSTAMP:20260421T052457Z
SUMMARY:Features United vs. The PKs
DESCRIPTION:The PKs vs. Features UnitedMore info: #129
X-ALT-DESC;FMTTYPE=text/html:<!DOCTYPE HTML PUBLIC "-//W3C//DTD HTML 3.2//E
	N">\n<HTML>\n<HEAD>\n<TITLE></TITLE>\n</HEAD>\n<BODY>\n<h3>The PKs vs. Feat
	ures United</h3>More info: <a href="https://www.golnetwork.com/game/v/10303
	2/">#129</a>\n\n</BODY>\n</HTML>
STATUS:CONFIRMED
CLASS:PUBLIC
URL:https://www.golnetwork.com/game/v/103032/
X-MICROSOFT-CDO-BUSYSTATUS:BUSY
X-MICROSOFT-CDO-IMPORTANCE:1
END:VEVENT
BEGIN:VEVENT
UID:gafaj@games.golnetwork.com
LOCATION:Central Tech - Field 2
GEO:43.6637272;-79.4087613
CREATED:20170303T201913Z
DTSTART:20170321T030000Z
DTEND:20170321T040000Z
DTSTAMP:20260421T052457Z
SUMMARY:I am Batman FC vs. The PKs
DESCRIPTION:The PKs vs. I am Batman FCMore info: #91
X-ALT-DESC;FMTTYPE=text/html:<!DOCTYPE HTML PUBLIC "-//W3C//DTD HTML 3.2//E
	N">\n<HTML>\n<HEAD>\n<TITLE></TITLE>\n</HEAD>\n<BODY>\n<h3>The PKs vs. I am
	 Batman FC</h3>More info: <a href="https://www.golnetwork.com/game/v/103028
	/">#91</a>\n\n</BODY>\n</HTML>
STATUS:CONFIRMED
CLASS:PUBLIC
URL:https://www.golnetwork.com/game/v/103028/
X-MICROSOFT-CDO-BUSYSTATUS:BUSY
X-MICROSOFT-CDO-IMPORTANCE:1
END:VEVENT
BEGIN:VEVENT
UID:gafa9@games.golnetwork.com
LOCATION:Central Tech - Field 2
GEO:43.6637272;-79.4087613
CREATED:20170303T201749Z
DTSTART:20170314T010000Z
DTEND:20170314T020000Z
DTSTAMP:20260421T052457Z
SUMMARY:The PKs vs. The D
DESCRIPTION:The D vs. The PKsMore info: #45
X-ALT-DESC;FMTTYPE=text/html:<!DOCTYPE HTML PUBLIC "-//W3C//DTD HTML 3.2//E
	N">\n<HTML>\n<HEAD>\n<TITLE></TITLE>\n</HEAD>\n<BODY>\n<h3>The D vs. The PK
	s</h3>More info: <a href="https://www.golnetwork.com/game/v/103023/">#45</a
	>\n\n</BODY>\n</HTML>
STATUS:CONFIRMED
CLASS:PUBLIC
URL:https://www.golnetwork.com/game/v/103023/
X-MICROSOFT-CDO-BUSYSTATUS:BUSY
X-MICROSOFT-CDO-IMPORTANCE:1
END:VEVENT
BEGIN:VEVENT
UID:gaf78@games.golnetwork.com
LOCATION:Central Tech - Field 2
GEO:43.6637272;-79.4087613
CREATED:20170302T174051Z
DTSTART:20170307T020000Z
DTEND:20170307T030000Z
DTSTAMP:20260421T052457Z
SUMMARY:The PKs vs. Hooligans
DESCRIPTION:Hooligans vs. The PKsMore info: #7
X-ALT-DESC;FMTTYPE=text/html:<!DOCTYPE HTML PUBLIC "-//W3C//DTD HTML 3.2//E
	N">\n<HTML>\n<HEAD>\n<TITLE></TITLE>\n</HEAD>\n<BODY>\n<h3>Hooligans vs. Th
	e PKs</h3>More info: <a href="https://www.golnetwork.com/game/v/102982/">#7
	</a>\n\n</BODY>\n</HTML>
STATUS:CONFIRMED
CLASS:PUBLIC
URL:https://www.golnetwork.com/game/v/102982/
X-MICROSOFT-CDO-BUSYSTATUS:BUSY
X-MICROSOFT-CDO-IMPORTANCE:1
END:VEVENT
END:VCALENDAR
