BEGIN:VCALENDAR
PRODID:-//gdesolutions.com//MV Framework 1.0.0.1607 Calendar//EN
VERSION:2.0
METHOD:PUBLISH
CALSCALE:GREGORIAN
BEGIN:VEVENT
UID:gfjag@games.golnetwork.com
LOCATION:Lamport Stadium - Field 1
GEO:43.6390028;-79.4232104
CREATED:20191203T024822Z
DTSTART:20200201T000000Z
DTEND:20200201T010000Z
DTSTAMP:20260423T013859Z
SUMMARY:Views from The Pitch vs. Gravy Train
DESCRIPTION:Gravy Train vs. Views from The PitchMore info: #1066
X-ALT-DESC;FMTTYPE=text/html:<!DOCTYPE HTML PUBLIC "-//W3C//DTD HTML 3.2//E
	N">\n<HTML>\n<HEAD>\n<TITLE></TITLE>\n</HEAD>\n<BODY>\n<h3>Gravy Train vs. 
	Views from The Pitch</h3>More info: <a href="https://www.golnetwork.com/gam
	e/v/153692/">#1066</a>\n\n</BODY>\n</HTML>
STATUS:CONFIRMED
CLASS:PUBLIC
URL:https://www.golnetwork.com/game/v/153692/
X-MICROSOFT-CDO-BUSYSTATUS:BUSY
X-MICROSOFT-CDO-IMPORTANCE:1
END:VEVENT
BEGIN:VEVENT
UID:gfja8@games.golnetwork.com
LOCATION:Lamport Stadium - Field 1
GEO:43.6390028;-79.4232104
CREATED:20191203T024015Z
DTSTART:20200118T010000Z
DTEND:20200118T020000Z
DTSTAMP:20260423T013859Z
SUMMARY:Team Jamaica and the Sweet Mickey All-Stars 🇯🇲 vs. Views from
	 The Pitch
DESCRIPTION:Views from The Pitch vs. Team Jamaica and the Sweet Mickey All-
	Stars 🇯🇲More info: #947
X-ALT-DESC;FMTTYPE=text/html:<!DOCTYPE HTML PUBLIC "-//W3C//DTD HTML 3.2//E
	N">\n<HTML>\n<HEAD>\n<TITLE></TITLE>\n</HEAD>\n<BODY>\n<h3>Views from The P
	itch vs. Team Jamaica and the Sweet Mickey All-Stars 🇯🇲</h3>More info
	: <a href="https://www.golnetwork.com/game/v/153688/">#947</a>\n\n</BODY>\n
	</HTML>
STATUS:CONFIRMED
CLASS:PUBLIC
URL:https://www.golnetwork.com/game/v/153688/
X-MICROSOFT-CDO-BUSYSTATUS:BUSY
X-MICROSOFT-CDO-IMPORTANCE:1
END:VEVENT
BEGIN:VEVENT
UID:gfja2@games.golnetwork.com
LOCATION:Lamport Stadium - Field 1
GEO:43.6390028;-79.4232104
CREATED:20191203T023949Z
DTSTART:20200110T230000Z
DTEND:20200111T000000Z
DTSTAMP:20260423T013859Z
SUMMARY:All-Stars FC vs. Views from The Pitch
DESCRIPTION:Views from The Pitch vs. All-Stars FCMore info: #872
X-ALT-DESC;FMTTYPE=text/html:<!DOCTYPE HTML PUBLIC "-//W3C//DTD HTML 3.2//E
	N">\n<HTML>\n<HEAD>\n<TITLE></TITLE>\n</HEAD>\n<BODY>\n<h3>Views from The P
	itch vs. All-Stars FC</h3>More info: <a href="https://www.golnetwork.com/ga
	me/v/153685/">#872</a>\n\n</BODY>\n</HTML>
STATUS:CONFIRMED
CLASS:PUBLIC
URL:https://www.golnetwork.com/game/v/153685/
X-MICROSOFT-CDO-BUSYSTATUS:BUSY
X-MICROSOFT-CDO-IMPORTANCE:1
END:VEVENT
BEGIN:VEVENT
UID:gfja0@games.golnetwork.com
LOCATION:Lamport Stadium - Field 1
GEO:43.6390028;-79.4232104
CREATED:20191203T023936Z
DTSTART:20200104T030000Z
DTEND:20200104T040000Z
DTSTAMP:20260423T013859Z
SUMMARY:Views from The Pitch vs. Gravy Train
DESCRIPTION:Gravy Train vs. Views from The PitchMore info: #795
X-ALT-DESC;FMTTYPE=text/html:<!DOCTYPE HTML PUBLIC "-//W3C//DTD HTML 3.2//E
	N">\n<HTML>\n<HEAD>\n<TITLE></TITLE>\n</HEAD>\n<BODY>\n<h3>Gravy Train vs. 
	Views from The Pitch</h3>More info: <a href="https://www.golnetwork.com/gam
	e/v/153684/">#795</a>\n\n</BODY>\n</HTML>
STATUS:CONFIRMED
CLASS:PUBLIC
URL:https://www.golnetwork.com/game/v/153684/
X-MICROSOFT-CDO-BUSYSTATUS:BUSY
X-MICROSOFT-CDO-IMPORTANCE:1
END:VEVENT
BEGIN:VEVENT
UID:gfj9f@games.golnetwork.com
LOCATION:Lamport Stadium - Field 1
GEO:43.6390028;-79.4232104
CREATED:20191203T023842Z
DTSTART:20191221T000000Z
DTEND:20191221T010000Z
DTSTAMP:20260423T013859Z
SUMMARY:Nighthawx vs. Views from The Pitch
DESCRIPTION:Views from The Pitch vs. NighthawxMore info: #749
X-ALT-DESC;FMTTYPE=text/html:<!DOCTYPE HTML PUBLIC "-//W3C//DTD HTML 3.2//E
	N">\n<HTML>\n<HEAD>\n<TITLE></TITLE>\n</HEAD>\n<BODY>\n<h3>Views from The P
	itch vs. Nighthawx</h3>More info: <a href="https://www.golnetwork.com/game/
	v/153678/">#749</a>\n\n</BODY>\n</HTML>
STATUS:CONFIRMED
CLASS:PUBLIC
URL:https://www.golnetwork.com/game/v/153678/
X-MICROSOFT-CDO-BUSYSTATUS:BUSY
X-MICROSOFT-CDO-IMPORTANCE:1
END:VEVENT
BEGIN:VEVENT
UID:gfj9d@games.golnetwork.com
LOCATION:Lamport Stadium - Field 1
GEO:43.6390028;-79.4232104
CREATED:20191203T023832Z
DTSTART:20191214T040000Z
DTEND:20191214T050000Z
DTSTAMP:20260423T013859Z
SUMMARY:All-Stars FC vs. Views from The Pitch
DESCRIPTION:Views from The Pitch vs. All-Stars FCMore info: #652
X-ALT-DESC;FMTTYPE=text/html:<!DOCTYPE HTML PUBLIC "-//W3C//DTD HTML 3.2//E
	N">\n<HTML>\n<HEAD>\n<TITLE></TITLE>\n</HEAD>\n<BODY>\n<h3>Views from The P
	itch vs. All-Stars FC</h3>More info: <a href="https://www.golnetwork.com/ga
	me/v/153677/">#652</a>\n\n</BODY>\n</HTML>
STATUS:CONFIRMED
CLASS:PUBLIC
URL:https://www.golnetwork.com/game/v/153677/
X-MICROSOFT-CDO-BUSYSTATUS:BUSY
X-MICROSOFT-CDO-IMPORTANCE:1
END:VEVENT
BEGIN:VEVENT
UID:gfj9b@games.golnetwork.com
LOCATION:Lamport Stadium - Field 1
GEO:43.6390028;-79.4232104
CREATED:20191203T023824Z
DTSTART:20191214T030000Z
DTEND:20191214T040000Z
DTSTAMP:20260423T013859Z
SUMMARY:Riders FC vs. Views from The Pitch
DESCRIPTION:Views from The Pitch vs. Riders FCMore info: #649
X-ALT-DESC;FMTTYPE=text/html:<!DOCTYPE HTML PUBLIC "-//W3C//DTD HTML 3.2//E
	N">\n<HTML>\n<HEAD>\n<TITLE></TITLE>\n</HEAD>\n<BODY>\n<h3>Views from The P
	itch vs. Riders FC</h3>More info: <a href="https://www.golnetwork.com/game/
	v/153676/">#649</a>\n\n</BODY>\n</HTML>
STATUS:CONFIRMED
CLASS:PUBLIC
URL:https://www.golnetwork.com/game/v/153676/
X-MICROSOFT-CDO-BUSYSTATUS:BUSY
X-MICROSOFT-CDO-IMPORTANCE:1
END:VEVENT
BEGIN:VEVENT
UID:gfj95@games.golnetwork.com
LOCATION:Lamport Stadium - Field 1
GEO:43.6390028;-79.4232104
CREATED:20191203T023754Z
DTSTART:20191207T010000Z
DTEND:20191207T020000Z
DTSTAMP:20260423T013859Z
SUMMARY:Team Jamaica and the Sweet Mickey All-Stars 🇯🇲 vs. Views from
	 The Pitch
DESCRIPTION:Views from The Pitch vs. Team Jamaica and the Sweet Mickey All-
	Stars 🇯🇲More info: #543
X-ALT-DESC;FMTTYPE=text/html:<!DOCTYPE HTML PUBLIC "-//W3C//DTD HTML 3.2//E
	N">\n<HTML>\n<HEAD>\n<TITLE></TITLE>\n</HEAD>\n<BODY>\n<h3>Views from The P
	itch vs. Team Jamaica and the Sweet Mickey All-Stars 🇯🇲</h3>More info
	: <a href="https://www.golnetwork.com/game/v/153673/">#543</a>\n\n</BODY>\n
	</HTML>
STATUS:CONFIRMED
CLASS:PUBLIC
URL:https://www.golnetwork.com/game/v/153673/
X-MICROSOFT-CDO-BUSYSTATUS:BUSY
X-MICROSOFT-CDO-IMPORTANCE:1
END:VEVENT
BEGIN:VEVENT
UID:gfial@games.golnetwork.com
LOCATION:Lamport Stadium - Field 3
GEO:43.6390028;-79.4232104
CREATED:20191122T183543Z
DTSTART:20191130T010000Z
DTEND:20191130T020000Z
DTSTAMP:20260423T013859Z
SUMMARY:Gravy Train vs. Views from The Pitch
DESCRIPTION:Views from The Pitch vs. Gravy TrainMore info: #437
X-ALT-DESC;FMTTYPE=text/html:<!DOCTYPE HTML PUBLIC "-//W3C//DTD HTML 3.2//E
	N">\n<HTML>\n<HEAD>\n<TITLE></TITLE>\n</HEAD>\n<BODY>\n<h3>Views from The P
	itch vs. Gravy Train</h3>More info: <a href="https://www.golnetwork.com/gam
	e/v/153330/">#437</a>\n\n</BODY>\n</HTML>
STATUS:CONFIRMED
CLASS:PUBLIC
URL:https://www.golnetwork.com/game/v/153330/
X-MICROSOFT-CDO-BUSYSTATUS:BUSY
X-MICROSOFT-CDO-IMPORTANCE:1
END:VEVENT
END:VCALENDAR
