BEGIN:VCALENDAR
PRODID:-//gdesolutions.com//MV Framework 1.0.0.1607 Calendar//EN
VERSION:2.0
METHOD:PUBLISH
CALSCALE:GREGORIAN
BEGIN:VEVENT
UID:ga5e1@games.golnetwork.com
LOCATION:Central Tech - Field 2
GEO:43.6637272;-79.4087613
CREATED:20161231T025145Z
DTSTART:20170217T040000Z
DTEND:20170217T045000Z
DTSTAMP:20260420T024906Z
SUMMARY:Drinkalots FC vs. Breakfast Club FC
DESCRIPTION:Breakfast Club FC vs. Drinkalots FCMore info: #421
X-ALT-DESC;FMTTYPE=text/html:<!DOCTYPE HTML PUBLIC "-//W3C//DTD HTML 3.2//E
	N">\n<HTML>\n<HEAD>\n<TITLE></TITLE>\n</HEAD>\n<BODY>\n<h3>Breakfast Club F
	C vs. Drinkalots FC</h3>More info: <a href="https://www.golnetwork.com/game
	/v/99428/">#421</a>\n\n</BODY>\n</HTML>
STATUS:CONFIRMED
CLASS:PUBLIC
URL:https://www.golnetwork.com/game/v/99428/
X-MICROSOFT-CDO-BUSYSTATUS:BUSY
X-MICROSOFT-CDO-IMPORTANCE:1
END:VEVENT
BEGIN:VEVENT
UID:ga5di@games.golnetwork.com
LOCATION:Central Tech - Field 1
GEO:43.6637272;-79.4087613
CREATED:20161231T025050Z
DTSTART:20170210T010000Z
DTEND:20170210T015000Z
DTSTAMP:20260420T024906Z
SUMMARY:CFC Ball Kickers vs. Breakfast Club FC
DESCRIPTION:Breakfast Club FC vs. CFC Ball KickersMore info: #331
X-ALT-DESC;FMTTYPE=text/html:<!DOCTYPE HTML PUBLIC "-//W3C//DTD HTML 3.2//E
	N">\n<HTML>\n<HEAD>\n<TITLE></TITLE>\n</HEAD>\n<BODY>\n<h3>Breakfast Club F
	C vs. CFC Ball Kickers</h3>More info: <a href="https://www.golnetwork.com/g
	ame/v/99423/">#331</a>\n\n</BODY>\n</HTML>
STATUS:CONFIRMED
CLASS:PUBLIC
URL:https://www.golnetwork.com/game/v/99423/
X-MICROSOFT-CDO-BUSYSTATUS:BUSY
X-MICROSOFT-CDO-IMPORTANCE:1
END:VEVENT
BEGIN:VEVENT
UID:ga5dg@games.golnetwork.com
LOCATION:Central Tech - Field 2
GEO:43.6637272;-79.4087613
CREATED:20161231T025035Z
DTSTART:20170203T040000Z
DTEND:20170203T045000Z
DTSTAMP:20260420T024906Z
SUMMARY:Grey VII vs. Breakfast Club FC
DESCRIPTION:Breakfast Club FC vs. Grey VIIMore info: #259
X-ALT-DESC;FMTTYPE=text/html:<!DOCTYPE HTML PUBLIC "-//W3C//DTD HTML 3.2//E
	N">\n<HTML>\n<HEAD>\n<TITLE></TITLE>\n</HEAD>\n<BODY>\n<h3>Breakfast Club F
	C vs. Grey VII</h3>More info: <a href="https://www.golnetwork.com/game/v/99
	422/">#259</a>\n\n</BODY>\n</HTML>
STATUS:CONFIRMED
CLASS:PUBLIC
URL:https://www.golnetwork.com/game/v/99422/
X-MICROSOFT-CDO-BUSYSTATUS:BUSY
X-MICROSOFT-CDO-IMPORTANCE:1
END:VEVENT
BEGIN:VEVENT
UID:ga5d8@games.golnetwork.com
LOCATION:Central Tech - Field 2
GEO:43.6637272;-79.4087613
CREATED:20161231T024954Z
DTSTART:20170127T020000Z
DTEND:20170127T025000Z
DTSTAMP:20260420T024906Z
SUMMARY:Breakfast Club FC vs. Kicking & Screaming
DESCRIPTION:Kicking & Screaming vs. Breakfast Club FCMore info: #180
X-ALT-DESC;FMTTYPE=text/html:<!DOCTYPE HTML PUBLIC "-//W3C//DTD HTML 3.2//E
	N">\n<HTML>\n<HEAD>\n<TITLE></TITLE>\n</HEAD>\n<BODY>\n<h3>Kicking & Scream
	ing vs. Breakfast Club FC</h3>More info: <a href="https://www.golnetwork.co
	m/game/v/99418/">#180</a>\n\n</BODY>\n</HTML>
STATUS:CONFIRMED
CLASS:PUBLIC
URL:https://www.golnetwork.com/game/v/99418/
X-MICROSOFT-CDO-BUSYSTATUS:BUSY
X-MICROSOFT-CDO-IMPORTANCE:1
END:VEVENT
BEGIN:VEVENT
UID:ga5d2@games.golnetwork.com
LOCATION:Central Tech - Field 2
GEO:43.6637272;-79.4087613
CREATED:20161231T024909Z
DTSTART:20170120T030000Z
DTEND:20170120T035000Z
DTSTAMP:20260420T024906Z
SUMMARY:Hangover FC vs. Breakfast Club FC
DESCRIPTION:Breakfast Club FC vs. Hangover FCMore info: #130
X-ALT-DESC;FMTTYPE=text/html:<!DOCTYPE HTML PUBLIC "-//W3C//DTD HTML 3.2//E
	N">\n<HTML>\n<HEAD>\n<TITLE></TITLE>\n</HEAD>\n<BODY>\n<h3>Breakfast Club F
	C vs. Hangover FC</h3>More info: <a href="https://www.golnetwork.com/game/v
	/99415/">#130</a>\n\n</BODY>\n</HTML>
STATUS:CONFIRMED
CLASS:PUBLIC
URL:https://www.golnetwork.com/game/v/99415/
X-MICROSOFT-CDO-BUSYSTATUS:BUSY
X-MICROSOFT-CDO-IMPORTANCE:1
END:VEVENT
BEGIN:VEVENT
UID:ga5cp@games.golnetwork.com
LOCATION:Central Tech - Field 2
GEO:43.6637272;-79.4087613
CREATED:20161231T024843Z
DTSTART:20170113T030000Z
DTEND:20170113T035000Z
DTSTAMP:20260420T024906Z
SUMMARY:Drinkalots FC vs. Breakfast Club FC
DESCRIPTION:Breakfast Club FC vs. Drinkalots FCMore info: #81
X-ALT-DESC;FMTTYPE=text/html:<!DOCTYPE HTML PUBLIC "-//W3C//DTD HTML 3.2//E
	N">\n<HTML>\n<HEAD>\n<TITLE></TITLE>\n</HEAD>\n<BODY>\n<h3>Breakfast Club F
	C vs. Drinkalots FC</h3>More info: <a href="https://www.golnetwork.com/game
	/v/99413/">#81</a>\n\n</BODY>\n</HTML>
STATUS:CONFIRMED
CLASS:PUBLIC
URL:https://www.golnetwork.com/game/v/99413/
X-MICROSOFT-CDO-BUSYSTATUS:BUSY
X-MICROSOFT-CDO-IMPORTANCE:1
END:VEVENT
BEGIN:VEVENT
UID:ga5cf@games.golnetwork.com
LOCATION:Central Tech - Field 2
GEO:43.6637272;-79.4087613
CREATED:20161231T024746Z
DTSTART:20170106T030000Z
DTEND:20170106T035000Z
DTSTAMP:20260420T024906Z
SUMMARY:CFC Ball Kickers vs. Breakfast Club FC
DESCRIPTION:Breakfast Club FC vs. CFC Ball KickersMore info: #35
X-ALT-DESC;FMTTYPE=text/html:<!DOCTYPE HTML PUBLIC "-//W3C//DTD HTML 3.2//E
	N">\n<HTML>\n<HEAD>\n<TITLE></TITLE>\n</HEAD>\n<BODY>\n<h3>Breakfast Club F
	C vs. CFC Ball Kickers</h3>More info: <a href="https://www.golnetwork.com/g
	ame/v/99408/">#35</a>\n\n</BODY>\n</HTML>
STATUS:CONFIRMED
CLASS:PUBLIC
URL:https://www.golnetwork.com/game/v/99408/
X-MICROSOFT-CDO-BUSYSTATUS:BUSY
X-MICROSOFT-CDO-IMPORTANCE:1
END:VEVENT
END:VCALENDAR
