BEGIN:VCALENDAR
PRODID:-//gdesolutions.com//MV Framework 1.0.0.1607 Calendar//EN
VERSION:2.0
METHOD:PUBLISH
CALSCALE:GREGORIAN
BEGIN:VEVENT
UID:gagl9@games.golnetwork.com
LOCATION:Ottawa Technical Secondary School Main Gym
GEO:45.4284404;-75.6469115
CREATED:20170314T175227Z
DTSTART:20170322T220000Z
DTEND:20170322T230000Z
DTSTAMP:20260422T194201Z
SUMMARY:The Ballers vs. The All-Bran
DESCRIPTION:The All-Bran vs. The BallersMore info: #25
X-ALT-DESC;FMTTYPE=text/html:<!DOCTYPE HTML PUBLIC "-//W3C//DTD HTML 3.2//E
	N">\n<HTML>\n<HEAD>\n<TITLE></TITLE>\n</HEAD>\n<BODY>\n<h3>The All-Bran vs.
	 The Ballers</h3>More info: <a href="https://www.golnetwork.com/game/v/1035
	36/">#25</a>\n\n</BODY>\n</HTML>
STATUS:CONFIRMED
CLASS:PUBLIC
URL:https://www.golnetwork.com/game/v/103536/
X-MICROSOFT-CDO-BUSYSTATUS:BUSY
X-MICROSOFT-CDO-IMPORTANCE:1
END:VEVENT
BEGIN:VEVENT
UID:gac6o@games.golnetwork.com
LOCATION:Montfort
GEO:45.440619;-75.6304143
CREATED:20170123T203519Z
DTSTART:20170223T013000Z
DTEND:20170223T023000Z
DTSTAMP:20260422T194201Z
SUMMARY:The All-Bran vs. About To Get Messy
DESCRIPTION:About To Get Messy vs. The All-BranMore info: #15
X-ALT-DESC;FMTTYPE=text/html:<!DOCTYPE HTML PUBLIC "-//W3C//DTD HTML 3.2//E
	N">\n<HTML>\n<HEAD>\n<TITLE></TITLE>\n</HEAD>\n<BODY>\n<h3>About To Get Mes
	sy vs. The All-Bran</h3>More info: <a href="https://www.golnetwork.com/game
	/v/101883/">#15</a>\n\n</BODY>\n</HTML>
STATUS:CONFIRMED
CLASS:PUBLIC
URL:https://www.golnetwork.com/game/v/101883/
X-MICROSOFT-CDO-BUSYSTATUS:BUSY
X-MICROSOFT-CDO-IMPORTANCE:1
END:VEVENT
BEGIN:VEVENT
UID:gac6e@games.golnetwork.com
LOCATION:Ottawa Technical Secondary School Main Gym
GEO:45.4284404;-75.6469115
CREATED:20170123T203519Z
DTSTART:20170215T230000Z
DTEND:20170216T000000Z
DTSTAMP:20260422T194201Z
SUMMARY:The All-Bran vs. Ottawa United
DESCRIPTION:Ottawa United vs. The All-BranMore info: #10
X-ALT-DESC;FMTTYPE=text/html:<!DOCTYPE HTML PUBLIC "-//W3C//DTD HTML 3.2//E
	N">\n<HTML>\n<HEAD>\n<TITLE></TITLE>\n</HEAD>\n<BODY>\n<h3>Ottawa United vs
	. The All-Bran</h3>More info: <a href="https://www.golnetwork.com/game/v/10
	1878/">#10</a>\n\n</BODY>\n</HTML>
STATUS:CONFIRMED
CLASS:PUBLIC
URL:https://www.golnetwork.com/game/v/101878/
X-MICROSOFT-CDO-BUSYSTATUS:BUSY
X-MICROSOFT-CDO-IMPORTANCE:1
END:VEVENT
BEGIN:VEVENT
UID:gac6c@games.golnetwork.com
LOCATION:Montfort
GEO:45.440619;-75.6304143
CREATED:20170123T203519Z
DTSTART:20170209T013000Z
DTEND:20170209T023000Z
DTSTAMP:20260422T194201Z
SUMMARY:The Ballers vs. The All-Bran
DESCRIPTION:The All-Bran vs. The BallersMore info: #8
X-ALT-DESC;FMTTYPE=text/html:<!DOCTYPE HTML PUBLIC "-//W3C//DTD HTML 3.2//E
	N">\n<HTML>\n<HEAD>\n<TITLE></TITLE>\n</HEAD>\n<BODY>\n<h3>The All-Bran vs.
	 The Ballers</h3>More info: <a href="https://www.golnetwork.com/game/v/1018
	77/">#8</a>\n\n</BODY>\n</HTML>
STATUS:CONFIRMED
CLASS:PUBLIC
URL:https://www.golnetwork.com/game/v/101877/
X-MICROSOFT-CDO-BUSYSTATUS:BUSY
X-MICROSOFT-CDO-IMPORTANCE:1
END:VEVENT
BEGIN:VEVENT
UID:gac66@games.golnetwork.com
LOCATION:Ottawa Technical Secondary School Main Gym
GEO:45.4284404;-75.6469115
CREATED:20170123T203519Z
DTSTART:20170202T000000Z
DTEND:20170202T010000Z
DTSTAMP:20260422T194201Z
SUMMARY:Ottawa United vs. The All-Bran
DESCRIPTION:The All-Bran vs. Ottawa UnitedMore info: #5
X-ALT-DESC;FMTTYPE=text/html:<!DOCTYPE HTML PUBLIC "-//W3C//DTD HTML 3.2//E
	N">\n<HTML>\n<HEAD>\n<TITLE></TITLE>\n</HEAD>\n<BODY>\n<h3>The All-Bran vs.
	 Ottawa United</h3>More info: <a href="https://www.golnetwork.com/game/v/10
	1874/">#5</a>\n\n</BODY>\n</HTML>
STATUS:CONFIRMED
CLASS:PUBLIC
URL:https://www.golnetwork.com/game/v/101874/
X-MICROSOFT-CDO-BUSYSTATUS:BUSY
X-MICROSOFT-CDO-IMPORTANCE:1
END:VEVENT
BEGIN:VEVENT
UID:gac64@games.golnetwork.com
LOCATION:Ottawa Technical Secondary School Main Gym
GEO:45.4284404;-75.6469115
CREATED:20170123T203519Z
DTSTART:20170201T230000Z
DTEND:20170202T000000Z
DTSTAMP:20260422T194201Z
SUMMARY:Kiss My Pass vs. The All-Bran
DESCRIPTION:The All-Bran vs. Kiss My PassMore info: #4
X-ALT-DESC;FMTTYPE=text/html:<!DOCTYPE HTML PUBLIC "-//W3C//DTD HTML 3.2//E
	N">\n<HTML>\n<HEAD>\n<TITLE></TITLE>\n</HEAD>\n<BODY>\n<h3>The All-Bran vs.
	 Kiss My Pass</h3>More info: <a href="https://www.golnetwork.com/game/v/101
	873/">#4</a>\n\n</BODY>\n</HTML>
STATUS:CONFIRMED
CLASS:PUBLIC
URL:https://www.golnetwork.com/game/v/101873/
X-MICROSOFT-CDO-BUSYSTATUS:BUSY
X-MICROSOFT-CDO-IMPORTANCE:1
END:VEVENT
BEGIN:VEVENT
UID:gac62@games.golnetwork.com
LOCATION:Montfort
GEO:45.440619;-75.6304143
CREATED:20170123T203519Z
DTSTART:20170126T013000Z
DTEND:20170126T023000Z
DTSTAMP:20260422T194201Z
SUMMARY:The All-Bran vs. About To Get Messy
DESCRIPTION:About To Get Messy vs. The All-BranMore info: #3
X-ALT-DESC;FMTTYPE=text/html:<!DOCTYPE HTML PUBLIC "-//W3C//DTD HTML 3.2//E
	N">\n<HTML>\n<HEAD>\n<TITLE></TITLE>\n</HEAD>\n<BODY>\n<h3>About To Get Mes
	sy vs. The All-Bran</h3>More info: <a href="https://www.golnetwork.com/game
	/v/101872/">#3</a>\n\n</BODY>\n</HTML>
STATUS:CONFIRMED
CLASS:PUBLIC
URL:https://www.golnetwork.com/game/v/101872/
X-MICROSOFT-CDO-BUSYSTATUS:BUSY
X-MICROSOFT-CDO-IMPORTANCE:1
END:VEVENT
BEGIN:VEVENT
UID:ga6m4@games.golnetwork.com
LOCATION:Ottawa Technical Secondary School Main Gym
GEO:45.4284404;-75.6469115
CREATED:20170108T204920Z
DTSTART:20170119T000000Z
DTEND:20170119T010000Z
DTSTAMP:20260422T194201Z
SUMMARY:The Ballers vs. The All-Bran
DESCRIPTION:The All-Bran vs. The BallersMore info: #3
X-ALT-DESC;FMTTYPE=text/html:<!DOCTYPE HTML PUBLIC "-//W3C//DTD HTML 3.2//E
	N">\n<HTML>\n<HEAD>\n<TITLE></TITLE>\n</HEAD>\n<BODY>\n<h3>The All-Bran vs.
	 The Ballers</h3>More info: <a href="https://www.golnetwork.com/game/v/9990
	2/">#3</a>\n\n</BODY>\n</HTML>
STATUS:CONFIRMED
CLASS:PUBLIC
URL:https://www.golnetwork.com/game/v/99902/
X-MICROSOFT-CDO-BUSYSTATUS:BUSY
X-MICROSOFT-CDO-IMPORTANCE:1
END:VEVENT
BEGIN:VEVENT
UID:ga6m2@games.golnetwork.com
LOCATION:Montfort
GEO:45.440619;-75.6304143
CREATED:20170108T204920Z
DTSTART:20170112T013000Z
DTEND:20170112T023000Z
DTSTAMP:20260422T194201Z
SUMMARY:Kiss My Pass vs. The All-Bran
DESCRIPTION:The All-Bran vs. Kiss My PassMore info: #2
X-ALT-DESC;FMTTYPE=text/html:<!DOCTYPE HTML PUBLIC "-//W3C//DTD HTML 3.2//E
	N">\n<HTML>\n<HEAD>\n<TITLE></TITLE>\n</HEAD>\n<BODY>\n<h3>The All-Bran vs.
	 Kiss My Pass</h3>More info: <a href="https://www.golnetwork.com/game/v/999
	01/">#2</a>\n\n</BODY>\n</HTML>
STATUS:CONFIRMED
CLASS:PUBLIC
URL:https://www.golnetwork.com/game/v/99901/
X-MICROSOFT-CDO-BUSYSTATUS:BUSY
X-MICROSOFT-CDO-IMPORTANCE:1
END:VEVENT
END:VCALENDAR
