BEGIN:VCALENDAR
PRODID:-//gdesolutions.com//MV Framework 1.0.0.1607 Calendar//EN
VERSION:2.0
METHOD:PUBLISH
CALSCALE:GREGORIAN
BEGIN:VEVENT
UID:gack2@games.golnetwork.com
LOCATION:Lamport Stadium - Field 2
GEO:43.6390028;-79.4232104
CREATED:20170126T015305Z
DTSTART:20170419T020000Z
DTEND:20170419T025000Z
DTSTAMP:20260421T052347Z
SUMMARY:Radioactive Smurfs vs. You Win Some You Booze Some
DESCRIPTION:You Win Some You Booze Some vs. Radioactive SmurfsMore info: #7
	48
X-ALT-DESC;FMTTYPE=text/html:<!DOCTYPE HTML PUBLIC "-//W3C//DTD HTML 3.2//E
	N">\n<HTML>\n<HEAD>\n<TITLE></TITLE>\n</HEAD>\n<BODY>\n<h3>You Win Some You
	 Booze Some vs. Radioactive Smurfs</h3>More info: <a href="https://www.goln
	etwork.com/game/v/102061/">#748</a>\n\n</BODY>\n</HTML>
STATUS:CONFIRMED
CLASS:PUBLIC
URL:https://www.golnetwork.com/game/v/102061/
X-MICROSOFT-CDO-BUSYSTATUS:BUSY
X-MICROSOFT-CDO-IMPORTANCE:1
END:VEVENT
BEGIN:VEVENT
UID:gae1b@games.golnetwork.com
LOCATION:Lamport Stadium - Field 2
GEO:43.6390028;-79.4232104
CREATED:20170208T213829Z
DTSTART:20170329T010000Z
DTEND:20170329T015000Z
DTSTAMP:20260421T052347Z
SUMMARY:XTSC Flyers vs. You Win Some You Booze Some
DESCRIPTION:You Win Some You Booze Some vs. XTSC FlyersMore info: #673
X-ALT-DESC;FMTTYPE=text/html:<!DOCTYPE HTML PUBLIC "-//W3C//DTD HTML 3.2//E
	N">\n<HTML>\n<HEAD>\n<TITLE></TITLE>\n</HEAD>\n<BODY>\n<h3>You Win Some You
	 Booze Some vs. XTSC Flyers</h3>More info: <a href="https://www.golnetwork.
	com/game/v/102538/">#673</a>\n\n</BODY>\n</HTML>
STATUS:CONFIRMED
CLASS:PUBLIC
URL:https://www.golnetwork.com/game/v/102538/
X-MICROSOFT-CDO-BUSYSTATUS:BUSY
X-MICROSOFT-CDO-IMPORTANCE:1
END:VEVENT
BEGIN:VEVENT
UID:gacjl@games.golnetwork.com
LOCATION:Lamport Stadium - Field 2
GEO:43.6390028;-79.4232104
CREATED:20170126T015243Z
DTSTART:20170322T030000Z
DTEND:20170322T035000Z
DTSTAMP:20260421T052347Z
SUMMARY:Goldfish Crackers FC vs. You Win Some You Booze Some
DESCRIPTION:You Win Some You Booze Some vs. Goldfish Crackers FCMore info: 
	#649
X-ALT-DESC;FMTTYPE=text/html:<!DOCTYPE HTML PUBLIC "-//W3C//DTD HTML 3.2//E
	N">\n<HTML>\n<HEAD>\n<TITLE></TITLE>\n</HEAD>\n<BODY>\n<h3>You Win Some You
	 Booze Some vs. Goldfish Crackers FC</h3>More info: <a href="https://www.go
	lnetwork.com/game/v/102057/">#649</a>\n\n</BODY>\n</HTML>
STATUS:CONFIRMED
CLASS:PUBLIC
URL:https://www.golnetwork.com/game/v/102057/
X-MICROSOFT-CDO-BUSYSTATUS:BUSY
X-MICROSOFT-CDO-IMPORTANCE:1
END:VEVENT
BEGIN:VEVENT
UID:gacjb@games.golnetwork.com
LOCATION:Lamport Stadium - Field 2
GEO:43.6390028;-79.4232104
CREATED:20170126T015137Z
DTSTART:20170315T020000Z
DTEND:20170315T025000Z
DTSTAMP:20260421T052347Z
SUMMARY:Leicester City vs. You Win Some You Booze Some
DESCRIPTION:You Win Some You Booze Some vs. Leicester CityMore info: #616
X-ALT-DESC;FMTTYPE=text/html:<!DOCTYPE HTML PUBLIC "-//W3C//DTD HTML 3.2//E
	N">\n<HTML>\n<HEAD>\n<TITLE></TITLE>\n</HEAD>\n<BODY>\n<h3>You Win Some You
	 Booze Some vs. Leicester City</h3>More info: <a href="https://www.golnetwo
	rk.com/game/v/102052/">#616</a>\n\n</BODY>\n</HTML>
STATUS:CONFIRMED
CLASS:PUBLIC
URL:https://www.golnetwork.com/game/v/102052/
X-MICROSOFT-CDO-BUSYSTATUS:BUSY
X-MICROSOFT-CDO-IMPORTANCE:1
END:VEVENT
BEGIN:VEVENT
UID:gaciq@games.golnetwork.com
LOCATION:Lamport Stadium - Field 2
GEO:43.6390028;-79.4232104
CREATED:20170126T015016Z
DTSTART:20170307T230000Z
DTEND:20170307T235000Z
DTSTAMP:20260421T052347Z
SUMMARY:Multiplex FC vs. You Win Some You Booze Some
DESCRIPTION:You Win Some You Booze Some vs. Multiplex FCMore info: #578
X-ALT-DESC;FMTTYPE=text/html:<!DOCTYPE HTML PUBLIC "-//W3C//DTD HTML 3.2//E
	N">\n<HTML>\n<HEAD>\n<TITLE></TITLE>\n</HEAD>\n<BODY>\n<h3>You Win Some You
	 Booze Some vs. Multiplex FC</h3>More info: <a href="https://www.golnetwork
	.com/game/v/102046/">#578</a>\n\n</BODY>\n</HTML>
STATUS:CONFIRMED
CLASS:PUBLIC
URL:https://www.golnetwork.com/game/v/102046/
X-MICROSOFT-CDO-BUSYSTATUS:BUSY
X-MICROSOFT-CDO-IMPORTANCE:1
END:VEVENT
BEGIN:VEVENT
UID:gacik@games.golnetwork.com
LOCATION:Lamport Stadium - Field 2
GEO:43.6390028;-79.4232104
CREATED:20170126T014936Z
DTSTART:20170301T020000Z
DTEND:20170301T025000Z
DTSTAMP:20260421T052347Z
SUMMARY:Radioactive Smurfs vs. You Win Some You Booze Some
DESCRIPTION:You Win Some You Booze Some vs. Radioactive SmurfsMore info: #5
	18
X-ALT-DESC;FMTTYPE=text/html:<!DOCTYPE HTML PUBLIC "-//W3C//DTD HTML 3.2//E
	N">\n<HTML>\n<HEAD>\n<TITLE></TITLE>\n</HEAD>\n<BODY>\n<h3>You Win Some You
	 Booze Some vs. Radioactive Smurfs</h3>More info: <a href="https://www.goln
	etwork.com/game/v/102043/">#518</a>\n\n</BODY>\n</HTML>
STATUS:CONFIRMED
CLASS:PUBLIC
URL:https://www.golnetwork.com/game/v/102043/
X-MICROSOFT-CDO-BUSYSTATUS:BUSY
X-MICROSOFT-CDO-IMPORTANCE:1
END:VEVENT
BEGIN:VEVENT
UID:gacig@games.golnetwork.com
LOCATION:Lamport Stadium - Field 2
GEO:43.6390028;-79.4232104
CREATED:20170126T014908Z
DTSTART:20170222T040000Z
DTEND:20170222T045000Z
DTSTAMP:20260421T052347Z
SUMMARY:XTSC Flyers vs. You Win Some You Booze Some
DESCRIPTION:You Win Some You Booze Some vs. XTSC FlyersMore info: #448
X-ALT-DESC;FMTTYPE=text/html:<!DOCTYPE HTML PUBLIC "-//W3C//DTD HTML 3.2//E
	N">\n<HTML>\n<HEAD>\n<TITLE></TITLE>\n</HEAD>\n<BODY>\n<h3>You Win Some You
	 Booze Some vs. XTSC Flyers</h3>More info: <a href="https://www.golnetwork.
	com/game/v/102041/">#448</a>\n\n</BODY>\n</HTML>
STATUS:CONFIRMED
CLASS:PUBLIC
URL:https://www.golnetwork.com/game/v/102041/
X-MICROSOFT-CDO-BUSYSTATUS:BUSY
X-MICROSOFT-CDO-IMPORTANCE:1
END:VEVENT
BEGIN:VEVENT
UID:gaci6@games.golnetwork.com
LOCATION:Lamport Stadium - Field 2
GEO:43.6390028;-79.4232104
CREATED:20170126T014759Z
DTSTART:20170215T030000Z
DTEND:20170215T035000Z
DTSTAMP:20260421T052347Z
SUMMARY:VarageSale FC vs. You Win Some You Booze Some
DESCRIPTION:You Win Some You Booze Some vs. VarageSale FCMore info: #392
X-ALT-DESC;FMTTYPE=text/html:<!DOCTYPE HTML PUBLIC "-//W3C//DTD HTML 3.2//E
	N">\n<HTML>\n<HEAD>\n<TITLE></TITLE>\n</HEAD>\n<BODY>\n<h3>You Win Some You
	 Booze Some vs. VarageSale FC</h3>More info: <a href="https://www.golnetwor
	k.com/game/v/102036/">#392</a>\n\n</BODY>\n</HTML>
STATUS:CONFIRMED
CLASS:PUBLIC
URL:https://www.golnetwork.com/game/v/102036/
X-MICROSOFT-CDO-BUSYSTATUS:BUSY
X-MICROSOFT-CDO-IMPORTANCE:1
END:VEVENT
BEGIN:VEVENT
UID:gachl@games.golnetwork.com
LOCATION:Lamport Stadium - Field 2
GEO:43.6390028;-79.4232104
CREATED:20170126T014644Z
DTSTART:20170207T230000Z
DTEND:20170207T235000Z
DTSTAMP:20260421T052347Z
SUMMARY:You Win Some You Booze Some vs. Electric Confetti FC
DESCRIPTION:Electric Confetti FC vs. You Win Some You Booze SomeMore info: 
	#302
X-ALT-DESC;FMTTYPE=text/html:<!DOCTYPE HTML PUBLIC "-//W3C//DTD HTML 3.2//E
	N">\n<HTML>\n<HEAD>\n<TITLE></TITLE>\n</HEAD>\n<BODY>\n<h3>Electric Confett
	i FC vs. You Win Some You Booze Some</h3>More info: <a href="https://www.go
	lnetwork.com/game/v/102030/">#302</a>\n\n</BODY>\n</HTML>
STATUS:CONFIRMED
CLASS:PUBLIC
URL:https://www.golnetwork.com/game/v/102030/
X-MICROSOFT-CDO-BUSYSTATUS:BUSY
X-MICROSOFT-CDO-IMPORTANCE:1
END:VEVENT
BEGIN:VEVENT
UID:gachh@games.golnetwork.com
LOCATION:Lamport Stadium - Field 2
GEO:43.6390028;-79.4232104
CREATED:20170126T014548Z
DTSTART:20170201T030000Z
DTEND:20170201T035000Z
DTSTAMP:20260421T052347Z
SUMMARY:You Win Some You Booze Some vs. Goldfish Crackers FC
DESCRIPTION:Goldfish Crackers FC vs. You Win Some You Booze SomeMore info: 
	#231
X-ALT-DESC;FMTTYPE=text/html:<!DOCTYPE HTML PUBLIC "-//W3C//DTD HTML 3.2//E
	N">\n<HTML>\n<HEAD>\n<TITLE></TITLE>\n</HEAD>\n<BODY>\n<h3>Goldfish Cracker
	s FC vs. You Win Some You Booze Some</h3>More info: <a href="https://www.go
	lnetwork.com/game/v/102028/">#231</a>\n\n</BODY>\n</HTML>
STATUS:CONFIRMED
CLASS:PUBLIC
URL:https://www.golnetwork.com/game/v/102028/
X-MICROSOFT-CDO-BUSYSTATUS:BUSY
X-MICROSOFT-CDO-IMPORTANCE:1
END:VEVENT
END:VCALENDAR
