BEGIN:VCALENDAR
PRODID:-//gdesolutions.com//MV Framework 1.0.0.1607 Calendar//EN
VERSION:2.0
METHOD:PUBLISH
CALSCALE:GREGORIAN
BEGIN:VEVENT
UID:gccca@games.golnetwork.com
LOCATION:St Patrick - Field 4
CREATED:20180319T171321Z
DTSTART:20180515T000000Z
DTEND:20180515T010000Z
DTSTAMP:20260419T204752Z
SUMMARY:Agave FC vs. The Knights Who Say NEE!!!!
DESCRIPTION:The Knights Who Say NEE!!!! vs. Agave FCMore info: #430
X-ALT-DESC;FMTTYPE=text/html:<!DOCTYPE HTML PUBLIC "-//W3C//DTD HTML 3.2//E
	N">\n<HTML>\n<HEAD>\n<TITLE></TITLE>\n</HEAD>\n<BODY>\n<h3>The Knights Who 
	Say NEE!!!! vs. Agave FC</h3>More info: <a href="https://www.golnetwork.com
	/game/v/121640/">#430</a>\n\n</BODY>\n</HTML>
STATUS:CONFIRMED
CLASS:PUBLIC
URL:https://www.golnetwork.com/game/v/121640/
X-MICROSOFT-CDO-BUSYSTATUS:BUSY
X-MICROSOFT-CDO-IMPORTANCE:1
END:VEVENT
BEGIN:VEVENT
UID:gccc8@games.golnetwork.com
LOCATION:St Patrick - Field 4
CREATED:20180319T171321Z
DTSTART:20180508T010000Z
DTEND:20180508T020000Z
DTSTAMP:20260419T204752Z
SUMMARY:Queens Park Strangers vs. Agave FC
DESCRIPTION:Agave FC vs. Queens Park StrangersMore info: #407
X-ALT-DESC;FMTTYPE=text/html:<!DOCTYPE HTML PUBLIC "-//W3C//DTD HTML 3.2//E
	N">\n<HTML>\n<HEAD>\n<TITLE></TITLE>\n</HEAD>\n<BODY>\n<h3>Agave FC vs. Que
	ens Park Strangers</h3>More info: <a href="https://www.golnetwork.com/game/
	v/121639/">#407</a>\n\n</BODY>\n</HTML>
STATUS:CONFIRMED
CLASS:PUBLIC
URL:https://www.golnetwork.com/game/v/121639/
X-MICROSOFT-CDO-BUSYSTATUS:BUSY
X-MICROSOFT-CDO-IMPORTANCE:1
END:VEVENT
END:VCALENDAR
