BEGIN:VCALENDAR
PRODID:-//gdesolutions.com//MV Framework 1.0.0.1607 Calendar//EN
VERSION:2.0
METHOD:PUBLISH
CALSCALE:GREGORIAN
BEGIN:VEVENT
UID:gb1a8@games.golnetwork.com
LOCATION:Canoe Landing - Field 1
GEO:43.6396144;-79.3970577
CREATED:20170615T201412Z
DTSTART:20170621T233000Z
DTEND:20170622T003000Z
DTSTAMP:20260421T081722Z
SUMMARY:TBD FC vs. Just Try'na Kick It
DESCRIPTION:Just Try'na Kick It vs. TBD FCMore info: R#388
X-ALT-DESC;FMTTYPE=text/html:<!DOCTYPE HTML PUBLIC "-//W3C//DTD HTML 3.2//E
	N">\n<HTML>\n<HEAD>\n<TITLE></TITLE>\n</HEAD>\n<BODY>\n<h3>Just Try'na Kick
	 It vs. TBD FC</h3>More info: <a href="https://www.golnetwork.com/game/v/10
	7761/">R#388</a>\n\n</BODY>\n</HTML>
STATUS:CONFIRMED
CLASS:PUBLIC
URL:https://www.golnetwork.com/game/v/107761/
X-MICROSOFT-CDO-BUSYSTATUS:BUSY
X-MICROSOFT-CDO-IMPORTANCE:1
END:VEVENT
BEGIN:VEVENT
UID:gaimi@games.golnetwork.com
LOCATION:Canoe Landing  - Field 3
CREATED:20170420T150759Z
DTSTART:20170614T223000Z
DTEND:20170614T233000Z
DTSTAMP:20260421T081722Z
SUMMARY:TBD FC vs. Just Try'na Kick It
DESCRIPTION:Just Try'na Kick It vs. TBD FCMore info: #388
X-ALT-DESC;FMTTYPE=text/html:<!DOCTYPE HTML PUBLIC "-//W3C//DTD HTML 3.2//E
	N">\n<HTML>\n<HEAD>\n<TITLE></TITLE>\n</HEAD>\n<BODY>\n<h3>Just Try'na Kick
	 It vs. TBD FC</h3>More info: <a href="https://www.golnetwork.com/game/v/10
	4283/">#388</a>\n\n</BODY>\n</HTML>
STATUS:RESCHEDULED
CLASS:PUBLIC
URL:https://www.golnetwork.com/game/v/104283/
X-MICROSOFT-CDO-BUSYSTATUS:BUSY
X-MICROSOFT-CDO-IMPORTANCE:1
END:VEVENT
BEGIN:VEVENT
UID:gaima@games.golnetwork.com
LOCATION:Canoe Landing - Field 2
GEO:43.6396144;-79.3970577
CREATED:20170420T150715Z
DTSTART:20170608T003000Z
DTEND:20170608T013000Z
DTSTAMP:20260421T081722Z
SUMMARY:Cleats & Clevage vs. TBD FC
DESCRIPTION:TBD FC vs. Cleats & ClevageMore info: #310
X-ALT-DESC;FMTTYPE=text/html:<!DOCTYPE HTML PUBLIC "-//W3C//DTD HTML 3.2//E
	N">\n<HTML>\n<HEAD>\n<TITLE></TITLE>\n</HEAD>\n<BODY>\n<h3>TBD FC vs. Cleat
	s & Clevage</h3>More info: <a href="https://www.golnetwork.com/game/v/10427
	9/">#310</a>\n\n</BODY>\n</HTML>
STATUS:CONFIRMED
CLASS:PUBLIC
URL:https://www.golnetwork.com/game/v/104279/
X-MICROSOFT-CDO-BUSYSTATUS:BUSY
X-MICROSOFT-CDO-IMPORTANCE:1
END:VEVENT
BEGIN:VEVENT
UID:gaim2@games.golnetwork.com
LOCATION:Canoe Landing - Field 1
GEO:43.6396144;-79.3970577
CREATED:20170420T150624Z
DTSTART:20170531T233000Z
DTEND:20170601T003000Z
DTSTAMP:20260421T081722Z
SUMMARY:Les foufounes vs. TBD FC
DESCRIPTION:TBD FC vs. Les foufounesMore info: #228
X-ALT-DESC;FMTTYPE=text/html:<!DOCTYPE HTML PUBLIC "-//W3C//DTD HTML 3.2//E
	N">\n<HTML>\n<HEAD>\n<TITLE></TITLE>\n</HEAD>\n<BODY>\n<h3>TBD FC vs. Les f
	oufounes</h3>More info: <a href="https://www.golnetwork.com/game/v/104275/"
	>#228</a>\n\n</BODY>\n</HTML>
STATUS:CONFIRMED
CLASS:PUBLIC
URL:https://www.golnetwork.com/game/v/104275/
X-MICROSOFT-CDO-BUSYSTATUS:BUSY
X-MICROSOFT-CDO-IMPORTANCE:1
END:VEVENT
BEGIN:VEVENT
UID:gaim0@games.golnetwork.com
LOCATION:Canoe Landing  - Field 3
CREATED:20170420T150607Z
DTSTART:20170524T223000Z
DTEND:20170524T233000Z
DTSTAMP:20260421T081722Z
SUMMARY:TBD FC vs. XTSC Payet Forward
DESCRIPTION:XTSC Payet Forward vs. TBD FCMore info: #146
X-ALT-DESC;FMTTYPE=text/html:<!DOCTYPE HTML PUBLIC "-//W3C//DTD HTML 3.2//E
	N">\n<HTML>\n<HEAD>\n<TITLE></TITLE>\n</HEAD>\n<BODY>\n<h3>XTSC Payet Forwa
	rd vs. TBD FC</h3>More info: <a href="https://www.golnetwork.com/game/v/104
	274/">#146</a>\n\n</BODY>\n</HTML>
STATUS:CONFIRMED
CLASS:PUBLIC
URL:https://www.golnetwork.com/game/v/104274/
X-MICROSOFT-CDO-BUSYSTATUS:BUSY
X-MICROSOFT-CDO-IMPORTANCE:1
END:VEVENT
BEGIN:VEVENT
UID:gailh@games.golnetwork.com
LOCATION:Canoe Landing - Field 2
GEO:43.6396144;-79.3970577
CREATED:20170420T150513Z
DTSTART:20170517T223000Z
DTEND:20170517T233000Z
DTSTAMP:20260421T081722Z
SUMMARY:TBD FC vs. Bugatti Baby Bottle Poppers
DESCRIPTION:Bugatti Baby Bottle Poppers vs. TBD FCMore info: #100
X-ALT-DESC;FMTTYPE=text/html:<!DOCTYPE HTML PUBLIC "-//W3C//DTD HTML 3.2//E
	N">\n<HTML>\n<HEAD>\n<TITLE></TITLE>\n</HEAD>\n<BODY>\n<h3>Bugatti Baby Bot
	tle Poppers vs. TBD FC</h3>More info: <a href="https://www.golnetwork.com/g
	ame/v/104269/">#100</a>\n\n</BODY>\n</HTML>
STATUS:CONFIRMED
CLASS:PUBLIC
URL:https://www.golnetwork.com/game/v/104269/
X-MICROSOFT-CDO-BUSYSTATUS:BUSY
X-MICROSOFT-CDO-IMPORTANCE:1
END:VEVENT
BEGIN:VEVENT
UID:gailf@games.golnetwork.com
LOCATION:Canoe Landing  - Field 3
CREATED:20170420T150500Z
DTSTART:20170510T233000Z
DTEND:20170511T003000Z
DTSTAMP:20260421T081722Z
SUMMARY:TBD FC vs. Just Try'na Kick It
DESCRIPTION:Just Try'na Kick It vs. TBD FCMore info: #43
X-ALT-DESC;FMTTYPE=text/html:<!DOCTYPE HTML PUBLIC "-//W3C//DTD HTML 3.2//E
	N">\n<HTML>\n<HEAD>\n<TITLE></TITLE>\n</HEAD>\n<BODY>\n<h3>Just Try'na Kick
	 It vs. TBD FC</h3>More info: <a href="https://www.golnetwork.com/game/v/10
	4268/">#43</a>\n\n</BODY>\n</HTML>
STATUS:CONFIRMED
CLASS:PUBLIC
URL:https://www.golnetwork.com/game/v/104268/
X-MICROSOFT-CDO-BUSYSTATUS:BUSY
X-MICROSOFT-CDO-IMPORTANCE:1
END:VEVENT
BEGIN:VEVENT
UID:gail7@games.golnetwork.com
LOCATION:Canoe Landing - Field 2
GEO:43.6396144;-79.3970577
CREATED:20170420T150411Z
DTSTART:20170503T223000Z
DTEND:20170503T233000Z
DTSTAMP:20260421T081722Z
SUMMARY:Cleats & Clevage vs. TBD FC
DESCRIPTION:TBD FC vs. Cleats & ClevageMore info: #7
X-ALT-DESC;FMTTYPE=text/html:<!DOCTYPE HTML PUBLIC "-//W3C//DTD HTML 3.2//E
	N">\n<HTML>\n<HEAD>\n<TITLE></TITLE>\n</HEAD>\n<BODY>\n<h3>TBD FC vs. Cleat
	s & Clevage</h3>More info: <a href="https://www.golnetwork.com/game/v/10426
	4/">#7</a>\n\n</BODY>\n</HTML>
STATUS:CONFIRMED
CLASS:PUBLIC
URL:https://www.golnetwork.com/game/v/104264/
X-MICROSOFT-CDO-BUSYSTATUS:BUSY
X-MICROSOFT-CDO-IMPORTANCE:1
END:VEVENT
END:VCALENDAR
