BEGIN:VCALENDAR
PRODID:-//gdesolutions.com//MV Framework 1.0.0.1607 Calendar//EN
VERSION:2.0
METHOD:PUBLISH
CALSCALE:GREGORIAN
BEGIN:VEVENT
UID:gaj34@games.golnetwork.com
LOCATION:Central Tech - Field 3
CREATED:20170421T203607Z
DTSTART:20170704T000000Z
DTEND:20170704T010000Z
DTSTAMP:20260420T074341Z
SUMMARY:Unknown FC vs. Starks of Klickfell
DESCRIPTION:Starks of Klickfell vs. Unknown FCMore info: #580
X-ALT-DESC;FMTTYPE=text/html:<!DOCTYPE HTML PUBLIC "-//W3C//DTD HTML 3.2//E
	N">\n<HTML>\n<HEAD>\n<TITLE></TITLE>\n</HEAD>\n<BODY>\n<h3>Starks of Klickf
	ell vs. Unknown FC</h3>More info: <a href="https://www.golnetwork.com/game/
	v/104384/">#580</a>\n\n</BODY>\n</HTML>
STATUS:CONFIRMED
CLASS:PUBLIC
URL:https://www.golnetwork.com/game/v/104384/
X-MICROSOFT-CDO-BUSYSTATUS:BUSY
X-MICROSOFT-CDO-IMPORTANCE:1
END:VEVENT
BEGIN:VEVENT
UID:gaj2p@games.golnetwork.com
LOCATION:Central Tech - Field 3
CREATED:20170421T203540Z
DTSTART:20170627T020000Z
DTEND:20170627T030000Z
DTSTAMP:20260420T074341Z
SUMMARY:Infrared FC vs. Starks of Klickfell
DESCRIPTION:Starks of Klickfell vs. Infrared FCMore info: #534
X-ALT-DESC;FMTTYPE=text/html:<!DOCTYPE HTML PUBLIC "-//W3C//DTD HTML 3.2//E
	N">\n<HTML>\n<HEAD>\n<TITLE></TITLE>\n</HEAD>\n<BODY>\n<h3>Starks of Klickf
	ell vs. Infrared FC</h3>More info: <a href="https://www.golnetwork.com/game
	/v/104381/">#534</a>\n\n</BODY>\n</HTML>
STATUS:CONFIRMED
CLASS:PUBLIC
URL:https://www.golnetwork.com/game/v/104381/
X-MICROSOFT-CDO-BUSYSTATUS:BUSY
X-MICROSOFT-CDO-IMPORTANCE:1
END:VEVENT
BEGIN:VEVENT
UID:gaj1o@games.golnetwork.com
LOCATION:Central Tech - Field 2
GEO:43.6637272;-79.4087613
CREATED:20170421T180527Z
DTSTART:20170613T010000Z
DTEND:20170613T020000Z
DTSTAMP:20260420T074341Z
SUMMARY:Starks of Klickfell vs. Pink Panthers
DESCRIPTION:Pink Panthers vs. Starks of KlickfellMore info: #366
X-ALT-DESC;FMTTYPE=text/html:<!DOCTYPE HTML PUBLIC "-//W3C//DTD HTML 3.2//E
	N">\n<HTML>\n<HEAD>\n<TITLE></TITLE>\n</HEAD>\n<BODY>\n<h3>Pink Panthers vs
	. Starks of Klickfell</h3>More info: <a href="https://www.golnetwork.com/ga
	me/v/104367/">#366</a>\n\n</BODY>\n</HTML>
STATUS:CONFIRMED
CLASS:PUBLIC
URL:https://www.golnetwork.com/game/v/104367/
X-MICROSOFT-CDO-BUSYSTATUS:BUSY
X-MICROSOFT-CDO-IMPORTANCE:1
END:VEVENT
BEGIN:VEVENT
UID:gaj1i@games.golnetwork.com
LOCATION:Central Tech - Field 3
CREATED:20170421T180444Z
DTSTART:20170606T020000Z
DTEND:20170606T030000Z
DTSTAMP:20260420T074341Z
SUMMARY:Friends United Football Club vs. Starks of Klickfell
DESCRIPTION:Starks of Klickfell vs. Friends United Football ClubMore info: 
	#286
X-ALT-DESC;FMTTYPE=text/html:<!DOCTYPE HTML PUBLIC "-//W3C//DTD HTML 3.2//E
	N">\n<HTML>\n<HEAD>\n<TITLE></TITLE>\n</HEAD>\n<BODY>\n<h3>Starks of Klickf
	ell vs. Friends United Football Club</h3>More info: <a href="https://www.go
	lnetwork.com/game/v/104364/">#286</a>\n\n</BODY>\n</HTML>
STATUS:CONFIRMED
CLASS:PUBLIC
URL:https://www.golnetwork.com/game/v/104364/
X-MICROSOFT-CDO-BUSYSTATUS:BUSY
X-MICROSOFT-CDO-IMPORTANCE:1
END:VEVENT
BEGIN:VEVENT
UID:gaj12@games.golnetwork.com
LOCATION:Central Tech - Field 3
CREATED:20170421T180232Z
DTSTART:20170530T010000Z
DTEND:20170530T020000Z
DTSTAMP:20260420T074341Z
SUMMARY:Unknown FC vs. Starks of Klickfell
DESCRIPTION:Starks of Klickfell vs. Unknown FCMore info: #206
X-ALT-DESC;FMTTYPE=text/html:<!DOCTYPE HTML PUBLIC "-//W3C//DTD HTML 3.2//E
	N">\n<HTML>\n<HEAD>\n<TITLE></TITLE>\n</HEAD>\n<BODY>\n<h3>Starks of Klickf
	ell vs. Unknown FC</h3>More info: <a href="https://www.golnetwork.com/game/
	v/104356/">#206</a>\n\n</BODY>\n</HTML>
STATUS:CONFIRMED
CLASS:PUBLIC
URL:https://www.golnetwork.com/game/v/104356/
X-MICROSOFT-CDO-BUSYSTATUS:BUSY
X-MICROSOFT-CDO-IMPORTANCE:1
END:VEVENT
BEGIN:VEVENT
UID:gaj0d@games.golnetwork.com
LOCATION:Central Tech - Field 3
CREATED:20170421T180100Z
DTSTART:20170523T000000Z
DTEND:20170523T010000Z
DTSTAMP:20260420T074341Z
SUMMARY:Bayside High vs. Starks of Klickfell
DESCRIPTION:Starks of Klickfell vs. Bayside HighMore info: #122
X-ALT-DESC;FMTTYPE=text/html:<!DOCTYPE HTML PUBLIC "-//W3C//DTD HTML 3.2//E
	N">\n<HTML>\n<HEAD>\n<TITLE></TITLE>\n</HEAD>\n<BODY>\n<h3>Starks of Klickf
	ell vs. Bayside High</h3>More info: <a href="https://www.golnetwork.com/gam
	e/v/104348/">#122</a>\n\n</BODY>\n</HTML>
STATUS:CONFIRMED
CLASS:PUBLIC
URL:https://www.golnetwork.com/game/v/104348/
X-MICROSOFT-CDO-BUSYSTATUS:BUSY
X-MICROSOFT-CDO-IMPORTANCE:1
END:VEVENT
BEGIN:VEVENT
UID:gaj07@games.golnetwork.com
LOCATION:Central Tech - Field 2
GEO:43.6637272;-79.4087613
CREATED:20170421T175957Z
DTSTART:20170516T020000Z
DTEND:20170516T030000Z
DTSTAMP:20260420T074341Z
SUMMARY:Starks of Klickfell vs. Scallywags
DESCRIPTION:Scallywags vs. Starks of KlickfellMore info: #82
X-ALT-DESC;FMTTYPE=text/html:<!DOCTYPE HTML PUBLIC "-//W3C//DTD HTML 3.2//E
	N">\n<HTML>\n<HEAD>\n<TITLE></TITLE>\n</HEAD>\n<BODY>\n<h3>Scallywags vs. S
	tarks of Klickfell</h3>More info: <a href="https://www.golnetwork.com/game/
	v/104345/">#82</a>\n\n</BODY>\n</HTML>
STATUS:CONFIRMED
CLASS:PUBLIC
URL:https://www.golnetwork.com/game/v/104345/
X-MICROSOFT-CDO-BUSYSTATUS:BUSY
X-MICROSOFT-CDO-IMPORTANCE:1
END:VEVENT
BEGIN:VEVENT
UID:gaiqm@games.golnetwork.com
LOCATION:Central Tech - Field 2
GEO:43.6637272;-79.4087613
CREATED:20170421T175726Z
DTSTART:20170509T020000Z
DTEND:20170509T030000Z
DTSTAMP:20260420T074341Z
SUMMARY:Dynamo Kebab vs. Starks of Klickfell
DESCRIPTION:Starks of Klickfell vs. Dynamo KebabMore info: #30
X-ALT-DESC;FMTTYPE=text/html:<!DOCTYPE HTML PUBLIC "-//W3C//DTD HTML 3.2//E
	N">\n<HTML>\n<HEAD>\n<TITLE></TITLE>\n</HEAD>\n<BODY>\n<h3>Starks of Klickf
	ell vs. Dynamo Kebab</h3>More info: <a href="https://www.golnetwork.com/gam
	e/v/104339/">#30</a>\n\n</BODY>\n</HTML>
STATUS:CONFIRMED
CLASS:PUBLIC
URL:https://www.golnetwork.com/game/v/104339/
X-MICROSOFT-CDO-BUSYSTATUS:BUSY
X-MICROSOFT-CDO-IMPORTANCE:1
END:VEVENT
END:VCALENDAR
