BEGIN:VCALENDAR
PRODID:-//gdesolutions.com//MV Framework 1.0.0.1607 Calendar//EN
VERSION:2.0
METHOD:PUBLISH
CALSCALE:GREGORIAN
BEGIN:VEVENT
UID:gaqqg@games.golnetwork.com
LOCATION:Mooney's Bay
GEO:45.3702572;-75.6905176
CREATED:20170529T054453Z
DTSTART:20170626T222000Z
DTEND:20170626T231500Z
DTSTAMP:20260420T011614Z
SUMMARY:Individuals 2 vs. Feedbag
DESCRIPTION:Feedbag vs. Individuals 2More info: #10
X-ALT-DESC;FMTTYPE=text/html:<!DOCTYPE HTML PUBLIC "-//W3C//DTD HTML 3.2//E
	N">\n<HTML>\n<HEAD>\n<TITLE></TITLE>\n</HEAD>\n<BODY>\n<h3>Feedbag vs. Indi
	viduals 2</h3>More info: <a href="https://www.golnetwork.com/game/v/107252/
	">#10</a>\n\n</BODY>\n</HTML>
STATUS:CONFIRMED
CLASS:PUBLIC
URL:https://www.golnetwork.com/game/v/107252/
X-MICROSOFT-CDO-BUSYSTATUS:BUSY
X-MICROSOFT-CDO-IMPORTANCE:1
END:VEVENT
BEGIN:VEVENT
UID:gaqq4@games.golnetwork.com
LOCATION:Lester B. Pearson Field 1
GEO:45.4429892;-75.5963901
CREATED:20170529T054453Z
DTSTART:20170612T224500Z
DTEND:20170612T234000Z
DTSTAMP:20260420T011614Z
SUMMARY:Individuals 2 vs. I thought this was trivia night
DESCRIPTION:I thought this was trivia night vs. Individuals 2More info: #4
X-ALT-DESC;FMTTYPE=text/html:<!DOCTYPE HTML PUBLIC "-//W3C//DTD HTML 3.2//E
	N">\n<HTML>\n<HEAD>\n<TITLE></TITLE>\n</HEAD>\n<BODY>\n<h3>I thought this w
	as trivia night vs. Individuals 2</h3>More info: <a href="https://www.golne
	twork.com/game/v/107246/">#4</a>\n\n</BODY>\n</HTML>
STATUS:CONFIRMED
CLASS:PUBLIC
URL:https://www.golnetwork.com/game/v/107246/
X-MICROSOFT-CDO-BUSYSTATUS:BUSY
X-MICROSOFT-CDO-IMPORTANCE:1
END:VEVENT
BEGIN:VEVENT
UID:gaqq2@games.golnetwork.com
LOCATION:Lester B. Pearson Field 1
GEO:45.4429892;-75.5963901
CREATED:20170529T054453Z
DTSTART:20170605T224500Z
DTEND:20170605T234000Z
DTSTAMP:20260420T011614Z
SUMMARY:Cool Beans vs. Individuals 2
DESCRIPTION:Individuals 2 vs. Cool BeansMore info: #3
X-ALT-DESC;FMTTYPE=text/html:<!DOCTYPE HTML PUBLIC "-//W3C//DTD HTML 3.2//E
	N">\n<HTML>\n<HEAD>\n<TITLE></TITLE>\n</HEAD>\n<BODY>\n<h3>Individuals 2 vs
	. Cool Beans</h3>More info: <a href="https://www.golnetwork.com/game/v/1072
	45/">#3</a>\n\n</BODY>\n</HTML>
STATUS:CONFIRMED
CLASS:PUBLIC
URL:https://www.golnetwork.com/game/v/107245/
X-MICROSOFT-CDO-BUSYSTATUS:BUSY
X-MICROSOFT-CDO-IMPORTANCE:1
END:VEVENT
BEGIN:VEVENT
UID:gaqgo@games.golnetwork.com
LOCATION:Lester B. Pearson Field 3
GEO:45.4429892;-75.5963901
CREATED:20170524T200642Z
DTSTART:20170529T224500Z
DTEND:20170529T234000Z
DTSTAMP:20260420T011614Z
SUMMARY:Individuals 2 vs. Individuals
DESCRIPTION:Individuals vs. Individuals 2More info: #3
X-ALT-DESC;FMTTYPE=text/html:<!DOCTYPE HTML PUBLIC "-//W3C//DTD HTML 3.2//E
	N">\n<HTML>\n<HEAD>\n<TITLE></TITLE>\n</HEAD>\n<BODY>\n<h3>Individuals vs. 
	Individuals 2</h3>More info: <a href="https://www.golnetwork.com/game/v/107
	121/">#3</a>\n\n</BODY>\n</HTML>
STATUS:CONFIRMED
CLASS:PUBLIC
URL:https://www.golnetwork.com/game/v/107121/
X-MICROSOFT-CDO-BUSYSTATUS:BUSY
X-MICROSOFT-CDO-IMPORTANCE:1
END:VEVENT
END:VCALENDAR
