BEGIN:VCALENDAR
PRODID:-//gdesolutions.com//MV Framework 1.0.0.1607 Calendar//EN
VERSION:2.0
METHOD:PUBLISH
CALSCALE:GREGORIAN
BEGIN:VEVENT
UID:gcpdi@games.golnetwork.com
LOCATION:Central Tech - Field 3
CREATED:20180713T143732Z
DTSTART:20180912T020000Z
DTEND:20180912T030000Z
DTSTAMP:20260420T071406Z
SUMMARY:Offsiders FC vs. (à²  âˆ©à² )
DESCRIPTION:(à²  âˆ©à² ) vs. Offsiders FCMore info: #666
X-ALT-DESC;FMTTYPE=text/html:<!DOCTYPE HTML PUBLIC "-//W3C//DTD HTML 3.2//E
	N">\n<HTML>\n<HEAD>\n<TITLE></TITLE>\n</HEAD>\n<BODY>\n<h3>(à²  âˆ©à² ) vs.
	 Offsiders FC</h3>More info: <a href="https://www.golnetwork.com/game/v/126
	396/">#666</a>\n\n</BODY>\n</HTML>
STATUS:CONFIRMED
CLASS:PUBLIC
URL:https://www.golnetwork.com/game/v/126396/
X-MICROSOFT-CDO-BUSYSTATUS:BUSY
X-MICROSOFT-CDO-IMPORTANCE:1
END:VEVENT
BEGIN:VEVENT
UID:gcpdc@games.golnetwork.com
LOCATION:Central Tech - Field 4
CREATED:20180713T143711Z
DTSTART:20180904T220000Z
DTEND:20180904T230000Z
DTSTAMP:20260420T071406Z
SUMMARY:UnbelievaBALL vs. (à²  âˆ©à² )
DESCRIPTION:(à²  âˆ©à² ) vs. UnbelievaBALLMore info: #590
X-ALT-DESC;FMTTYPE=text/html:<!DOCTYPE HTML PUBLIC "-//W3C//DTD HTML 3.2//E
	N">\n<HTML>\n<HEAD>\n<TITLE></TITLE>\n</HEAD>\n<BODY>\n<h3>(à²  âˆ©à² ) vs.
	 UnbelievaBALL</h3>More info: <a href="https://www.golnetwork.com/game/v/12
	6393/">#590</a>\n\n</BODY>\n</HTML>
STATUS:CONFIRMED
CLASS:PUBLIC
URL:https://www.golnetwork.com/game/v/126393/
X-MICROSOFT-CDO-BUSYSTATUS:BUSY
X-MICROSOFT-CDO-IMPORTANCE:1
END:VEVENT
BEGIN:VEVENT
UID:gcpd4@games.golnetwork.com
LOCATION:Central Tech - Field 3
CREATED:20180713T143632Z
DTSTART:20180828T230000Z
DTEND:20180829T000000Z
DTSTAMP:20260420T071406Z
SUMMARY:Godzilla Goldorak FC vs. (à²  âˆ©à² )
DESCRIPTION:(à²  âˆ©à² ) vs. Godzilla Goldorak FCMore info: #542
X-ALT-DESC;FMTTYPE=text/html:<!DOCTYPE HTML PUBLIC "-//W3C//DTD HTML 3.2//E
	N">\n<HTML>\n<HEAD>\n<TITLE></TITLE>\n</HEAD>\n<BODY>\n<h3>(à²  âˆ©à² ) vs.
	 Godzilla Goldorak FC</h3>More info: <a href="https://www.golnetwork.com/ga
	me/v/126389/">#542</a>\n\n</BODY>\n</HTML>
STATUS:CONFIRMED
CLASS:PUBLIC
URL:https://www.golnetwork.com/game/v/126389/
X-MICROSOFT-CDO-BUSYSTATUS:BUSY
X-MICROSOFT-CDO-IMPORTANCE:1
END:VEVENT
BEGIN:VEVENT
UID:gcpd0@games.golnetwork.com
LOCATION:Central Tech - Field 4
CREATED:20180713T143604Z
DTSTART:20180822T010000Z
DTEND:20180822T020000Z
DTSTAMP:20260420T071406Z
SUMMARY:(à²  âˆ©à² ) vs. All Ballz
DESCRIPTION:All Ballz vs. (à²  âˆ©à² )More info: #480
X-ALT-DESC;FMTTYPE=text/html:<!DOCTYPE HTML PUBLIC "-//W3C//DTD HTML 3.2//E
	N">\n<HTML>\n<HEAD>\n<TITLE></TITLE>\n</HEAD>\n<BODY>\n<h3>All Ballz vs. (à
	²  âˆ©à² )</h3>More info: <a href="https://www.golnetwork.com/game/v/126387
	/">#480</a>\n\n</BODY>\n</HTML>
STATUS:CONFIRMED
CLASS:PUBLIC
URL:https://www.golnetwork.com/game/v/126387/
X-MICROSOFT-CDO-BUSYSTATUS:BUSY
X-MICROSOFT-CDO-IMPORTANCE:1
END:VEVENT
BEGIN:VEVENT
UID:gd11f@games.golnetwork.com
LOCATION:Cherry Beach East 1
CREATED:20180808T133946Z
DTSTART:20180817T010000Z
DTEND:20180817T020000Z
DTSTAMP:20260420T071406Z
SUMMARY:(à²  âˆ©à² ) vs. Thursday Black Jerseys
DESCRIPTION:Thursday Black Jerseys vs. (à²  âˆ©à² )More info: R#157
X-ALT-DESC;FMTTYPE=text/html:<!DOCTYPE HTML PUBLIC "-//W3C//DTD HTML 3.2//E
	N">\n<HTML>\n<HEAD>\n<TITLE></TITLE>\n</HEAD>\n<BODY>\n<h3>Thursday Black J
	erseys vs. (à²  âˆ©à² )</h3>More info: <a href="https://www.golnetwork.com/
	game/v/127326/">R#157</a>\n\n</BODY>\n</HTML>
STATUS:CONFIRMED
CLASS:PUBLIC
URL:https://www.golnetwork.com/game/v/127326/
X-MICROSOFT-CDO-BUSYSTATUS:BUSY
X-MICROSOFT-CDO-IMPORTANCE:1
END:VEVENT
BEGIN:VEVENT
UID:gcpch@games.golnetwork.com
LOCATION:Central Tech - Field 3
CREATED:20180713T143316Z
DTSTART:20180815T020000Z
DTEND:20180815T030000Z
DTSTAMP:20260420T071406Z
SUMMARY:Cool Running vs. (à²  âˆ©à² )
DESCRIPTION:(à²  âˆ©à² ) vs. Cool RunningMore info: #399
X-ALT-DESC;FMTTYPE=text/html:<!DOCTYPE HTML PUBLIC "-//W3C//DTD HTML 3.2//E
	N">\n<HTML>\n<HEAD>\n<TITLE></TITLE>\n</HEAD>\n<BODY>\n<h3>(à²  âˆ©à² ) vs.
	 Cool Running</h3>More info: <a href="https://www.golnetwork.com/game/v/126
	382/">#399</a>\n\n</BODY>\n</HTML>
STATUS:CONFIRMED
CLASS:PUBLIC
URL:https://www.golnetwork.com/game/v/126382/
X-MICROSOFT-CDO-BUSYSTATUS:BUSY
X-MICROSOFT-CDO-IMPORTANCE:1
END:VEVENT
BEGIN:VEVENT
UID:gcpc5@games.golnetwork.com
LOCATION:Central Tech - Field 4
CREATED:20180713T143210Z
DTSTART:20180807T220000Z
DTEND:20180807T230000Z
DTSTAMP:20260420T071406Z
SUMMARY:UnbelievaBALL vs. (à²  âˆ©à² )
DESCRIPTION:(à²  âˆ©à² ) vs. UnbelievaBALLMore info: #282
X-ALT-DESC;FMTTYPE=text/html:<!DOCTYPE HTML PUBLIC "-//W3C//DTD HTML 3.2//E
	N">\n<HTML>\n<HEAD>\n<TITLE></TITLE>\n</HEAD>\n<BODY>\n<h3>(à²  âˆ©à² ) vs.
	 UnbelievaBALL</h3>More info: <a href="https://www.golnetwork.com/game/v/12
	6376/">#282</a>\n\n</BODY>\n</HTML>
STATUS:CONFIRMED
CLASS:PUBLIC
URL:https://www.golnetwork.com/game/v/126376/
X-MICROSOFT-CDO-BUSYSTATUS:BUSY
X-MICROSOFT-CDO-IMPORTANCE:1
END:VEVENT
BEGIN:VEVENT
UID:gcpc3@games.golnetwork.com
LOCATION:Central Tech - Field 3
CREATED:20180713T143154Z
DTSTART:20180801T020000Z
DTEND:20180801T030000Z
DTSTAMP:20260420T071406Z
SUMMARY:(à²  âˆ©à² ) vs. Offsiders FC
DESCRIPTION:Offsiders FC vs. (à²  âˆ©à² )More info: #243
X-ALT-DESC;FMTTYPE=text/html:<!DOCTYPE HTML PUBLIC "-//W3C//DTD HTML 3.2//E
	N">\n<HTML>\n<HEAD>\n<TITLE></TITLE>\n</HEAD>\n<BODY>\n<h3>Offsiders FC vs.
	 (à²  âˆ©à² )</h3>More info: <a href="https://www.golnetwork.com/game/v/126
	375/">#243</a>\n\n</BODY>\n</HTML>
STATUS:CONFIRMED
CLASS:PUBLIC
URL:https://www.golnetwork.com/game/v/126375/
X-MICROSOFT-CDO-BUSYSTATUS:BUSY
X-MICROSOFT-CDO-IMPORTANCE:1
END:VEVENT
BEGIN:VEVENT
UID:gcpbi@games.golnetwork.com
LOCATION:Central Tech - Field 4
CREATED:20180713T143100Z
DTSTART:20180724T230000Z
DTEND:20180725T000000Z
DTSTAMP:20260420T071406Z
SUMMARY:(à²  âˆ©à² ) vs. Thursday Black Jerseys
DESCRIPTION:Thursday Black Jerseys vs. (à²  âˆ©à² )More info: #157
X-ALT-DESC;FMTTYPE=text/html:<!DOCTYPE HTML PUBLIC "-//W3C//DTD HTML 3.2//E
	N">\n<HTML>\n<HEAD>\n<TITLE></TITLE>\n</HEAD>\n<BODY>\n<h3>Thursday Black J
	erseys vs. (à²  âˆ©à² )</h3>More info: <a href="https://www.golnetwork.com/
	game/v/126369/">#157</a>\n\n</BODY>\n</HTML>
STATUS:RESCHEDULED
CLASS:PUBLIC
URL:https://www.golnetwork.com/game/v/126369/
X-MICROSOFT-CDO-BUSYSTATUS:BUSY
X-MICROSOFT-CDO-IMPORTANCE:1
END:VEVENT
BEGIN:VEVENT
UID:gcp6p@games.golnetwork.com
LOCATION:Central Tech - Field 3
CREATED:20180712T013842Z
DTSTART:20180718T000000Z
DTEND:20180718T010000Z
DTSTAMP:20260420T071406Z
SUMMARY:(à²  âˆ©à² ) vs. Relegationists
DESCRIPTION:Relegationists vs. (à²  âˆ©à² )More info: #99
X-ALT-DESC;FMTTYPE=text/html:<!DOCTYPE HTML PUBLIC "-//W3C//DTD HTML 3.2//E
	N">\n<HTML>\n<HEAD>\n<TITLE></TITLE>\n</HEAD>\n<BODY>\n<h3>Relegationists v
	s. (à²  âˆ©à² )</h3>More info: <a href="https://www.golnetwork.com/game/v/1
	26305/">#99</a>\n\n</BODY>\n</HTML>
STATUS:CONFIRMED
CLASS:PUBLIC
URL:https://www.golnetwork.com/game/v/126305/
X-MICROSOFT-CDO-BUSYSTATUS:BUSY
X-MICROSOFT-CDO-IMPORTANCE:1
END:VEVENT
END:VCALENDAR
