BEGIN:VCALENDAR
PRODID:-//gdesolutions.com//MV Framework 1.0.0.1607 Calendar//EN
VERSION:2.0
METHOD:PUBLISH
CALSCALE:GREGORIAN
BEGIN:VEVENT
UID:gc855@games.golnetwork.com
LOCATION:Lamport Stadium - Field 2
GEO:43.6390028;-79.4232104
CREATED:20180129T200823Z
DTSTART:20180314T030000Z
DTEND:20180314T040000Z
DTSTAMP:20260423T082803Z
SUMMARY:Tigers vs. Net 6ix and Chill
DESCRIPTION:Net 6ix and Chill vs. TigersMore info: #726
X-ALT-DESC;FMTTYPE=text/html:<!DOCTYPE HTML PUBLIC "-//W3C//DTD HTML 3.2//E
	N">\n<HTML>\n<HEAD>\n<TITLE></TITLE>\n</HEAD>\n<BODY>\n<h3>Net 6ix and Chil
	l vs. Tigers</h3>More info: <a href="https://www.golnetwork.com/game/v/1200
	85/">#726</a>\n\n</BODY>\n</HTML>
STATUS:CONFIRMED
CLASS:PUBLIC
URL:https://www.golnetwork.com/game/v/120085/
X-MICROSOFT-CDO-BUSYSTATUS:BUSY
X-MICROSOFT-CDO-IMPORTANCE:1
END:VEVENT
BEGIN:VEVENT
UID:gc851@games.golnetwork.com
LOCATION:Lamport Stadium - Field 2
GEO:43.6390028;-79.4232104
CREATED:20180129T200811Z
DTSTART:20180307T030000Z
DTEND:20180307T040000Z
DTSTAMP:20260423T082803Z
SUMMARY:Tigers vs. Tucows
DESCRIPTION:Tucows vs. TigersMore info: #673
X-ALT-DESC;FMTTYPE=text/html:<!DOCTYPE HTML PUBLIC "-//W3C//DTD HTML 3.2//E
	N">\n<HTML>\n<HEAD>\n<TITLE></TITLE>\n</HEAD>\n<BODY>\n<h3>Tucows vs. Tiger
	s</h3>More info: <a href="https://www.golnetwork.com/game/v/120083/">#673</
	a>\n\n</BODY>\n</HTML>
STATUS:CONFIRMED
CLASS:PUBLIC
URL:https://www.golnetwork.com/game/v/120083/
X-MICROSOFT-CDO-BUSYSTATUS:BUSY
X-MICROSOFT-CDO-IMPORTANCE:1
END:VEVENT
BEGIN:VEVENT
UID:gc84g@games.golnetwork.com
LOCATION:Lamport Stadium - Field 3
GEO:43.6390028;-79.4232104
CREATED:20180129T200706Z
DTSTART:20180228T020000Z
DTEND:20180228T030000Z
DTSTAMP:20260423T082803Z
SUMMARY:Agave FC vs. Tigers
DESCRIPTION:Tigers vs. Agave FCMore info: #604
X-ALT-DESC;FMTTYPE=text/html:<!DOCTYPE HTML PUBLIC "-//W3C//DTD HTML 3.2//E
	N">\n<HTML>\n<HEAD>\n<TITLE></TITLE>\n</HEAD>\n<BODY>\n<h3>Tigers vs. Agave
	 FC</h3>More info: <a href="https://www.golnetwork.com/game/v/120077/">#604
	</a>\n\n</BODY>\n</HTML>
STATUS:CONFIRMED
CLASS:PUBLIC
URL:https://www.golnetwork.com/game/v/120077/
X-MICROSOFT-CDO-BUSYSTATUS:BUSY
X-MICROSOFT-CDO-IMPORTANCE:1
END:VEVENT
BEGIN:VEVENT
UID:gc840@games.golnetwork.com
LOCATION:Lamport Stadium - Field 3
GEO:43.6390028;-79.4232104
CREATED:20180129T200531Z
DTSTART:20180221T000000Z
DTEND:20180221T010000Z
DTSTAMP:20260423T082803Z
SUMMARY:Tigers vs. Sundowns
DESCRIPTION:Sundowns vs. TigersMore info: #514
X-ALT-DESC;FMTTYPE=text/html:<!DOCTYPE HTML PUBLIC "-//W3C//DTD HTML 3.2//E
	N">\n<HTML>\n<HEAD>\n<TITLE></TITLE>\n</HEAD>\n<BODY>\n<h3>Sundowns vs. Tig
	ers</h3>More info: <a href="https://www.golnetwork.com/game/v/120069/">#514
	</a>\n\n</BODY>\n</HTML>
STATUS:CONFIRMED
CLASS:PUBLIC
URL:https://www.golnetwork.com/game/v/120069/
X-MICROSOFT-CDO-BUSYSTATUS:BUSY
X-MICROSOFT-CDO-IMPORTANCE:1
END:VEVENT
BEGIN:VEVENT
UID:gc83l@games.golnetwork.com
LOCATION:Lamport Stadium - Field 2
GEO:43.6390028;-79.4232104
CREATED:20180129T200502Z
DTSTART:20180220T230000Z
DTEND:20180221T000000Z
DTSTAMP:20260423T082803Z
SUMMARY:Tigers vs. Purple Drank
DESCRIPTION:Purple Drank vs. TigersMore info: #511
X-ALT-DESC;FMTTYPE=text/html:<!DOCTYPE HTML PUBLIC "-//W3C//DTD HTML 3.2//E
	N">\n<HTML>\n<HEAD>\n<TITLE></TITLE>\n</HEAD>\n<BODY>\n<h3>Purple Drank vs.
	 Tigers</h3>More info: <a href="https://www.golnetwork.com/game/v/120066/">
	#511</a>\n\n</BODY>\n</HTML>
STATUS:CONFIRMED
CLASS:PUBLIC
URL:https://www.golnetwork.com/game/v/120066/
X-MICROSOFT-CDO-BUSYSTATUS:BUSY
X-MICROSOFT-CDO-IMPORTANCE:1
END:VEVENT
BEGIN:VEVENT
UID:gc83j@games.golnetwork.com
LOCATION:Lamport Stadium - Field 3
GEO:43.6390028;-79.4232104
CREATED:20180129T200447Z
DTSTART:20180214T040000Z
DTEND:20180214T050000Z
DTSTAMP:20260423T082803Z
SUMMARY:Tigers vs. Tuesday Team
DESCRIPTION:Tuesday Team vs. TigersMore info: #470
X-ALT-DESC;FMTTYPE=text/html:<!DOCTYPE HTML PUBLIC "-//W3C//DTD HTML 3.2//E
	N">\n<HTML>\n<HEAD>\n<TITLE></TITLE>\n</HEAD>\n<BODY>\n<h3>Tuesday Team vs.
	 Tigers</h3>More info: <a href="https://www.golnetwork.com/game/v/120065/">
	#470</a>\n\n</BODY>\n</HTML>
STATUS:CONFIRMED
CLASS:PUBLIC
URL:https://www.golnetwork.com/game/v/120065/
X-MICROSOFT-CDO-BUSYSTATUS:BUSY
X-MICROSOFT-CDO-IMPORTANCE:1
END:VEVENT
BEGIN:VEVENT
UID:gc831@games.golnetwork.com
LOCATION:Lamport Stadium - Field 3
GEO:43.6390028;-79.4232104
CREATED:20180129T200213Z
DTSTART:20180207T010000Z
DTEND:20180207T020000Z
DTSTAMP:20260423T082803Z
SUMMARY:Radioactive Smurfs vs. Tigers
DESCRIPTION:Tigers vs. Radioactive SmurfsMore info: #370
X-ALT-DESC;FMTTYPE=text/html:<!DOCTYPE HTML PUBLIC "-//W3C//DTD HTML 3.2//E
	N">\n<HTML>\n<HEAD>\n<TITLE></TITLE>\n</HEAD>\n<BODY>\n<h3>Tigers vs. Radio
	active Smurfs</h3>More info: <a href="https://www.golnetwork.com/game/v/120
	056/">#370</a>\n\n</BODY>\n</HTML>
STATUS:CONFIRMED
CLASS:PUBLIC
URL:https://www.golnetwork.com/game/v/120056/
X-MICROSOFT-CDO-BUSYSTATUS:BUSY
X-MICROSOFT-CDO-IMPORTANCE:1
END:VEVENT
BEGIN:VEVENT
UID:gc82o@games.golnetwork.com
LOCATION:Lamport Stadium - Field 3
GEO:43.6390028;-79.4232104
CREATED:20180129T200146Z
DTSTART:20180207T000000Z
DTEND:20180207T010000Z
DTSTAMP:20260423T082803Z
SUMMARY:Leicester City vs. Tigers
DESCRIPTION:Tigers vs. Leicester CityMore info: #367
X-ALT-DESC;FMTTYPE=text/html:<!DOCTYPE HTML PUBLIC "-//W3C//DTD HTML 3.2//E
	N">\n<HTML>\n<HEAD>\n<TITLE></TITLE>\n</HEAD>\n<BODY>\n<h3>Tigers vs. Leice
	ster City</h3>More info: <a href="https://www.golnetwork.com/game/v/120054/
	">#367</a>\n\n</BODY>\n</HTML>
STATUS:CONFIRMED
CLASS:PUBLIC
URL:https://www.golnetwork.com/game/v/120054/
X-MICROSOFT-CDO-BUSYSTATUS:BUSY
X-MICROSOFT-CDO-IMPORTANCE:1
END:VEVENT
BEGIN:VEVENT
UID:gc7lc@games.golnetwork.com
LOCATION:Lamport Stadium - Field 1
GEO:43.6390028;-79.4232104
CREATED:20180124T142931Z
DTSTART:20180131T030000Z
DTEND:20180131T040000Z
DTSTAMP:20260423T082803Z
SUMMARY:Tigers vs. Tucows
DESCRIPTION:Tucows vs. TigersMore info: #289
X-ALT-DESC;FMTTYPE=text/html:<!DOCTYPE HTML PUBLIC "-//W3C//DTD HTML 3.2//E
	N">\n<HTML>\n<HEAD>\n<TITLE></TITLE>\n</HEAD>\n<BODY>\n<h3>Tucows vs. Tiger
	s</h3>More info: <a href="https://www.golnetwork.com/game/v/119940/">#289</
	a>\n\n</BODY>\n</HTML>
STATUS:CONFIRMED
CLASS:PUBLIC
URL:https://www.golnetwork.com/game/v/119940/
X-MICROSOFT-CDO-BUSYSTATUS:BUSY
X-MICROSOFT-CDO-IMPORTANCE:1
END:VEVENT
END:VCALENDAR
