BEGIN:VCALENDAR
PRODID:-//gdesolutions.com//MV Framework 1.0.0.1607 Calendar//EN
VERSION:2.0
METHOD:PUBLISH
CALSCALE:GREGORIAN
BEGIN:VEVENT
UID:gblme@games.golnetwork.com
LOCATION:Marianopolis #1
GEO:45.4807868;-73.610845
CREATED:20171015T165031Z
DTSTART:20180305T010000Z
DTEND:20180305T020000Z
DTSTAMP:20260421T010635Z
SUMMARY:KAWHI ME A RIVER vs. MADNESS
DESCRIPTION:MADNESS vs. KAWHI ME A RIVERMore info: #441
X-ALT-DESC;FMTTYPE=text/html:<!DOCTYPE HTML PUBLIC "-//W3C//DTD HTML 3.2//E
	N">\n<HTML>\n<HEAD>\n<TITLE></TITLE>\n</HEAD>\n<BODY>\n<h3>MADNESS vs. KAWH
	I ME A RIVER</h3>More info: <a href="https://www.golnetwork.com/game/v/1152
	16/">#441</a>\n\n</BODY>\n</HTML>
STATUS:CONFIRMED
CLASS:PUBLIC
URL:https://www.golnetwork.com/game/v/115216/
X-MICROSOFT-CDO-BUSYSTATUS:BUSY
X-MICROSOFT-CDO-IMPORTANCE:1
END:VEVENT
BEGIN:VEVENT
UID:gbm07@games.golnetwork.com
LOCATION:CVM - Court #1
GEO:45.5146585;-73.5658635
CREATED:20171015T165536Z
DTSTART:20180226T003000Z
DTEND:20180226T013000Z
DTSTAMP:20260421T010635Z
SUMMARY:MADNESS vs. WARRIORS
DESCRIPTION:WARRIORS vs. MADNESSMore info: #405
X-ALT-DESC;FMTTYPE=text/html:<!DOCTYPE HTML PUBLIC "-//W3C//DTD HTML 3.2//E
	N">\n<HTML>\n<HEAD>\n<TITLE></TITLE>\n</HEAD>\n<BODY>\n<h3>WARRIORS vs. MAD
	NESS</h3>More info: <a href="https://www.golnetwork.com/game/v/115280/">#40
	5</a>\n\n</BODY>\n</HTML>
STATUS:CONFIRMED
CLASS:PUBLIC
URL:https://www.golnetwork.com/game/v/115280/
X-MICROSOFT-CDO-BUSYSTATUS:BUSY
X-MICROSOFT-CDO-IMPORTANCE:1
END:VEVENT
BEGIN:VEVENT
UID:gblqc@games.golnetwork.com
LOCATION:CVM - Court #1
GEO:45.5146585;-73.5658635
CREATED:20171015T165031Z
DTSTART:20180220T013000Z
DTEND:20180220T023000Z
DTSTAMP:20260421T010635Z
SUMMARY:MADNESS vs. FAST LANE
DESCRIPTION:FAST LANE vs. MADNESSMore info: #379
X-ALT-DESC;FMTTYPE=text/html:<!DOCTYPE HTML PUBLIC "-//W3C//DTD HTML 3.2//E
	N">\n<HTML>\n<HEAD>\n<TITLE></TITLE>\n</HEAD>\n<BODY>\n<h3>FAST LANE vs. MA
	DNESS</h3>More info: <a href="https://www.golnetwork.com/game/v/115269/">#3
	79</a>\n\n</BODY>\n</HTML>
STATUS:CONFIRMED
CLASS:PUBLIC
URL:https://www.golnetwork.com/game/v/115269/
X-MICROSOFT-CDO-BUSYSTATUS:BUSY
X-MICROSOFT-CDO-IMPORTANCE:1
END:VEVENT
BEGIN:VEVENT
UID:gblpj@games.golnetwork.com
LOCATION:Marianopolis #1
GEO:45.4807868;-73.610845
CREATED:20171015T165031Z
DTSTART:20180211T220000Z
DTEND:20180211T230000Z
DTSTAMP:20260421T010635Z
SUMMARY:MADNESS vs. THE CHEMISTS
DESCRIPTION:THE CHEMISTS vs. MADNESSMore info: #333
X-ALT-DESC;FMTTYPE=text/html:<!DOCTYPE HTML PUBLIC "-//W3C//DTD HTML 3.2//E
	N">\n<HTML>\n<HEAD>\n<TITLE></TITLE>\n</HEAD>\n<BODY>\n<h3>THE CHEMISTS vs.
	 MADNESS</h3>More info: <a href="https://www.golnetwork.com/game/v/115259/"
	>#333</a>\n\n</BODY>\n</HTML>
STATUS:CONFIRMED
CLASS:PUBLIC
URL:https://www.golnetwork.com/game/v/115259/
X-MICROSOFT-CDO-BUSYSTATUS:BUSY
X-MICROSOFT-CDO-IMPORTANCE:1
END:VEVENT
BEGIN:VEVENT
UID:gbloq@games.golnetwork.com
LOCATION:CVM - Court #1
GEO:45.5146585;-73.5658635
CREATED:20171015T165031Z
DTSTART:20180206T023000Z
DTEND:20180206T033000Z
DTSTAMP:20260421T010635Z
SUMMARY:MADNESS vs. SHURIK'N
DESCRIPTION:SHURIK'N vs. MADNESSMore info: #313
X-ALT-DESC;FMTTYPE=text/html:<!DOCTYPE HTML PUBLIC "-//W3C//DTD HTML 3.2//E
	N">\n<HTML>\n<HEAD>\n<TITLE></TITLE>\n</HEAD>\n<BODY>\n<h3>SHURIK'N vs. MAD
	NESS</h3>More info: <a href="https://www.golnetwork.com/game/v/115249/">#31
	3</a>\n\n</BODY>\n</HTML>
STATUS:CONFIRMED
CLASS:PUBLIC
URL:https://www.golnetwork.com/game/v/115249/
X-MICROSOFT-CDO-BUSYSTATUS:BUSY
X-MICROSOFT-CDO-IMPORTANCE:1
END:VEVENT
BEGIN:VEVENT
UID:gblo6@games.golnetwork.com
LOCATION:CVM - Court #1
GEO:45.5146585;-73.5658635
CREATED:20171015T165031Z
DTSTART:20180128T231500Z
DTEND:20180129T001500Z
DTSTAMP:20260421T010635Z
SUMMARY:MADNESS vs. MIDTOWN
DESCRIPTION:MIDTOWN vs. MADNESSMore info: #280
X-ALT-DESC;FMTTYPE=text/html:<!DOCTYPE HTML PUBLIC "-//W3C//DTD HTML 3.2//E
	N">\n<HTML>\n<HEAD>\n<TITLE></TITLE>\n</HEAD>\n<BODY>\n<h3>MIDTOWN vs. MADN
	ESS</h3>More info: <a href="https://www.golnetwork.com/game/v/115239/">#280
	</a>\n\n</BODY>\n</HTML>
STATUS:CONFIRMED
CLASS:PUBLIC
URL:https://www.golnetwork.com/game/v/115239/
X-MICROSOFT-CDO-BUSYSTATUS:BUSY
X-MICROSOFT-CDO-IMPORTANCE:1
END:VEVENT
BEGIN:VEVENT
UID:gblnb@games.golnetwork.com
LOCATION:CVM - Court #1
GEO:45.5146585;-73.5658635
CREATED:20171015T165031Z
DTSTART:20180121T233000Z
DTEND:20180122T003000Z
DTSTAMP:20260421T010635Z
SUMMARY:HOTSAUCE vs. MADNESS
DESCRIPTION:MADNESS vs. HOTSAUCEMore info: #253
X-ALT-DESC;FMTTYPE=text/html:<!DOCTYPE HTML PUBLIC "-//W3C//DTD HTML 3.2//E
	N">\n<HTML>\n<HEAD>\n<TITLE></TITLE>\n</HEAD>\n<BODY>\n<h3>MADNESS vs. HOTS
	AUCE</h3>More info: <a href="https://www.golnetwork.com/game/v/115228/">#25
	3</a>\n\n</BODY>\n</HTML>
STATUS:CONFIRMED
CLASS:PUBLIC
URL:https://www.golnetwork.com/game/v/115228/
X-MICROSOFT-CDO-BUSYSTATUS:BUSY
X-MICROSOFT-CDO-IMPORTANCE:1
END:VEVENT
BEGIN:VEVENT
UID:gbllh@games.golnetwork.com
LOCATION:École Alex Manoogian
GEO:45.5176467;-73.667044
CREATED:20171015T165030Z
DTSTART:20171219T013000Z
DTEND:20171219T023000Z
DTSTAMP:20260421T010635Z
SUMMARY:SYRIANA vs. MADNESS
DESCRIPTION:MADNESS vs. SYRIANAMore info: #239
X-ALT-DESC;FMTTYPE=text/html:<!DOCTYPE HTML PUBLIC "-//W3C//DTD HTML 3.2//E
	N">\n<HTML>\n<HEAD>\n<TITLE></TITLE>\n</HEAD>\n<BODY>\n<h3>MADNESS vs. SYRI
	ANA</h3>More info: <a href="https://www.golnetwork.com/game/v/115204/">#239
	</a>\n\n</BODY>\n</HTML>
STATUS:CONFIRMED
CLASS:PUBLIC
URL:https://www.golnetwork.com/game/v/115204/
X-MICROSOFT-CDO-BUSYSTATUS:BUSY
X-MICROSOFT-CDO-IMPORTANCE:1
END:VEVENT
BEGIN:VEVENT
UID:gblkk@games.golnetwork.com
LOCATION:CVM - Court #1
GEO:45.5146585;-73.5658635
CREATED:20171015T165030Z
DTSTART:20171212T013000Z
DTEND:20171212T023000Z
DTSTAMP:20260421T010635Z
SUMMARY:P SQUAD vs. MADNESS
DESCRIPTION:MADNESS vs. P SQUADMore info: #213
X-ALT-DESC;FMTTYPE=text/html:<!DOCTYPE HTML PUBLIC "-//W3C//DTD HTML 3.2//E
	N">\n<HTML>\n<HEAD>\n<TITLE></TITLE>\n</HEAD>\n<BODY>\n<h3>MADNESS vs. P SQ
	UAD</h3>More info: <a href="https://www.golnetwork.com/game/v/115192/">#213
	</a>\n\n</BODY>\n</HTML>
STATUS:CONFIRMED
CLASS:PUBLIC
URL:https://www.golnetwork.com/game/v/115192/
X-MICROSOFT-CDO-BUSYSTATUS:BUSY
X-MICROSOFT-CDO-IMPORTANCE:1
END:VEVENT
BEGIN:VEVENT
UID:gbljn@games.golnetwork.com
LOCATION:CVM - Court #1
GEO:45.5146585;-73.5658635
CREATED:20171015T165030Z
DTSTART:20171205T013000Z
DTEND:20171205T023000Z
DTSTAMP:20260421T010635Z
SUMMARY:MID 30'S vs. MADNESS
DESCRIPTION:MADNESS vs. MID 30'SMore info: #189
X-ALT-DESC;FMTTYPE=text/html:<!DOCTYPE HTML PUBLIC "-//W3C//DTD HTML 3.2//E
	N">\n<HTML>\n<HEAD>\n<TITLE></TITLE>\n</HEAD>\n<BODY>\n<h3>MADNESS vs. MID 
	30'S</h3>More info: <a href="https://www.golnetwork.com/game/v/115180/">#18
	9</a>\n\n</BODY>\n</HTML>
STATUS:CONFIRMED
CLASS:PUBLIC
URL:https://www.golnetwork.com/game/v/115180/
X-MICROSOFT-CDO-BUSYSTATUS:BUSY
X-MICROSOFT-CDO-IMPORTANCE:1
END:VEVENT
BEGIN:VEVENT
UID:gbliq@games.golnetwork.com
LOCATION:CVM - Court #1
GEO:45.5146585;-73.5658635
CREATED:20171015T165030Z
DTSTART:20171126T231500Z
DTEND:20171127T001500Z
DTSTAMP:20260421T010635Z
SUMMARY:STL vs. MADNESS
DESCRIPTION:MADNESS vs. STLMore info: #151
X-ALT-DESC;FMTTYPE=text/html:<!DOCTYPE HTML PUBLIC "-//W3C//DTD HTML 3.2//E
	N">\n<HTML>\n<HEAD>\n<TITLE></TITLE>\n</HEAD>\n<BODY>\n<h3>MADNESS vs. STL<
	/h3>More info: <a href="https://www.golnetwork.com/game/v/115168/">#151</a>
	\n\n</BODY>\n</HTML>
STATUS:CONFIRMED
CLASS:PUBLIC
URL:https://www.golnetwork.com/game/v/115168/
X-MICROSOFT-CDO-BUSYSTATUS:BUSY
X-MICROSOFT-CDO-IMPORTANCE:1
END:VEVENT
BEGIN:VEVENT
UID:gbli2@games.golnetwork.com
LOCATION:École Alex Manoogian
GEO:45.5176467;-73.667044
CREATED:20171015T165030Z
DTSTART:20171121T013000Z
DTEND:20171121T023000Z
DTSTAMP:20260421T010635Z
SUMMARY:AGBU YEREVAN vs. MADNESS
DESCRIPTION:MADNESS vs. AGBU YEREVANMore info: #130
X-ALT-DESC;FMTTYPE=text/html:<!DOCTYPE HTML PUBLIC "-//W3C//DTD HTML 3.2//E
	N">\n<HTML>\n<HEAD>\n<TITLE></TITLE>\n</HEAD>\n<BODY>\n<h3>MADNESS vs. AGBU
	 YEREVAN</h3>More info: <a href="https://www.golnetwork.com/game/v/115156/"
	>#130</a>\n\n</BODY>\n</HTML>
STATUS:CONFIRMED
CLASS:PUBLIC
URL:https://www.golnetwork.com/game/v/115156/
X-MICROSOFT-CDO-BUSYSTATUS:BUSY
X-MICROSOFT-CDO-IMPORTANCE:1
END:VEVENT
BEGIN:VEVENT
UID:gblh5@games.golnetwork.com
LOCATION:Marianopolis #1
GEO:45.4807868;-73.610845
CREATED:20171015T165030Z
DTSTART:20171113T000000Z
DTEND:20171113T010000Z
DTSTAMP:20260421T010635Z
SUMMARY:DADOLLE vs. MADNESS
DESCRIPTION:MADNESS vs. DADOLLEMore info: #96
X-ALT-DESC;FMTTYPE=text/html:<!DOCTYPE HTML PUBLIC "-//W3C//DTD HTML 3.2//E
	N">\n<HTML>\n<HEAD>\n<TITLE></TITLE>\n</HEAD>\n<BODY>\n<h3>MADNESS vs. DADO
	LLE</h3>More info: <a href="https://www.golnetwork.com/game/v/115144/">#96<
	/a>\n\n</BODY>\n</HTML>
STATUS:CONFIRMED
CLASS:PUBLIC
URL:https://www.golnetwork.com/game/v/115144/
X-MICROSOFT-CDO-BUSYSTATUS:BUSY
X-MICROSOFT-CDO-IMPORTANCE:1
END:VEVENT
BEGIN:VEVENT
UID:gblg8@games.golnetwork.com
LOCATION:CVM - Court #1
GEO:45.5146585;-73.5658635
CREATED:20171015T165030Z
DTSTART:20171105T231500Z
DTEND:20171106T001500Z
DTSTAMP:20260421T010635Z
SUMMARY:SPANK vs. MADNESS
DESCRIPTION:MADNESS vs. SPANKMore info: #60
X-ALT-DESC;FMTTYPE=text/html:<!DOCTYPE HTML PUBLIC "-//W3C//DTD HTML 3.2//E
	N">\n<HTML>\n<HEAD>\n<TITLE></TITLE>\n</HEAD>\n<BODY>\n<h3>MADNESS vs. SPAN
	K</h3>More info: <a href="https://www.golnetwork.com/game/v/115132/">#60</a
	>\n\n</BODY>\n</HTML>
STATUS:CONFIRMED
CLASS:PUBLIC
URL:https://www.golnetwork.com/game/v/115132/
X-MICROSOFT-CDO-BUSYSTATUS:BUSY
X-MICROSOFT-CDO-IMPORTANCE:1
END:VEVENT
BEGIN:VEVENT
UID:gblfb@games.golnetwork.com
LOCATION:CVM - Court #1
GEO:45.5146585;-73.5658635
CREATED:20171015T165030Z
DTSTART:20171029T221500Z
DTEND:20171029T231500Z
DTSTAMP:20260421T010635Z
SUMMARY:MAULIN & BALLIN vs. MADNESS
DESCRIPTION:MADNESS vs. MAULIN & BALLINMore info: #34
X-ALT-DESC;FMTTYPE=text/html:<!DOCTYPE HTML PUBLIC "-//W3C//DTD HTML 3.2//E
	N">\n<HTML>\n<HEAD>\n<TITLE></TITLE>\n</HEAD>\n<BODY>\n<h3>MADNESS vs. MAUL
	IN & BALLIN</h3>More info: <a href="https://www.golnetwork.com/game/v/11512
	0/">#34</a>\n\n</BODY>\n</HTML>
STATUS:CONFIRMED
CLASS:PUBLIC
URL:https://www.golnetwork.com/game/v/115120/
X-MICROSOFT-CDO-BUSYSTATUS:BUSY
X-MICROSOFT-CDO-IMPORTANCE:1
END:VEVENT
BEGIN:VEVENT
UID:gblee@games.golnetwork.com
LOCATION:CVM - Court #1
GEO:45.5146585;-73.5658635
CREATED:20171015T165029Z
DTSTART:20171022T211500Z
DTEND:20171022T221500Z
DTSTAMP:20260421T010635Z
SUMMARY:LRM vs. MADNESS
DESCRIPTION:MADNESS vs. LRMMore info: #2
X-ALT-DESC;FMTTYPE=text/html:<!DOCTYPE HTML PUBLIC "-//W3C//DTD HTML 3.2//E
	N">\n<HTML>\n<HEAD>\n<TITLE></TITLE>\n</HEAD>\n<BODY>\n<h3>MADNESS vs. LRM<
	/h3>More info: <a href="https://www.golnetwork.com/game/v/115108/">#2</a>\n
	\n</BODY>\n</HTML>
STATUS:CONFIRMED
CLASS:PUBLIC
URL:https://www.golnetwork.com/game/v/115108/
X-MICROSOFT-CDO-BUSYSTATUS:BUSY
X-MICROSOFT-CDO-IMPORTANCE:1
END:VEVENT
END:VCALENDAR
