BEGIN:VCALENDAR
PRODID:-//gdesolutions.com//MV Framework 1.0.0.1607 Calendar//EN
VERSION:2.0
METHOD:PUBLISH
CALSCALE:GREGORIAN
BEGIN:VEVENT
UID:gfd4e@games.golnetwork.com
LOCATION:Trafalgar
GEO:45.4987672;-73.5845067
CREATED:20191031T030357Z
DTSTART:20200402T013000Z
DTEND:20200402T023000Z
DTSTAMP:20260420T071420Z
SUMMARY:ROGUE BALLERS vs. SGCC
DESCRIPTION:SGCC vs. ROGUE BALLERSMore info: #80
X-ALT-DESC;FMTTYPE=text/html:<!DOCTYPE HTML PUBLIC "-//W3C//DTD HTML 3.2//E
	N">\n<HTML>\n<HEAD>\n<TITLE></TITLE>\n</HEAD>\n<BODY>\n<h3>SGCC vs. ROGUE B
	ALLERS</h3>More info: <a href="https://www.golnetwork.com/game/v/151423/">#
	80</a>\n\n</BODY>\n</HTML>
STATUS:CONFIRMED
CLASS:PUBLIC
URL:https://www.golnetwork.com/game/v/151423/
X-MICROSOFT-CDO-BUSYSTATUS:BUSY
X-MICROSOFT-CDO-IMPORTANCE:1
END:VEVENT
BEGIN:VEVENT
UID:gfd59@games.golnetwork.com
LOCATION:CVM - Court #1
GEO:45.5146585;-73.5658635
CREATED:20191031T030357Z
DTSTART:20200401T003000Z
DTEND:20200401T013000Z
DTSTAMP:20260420T071420Z
SUMMARY:SGCC vs. MONSIEUR MADAME
DESCRIPTION:MONSIEUR MADAME vs. SGCCMore info: #75
X-ALT-DESC;FMTTYPE=text/html:<!DOCTYPE HTML PUBLIC "-//W3C//DTD HTML 3.2//E
	N">\n<HTML>\n<HEAD>\n<TITLE></TITLE>\n</HEAD>\n<BODY>\n<h3>MONSIEUR MADAME 
	vs. SGCC</h3>More info: <a href="https://www.golnetwork.com/game/v/151434/"
	>#75</a>\n\n</BODY>\n</HTML>
STATUS:CONFIRMED
CLASS:PUBLIC
URL:https://www.golnetwork.com/game/v/151434/
X-MICROSOFT-CDO-BUSYSTATUS:BUSY
X-MICROSOFT-CDO-IMPORTANCE:1
END:VEVENT
BEGIN:VEVENT
UID:gfd4i@games.golnetwork.com
LOCATION:CVM - Court #1
GEO:45.5146585;-73.5658635
CREATED:20191031T030357Z
DTSTART:20200325T013000Z
DTEND:20200325T023000Z
DTSTAMP:20260420T071420Z
SUMMARY:SGCC vs. STRATTON OAKMONT
DESCRIPTION:STRATTON OAKMONT vs. SGCCMore info: #72
X-ALT-DESC;FMTTYPE=text/html:<!DOCTYPE HTML PUBLIC "-//W3C//DTD HTML 3.2//E
	N">\n<HTML>\n<HEAD>\n<TITLE></TITLE>\n</HEAD>\n<BODY>\n<h3>STRATTON OAKMONT
	 vs. SGCC</h3>More info: <a href="https://www.golnetwork.com/game/v/151425/
	">#72</a>\n\n</BODY>\n</HTML>
STATUS:CONFIRMED
CLASS:PUBLIC
URL:https://www.golnetwork.com/game/v/151425/
X-MICROSOFT-CDO-BUSYSTATUS:BUSY
X-MICROSOFT-CDO-IMPORTANCE:1
END:VEVENT
BEGIN:VEVENT
UID:gfd42@games.golnetwork.com
LOCATION:CVM - Court #1
GEO:45.5146585;-73.5658635
CREATED:20191031T030357Z
DTSTART:20200311T013000Z
DTEND:20200311T023000Z
DTSTAMP:20260420T071420Z
SUMMARY:JUST HOOP vs. SGCC
DESCRIPTION:SGCC vs. JUST HOOPMore info: #64
X-ALT-DESC;FMTTYPE=text/html:<!DOCTYPE HTML PUBLIC "-//W3C//DTD HTML 3.2//E
	N">\n<HTML>\n<HEAD>\n<TITLE></TITLE>\n</HEAD>\n<BODY>\n<h3>SGCC vs. JUST HO
	OP</h3>More info: <a href="https://www.golnetwork.com/game/v/151417/">#64</
	a>\n\n</BODY>\n</HTML>
STATUS:CONFIRMED
CLASS:PUBLIC
URL:https://www.golnetwork.com/game/v/151417/
X-MICROSOFT-CDO-BUSYSTATUS:BUSY
X-MICROSOFT-CDO-IMPORTANCE:1
END:VEVENT
BEGIN:VEVENT
UID:gfd3h@games.golnetwork.com
LOCATION:CVM - Court #1
GEO:45.5146585;-73.5658635
CREATED:20191031T030357Z
DTSTART:20200305T003000Z
DTEND:20200305T013000Z
DTSTAMP:20260420T071420Z
SUMMARY:WOLVES vs. SGCC
DESCRIPTION:SGCC vs. WOLVESMore info: #60
X-ALT-DESC;FMTTYPE=text/html:<!DOCTYPE HTML PUBLIC "-//W3C//DTD HTML 3.2//E
	N">\n<HTML>\n<HEAD>\n<TITLE></TITLE>\n</HEAD>\n<BODY>\n<h3>SGCC vs. WOLVES<
	/h3>More info: <a href="https://www.golnetwork.com/game/v/151411/">#60</a>\
	n\n</BODY>\n</HTML>
STATUS:CONFIRMED
CLASS:PUBLIC
URL:https://www.golnetwork.com/game/v/151411/
X-MICROSOFT-CDO-BUSYSTATUS:BUSY
X-MICROSOFT-CDO-IMPORTANCE:1
END:VEVENT
BEGIN:VEVENT
UID:gfd37@games.golnetwork.com
LOCATION:CVM - Court #1
GEO:45.5146585;-73.5658635
CREATED:20191031T030357Z
DTSTART:20200226T003000Z
DTEND:20200226T013000Z
DTSTAMP:20260420T071420Z
SUMMARY:SGCC vs. SUPERTEAM
DESCRIPTION:SUPERTEAM vs. SGCCMore info: #51
X-ALT-DESC;FMTTYPE=text/html:<!DOCTYPE HTML PUBLIC "-//W3C//DTD HTML 3.2//E
	N">\n<HTML>\n<HEAD>\n<TITLE></TITLE>\n</HEAD>\n<BODY>\n<h3>SUPERTEAM vs. SG
	CC</h3>More info: <a href="https://www.golnetwork.com/game/v/151406/">#51</
	a>\n\n</BODY>\n</HTML>
STATUS:CONFIRMED
CLASS:PUBLIC
URL:https://www.golnetwork.com/game/v/151406/
X-MICROSOFT-CDO-BUSYSTATUS:BUSY
X-MICROSOFT-CDO-IMPORTANCE:1
END:VEVENT
BEGIN:VEVENT
UID:gfd2o@games.golnetwork.com
LOCATION:CVM - Court #1
GEO:45.5146585;-73.5658635
CREATED:20191031T030357Z
DTSTART:20200219T013000Z
DTEND:20200219T023000Z
DTSTAMP:20260420T071420Z
SUMMARY:SGCC vs. WAKANDA NEW REGIME
DESCRIPTION:WAKANDA NEW REGIME vs. SGCCMore info: #48
X-ALT-DESC;FMTTYPE=text/html:<!DOCTYPE HTML PUBLIC "-//W3C//DTD HTML 3.2//E
	N">\n<HTML>\n<HEAD>\n<TITLE></TITLE>\n</HEAD>\n<BODY>\n<h3>WAKANDA NEW REGI
	ME vs. SGCC</h3>More info: <a href="https://www.golnetwork.com/game/v/15140
	1/">#48</a>\n\n</BODY>\n</HTML>
STATUS:CONFIRMED
CLASS:PUBLIC
URL:https://www.golnetwork.com/game/v/151401/
X-MICROSOFT-CDO-BUSYSTATUS:BUSY
X-MICROSOFT-CDO-IMPORTANCE:1
END:VEVENT
BEGIN:VEVENT
UID:gfd2e@games.golnetwork.com
LOCATION:CVM - Court #1
GEO:45.5146585;-73.5658635
CREATED:20191031T030357Z
DTSTART:20200212T003000Z
DTEND:20200212T013000Z
DTSTAMP:20260420T071420Z
SUMMARY:MONSIEUR MADAME vs. SGCC
DESCRIPTION:SGCC vs. MONSIEUR MADAMEMore info: #41
X-ALT-DESC;FMTTYPE=text/html:<!DOCTYPE HTML PUBLIC "-//W3C//DTD HTML 3.2//E
	N">\n<HTML>\n<HEAD>\n<TITLE></TITLE>\n</HEAD>\n<BODY>\n<h3>SGCC vs. MONSIEU
	R MADAME</h3>More info: <a href="https://www.golnetwork.com/game/v/151396/"
	>#41</a>\n\n</BODY>\n</HTML>
STATUS:CONFIRMED
CLASS:PUBLIC
URL:https://www.golnetwork.com/game/v/151396/
X-MICROSOFT-CDO-BUSYSTATUS:BUSY
X-MICROSOFT-CDO-IMPORTANCE:1
END:VEVENT
BEGIN:VEVENT
UID:gfd22@games.golnetwork.com
LOCATION:CVM - Court #1
GEO:45.5146585;-73.5658635
CREATED:20191031T030357Z
DTSTART:20200205T023000Z
DTEND:20200205T033000Z
DTSTAMP:20260420T071420Z
SUMMARY:SGCC vs. ROGUE BALLERS
DESCRIPTION:ROGUE BALLERS vs. SGCCMore info: #39
X-ALT-DESC;FMTTYPE=text/html:<!DOCTYPE HTML PUBLIC "-//W3C//DTD HTML 3.2//E
	N">\n<HTML>\n<HEAD>\n<TITLE></TITLE>\n</HEAD>\n<BODY>\n<h3>ROGUE BALLERS vs
	. SGCC</h3>More info: <a href="https://www.golnetwork.com/game/v/151390/">#
	39</a>\n\n</BODY>\n</HTML>
STATUS:CONFIRMED
CLASS:PUBLIC
URL:https://www.golnetwork.com/game/v/151390/
X-MICROSOFT-CDO-BUSYSTATUS:BUSY
X-MICROSOFT-CDO-IMPORTANCE:1
END:VEVENT
BEGIN:VEVENT
UID:gfd1l@games.golnetwork.com
LOCATION:CVM - Court #1
GEO:45.5146585;-73.5658635
CREATED:20191031T030357Z
DTSTART:20200129T003000Z
DTEND:20200129T013000Z
DTSTAMP:20260420T071420Z
SUMMARY:SGCC vs. QUEBEC
DESCRIPTION:QUEBEC vs. SGCCMore info: #32
X-ALT-DESC;FMTTYPE=text/html:<!DOCTYPE HTML PUBLIC "-//W3C//DTD HTML 3.2//E
	N">\n<HTML>\n<HEAD>\n<TITLE></TITLE>\n</HEAD>\n<BODY>\n<h3>QUEBEC vs. SGCC<
	/h3>More info: <a href="https://www.golnetwork.com/game/v/151386/">#32</a>\
	n\n</BODY>\n</HTML>
STATUS:CONFIRMED
CLASS:PUBLIC
URL:https://www.golnetwork.com/game/v/151386/
X-MICROSOFT-CDO-BUSYSTATUS:BUSY
X-MICROSOFT-CDO-IMPORTANCE:1
END:VEVENT
BEGIN:VEVENT
UID:gfd1d@games.golnetwork.com
LOCATION:CVM - Court #1
GEO:45.5146585;-73.5658635
CREATED:20191031T030357Z
DTSTART:20191218T023000Z
DTEND:20191218T033000Z
DTSTAMP:20260420T071420Z
SUMMARY:SGCC vs. WAKANDA NEW REGIME
DESCRIPTION:WAKANDA NEW REGIME vs. SGCCMore info: #29
X-ALT-DESC;FMTTYPE=text/html:<!DOCTYPE HTML PUBLIC "-//W3C//DTD HTML 3.2//E
	N">\n<HTML>\n<HEAD>\n<TITLE></TITLE>\n</HEAD>\n<BODY>\n<h3>WAKANDA NEW REGI
	ME vs. SGCC</h3>More info: <a href="https://www.golnetwork.com/game/v/15138
	2/">#29</a>\n\n</BODY>\n</HTML>
STATUS:CONFIRMED
CLASS:PUBLIC
URL:https://www.golnetwork.com/game/v/151382/
X-MICROSOFT-CDO-BUSYSTATUS:BUSY
X-MICROSOFT-CDO-IMPORTANCE:1
END:VEVENT
BEGIN:VEVENT
UID:gfd15@games.golnetwork.com
LOCATION:CVM - Court #1
GEO:45.5146585;-73.5658635
CREATED:20191031T030357Z
DTSTART:20191211T013000Z
DTEND:20191211T023000Z
DTSTAMP:20260420T071420Z
SUMMARY:SGCC vs. JUST HOOP
DESCRIPTION:JUST HOOP vs. SGCCMore info: #23
X-ALT-DESC;FMTTYPE=text/html:<!DOCTYPE HTML PUBLIC "-//W3C//DTD HTML 3.2//E
	N">\n<HTML>\n<HEAD>\n<TITLE></TITLE>\n</HEAD>\n<BODY>\n<h3>JUST HOOP vs. SG
	CC</h3>More info: <a href="https://www.golnetwork.com/game/v/151378/">#23</
	a>\n\n</BODY>\n</HTML>
STATUS:CONFIRMED
CLASS:PUBLIC
URL:https://www.golnetwork.com/game/v/151378/
X-MICROSOFT-CDO-BUSYSTATUS:BUSY
X-MICROSOFT-CDO-IMPORTANCE:1
END:VEVENT
BEGIN:VEVENT
UID:gfd0o@games.golnetwork.com
LOCATION:Trafalgar
GEO:45.4987672;-73.5845067
CREATED:20191031T030357Z
DTSTART:20191205T003000Z
DTEND:20191205T013000Z
DTSTAMP:20260420T071420Z
SUMMARY:SGCC vs. WOLVES
DESCRIPTION:WOLVES vs. SGCCMore info: #20
X-ALT-DESC;FMTTYPE=text/html:<!DOCTYPE HTML PUBLIC "-//W3C//DTD HTML 3.2//E
	N">\n<HTML>\n<HEAD>\n<TITLE></TITLE>\n</HEAD>\n<BODY>\n<h3>WOLVES vs. SGCC<
	/h3>More info: <a href="https://www.golnetwork.com/game/v/151374/">#20</a>\
	n\n</BODY>\n</HTML>
STATUS:CONFIRMED
CLASS:PUBLIC
URL:https://www.golnetwork.com/game/v/151374/
X-MICROSOFT-CDO-BUSYSTATUS:BUSY
X-MICROSOFT-CDO-IMPORTANCE:1
END:VEVENT
BEGIN:VEVENT
UID:gfd0e@games.golnetwork.com
LOCATION:CVM - Court #1
GEO:45.5146585;-73.5658635
CREATED:20191031T030357Z
DTSTART:20191127T003000Z
DTEND:20191127T013000Z
DTSTAMP:20260420T071420Z
SUMMARY:STRATTON OAKMONT vs. SGCC
DESCRIPTION:SGCC vs. STRATTON OAKMONTMore info: #11
X-ALT-DESC;FMTTYPE=text/html:<!DOCTYPE HTML PUBLIC "-//W3C//DTD HTML 3.2//E
	N">\n<HTML>\n<HEAD>\n<TITLE></TITLE>\n</HEAD>\n<BODY>\n<h3>SGCC vs. STRATTO
	N OAKMONT</h3>More info: <a href="https://www.golnetwork.com/game/v/151369/
	">#11</a>\n\n</BODY>\n</HTML>
STATUS:CONFIRMED
CLASS:PUBLIC
URL:https://www.golnetwork.com/game/v/151369/
X-MICROSOFT-CDO-BUSYSTATUS:BUSY
X-MICROSOFT-CDO-IMPORTANCE:1
END:VEVENT
BEGIN:VEVENT
UID:gfd02@games.golnetwork.com
LOCATION:CVM - Court #1
GEO:45.5146585;-73.5658635
CREATED:20191031T030357Z
DTSTART:20191120T003000Z
DTEND:20191120T013000Z
DTSTAMP:20260420T071420Z
SUMMARY:SUPERTEAM vs. SGCC
DESCRIPTION:SGCC vs. SUPERTEAMMore info: #7
X-ALT-DESC;FMTTYPE=text/html:<!DOCTYPE HTML PUBLIC "-//W3C//DTD HTML 3.2//E
	N">\n<HTML>\n<HEAD>\n<TITLE></TITLE>\n</HEAD>\n<BODY>\n<h3>SGCC vs. SUPERTE
	AM</h3>More info: <a href="https://www.golnetwork.com/game/v/151363/">#7</a
	>\n\n</BODY>\n</HTML>
STATUS:CONFIRMED
CLASS:PUBLIC
URL:https://www.golnetwork.com/game/v/151363/
X-MICROSOFT-CDO-BUSYSTATUS:BUSY
X-MICROSOFT-CDO-IMPORTANCE:1
END:VEVENT
BEGIN:VEVENT
UID:gfcqh@games.golnetwork.com
LOCATION:CVM - Court #1
GEO:45.5146585;-73.5658635
CREATED:20191031T030357Z
DTSTART:20191113T003000Z
DTEND:20191113T013000Z
DTSTAMP:20260420T071420Z
SUMMARY:TRANSAT TEAM vs. SGCC
DESCRIPTION:SGCC vs. TRANSAT TEAMMore info: #1
X-ALT-DESC;FMTTYPE=text/html:<!DOCTYPE HTML PUBLIC "-//W3C//DTD HTML 3.2//E
	N">\n<HTML>\n<HEAD>\n<TITLE></TITLE>\n</HEAD>\n<BODY>\n<h3>SGCC vs. TRANSAT
	 TEAM</h3>More info: <a href="https://www.golnetwork.com/game/v/151357/">#1
	</a>\n\n</BODY>\n</HTML>
STATUS:CONFIRMED
CLASS:PUBLIC
URL:https://www.golnetwork.com/game/v/151357/
X-MICROSOFT-CDO-BUSYSTATUS:BUSY
X-MICROSOFT-CDO-IMPORTANCE:1
END:VEVENT
END:VCALENDAR
