BEGIN:VCALENDAR
PRODID:-//gdesolutions.com//MV Framework 1.0.0.1607 Calendar//EN
VERSION:2.0
METHOD:PUBLISH
CALSCALE:GREGORIAN
BEGIN:VEVENT
UID:gc855@games.golnetwork.com
LOCATION:Lamport Stadium - Field 2
GEO:43.6390028;-79.4232104
CREATED:20180129T200823Z
DTSTART:20180314T030000Z
DTEND:20180314T040000Z
DTSTAMP:20260422T194431Z
SUMMARY:Tigers vs. Net 6ix and Chill
DESCRIPTION:Net 6ix and Chill vs. TigersMore info: #726
X-ALT-DESC;FMTTYPE=text/html:<!DOCTYPE HTML PUBLIC "-//W3C//DTD HTML 3.2//E
	N">\n<HTML>\n<HEAD>\n<TITLE></TITLE>\n</HEAD>\n<BODY>\n<h3>Net 6ix and Chil
	l vs. Tigers</h3>More info: <a href="https://www.golnetwork.com/game/v/1200
	85/">#726</a>\n\n</BODY>\n</HTML>
STATUS:CONFIRMED
CLASS:PUBLIC
URL:https://www.golnetwork.com/game/v/120085/
X-MICROSOFT-CDO-BUSYSTATUS:BUSY
X-MICROSOFT-CDO-IMPORTANCE:1
END:VEVENT
BEGIN:VEVENT
UID:gc84o@games.golnetwork.com
LOCATION:Lamport Stadium - Field 2
GEO:43.6390028;-79.4232104
CREATED:20180129T200756Z
DTSTART:20180307T000000Z
DTEND:20180307T010000Z
DTSTAMP:20260422T194431Z
SUMMARY:Net 6ix and Chill vs. The Apes
DESCRIPTION:The Apes vs. Net 6ix and ChillMore info: #661
X-ALT-DESC;FMTTYPE=text/html:<!DOCTYPE HTML PUBLIC "-//W3C//DTD HTML 3.2//E
	N">\n<HTML>\n<HEAD>\n<TITLE></TITLE>\n</HEAD>\n<BODY>\n<h3>The Apes vs. Net
	 6ix and Chill</h3>More info: <a href="https://www.golnetwork.com/game/v/12
	0081/">#661</a>\n\n</BODY>\n</HTML>
STATUS:CONFIRMED
CLASS:PUBLIC
URL:https://www.golnetwork.com/game/v/120081/
X-MICROSOFT-CDO-BUSYSTATUS:BUSY
X-MICROSOFT-CDO-IMPORTANCE:1
END:VEVENT
BEGIN:VEVENT
UID:gc84c@games.golnetwork.com
LOCATION:Lamport Stadium - Field 1
GEO:43.6390028;-79.4232104
CREATED:20180129T200643Z
DTSTART:20180228T010000Z
DTEND:20180228T020000Z
DTSTAMP:20260422T194431Z
SUMMARY:Goldfish Crackers FC vs. Net 6ix and Chill
DESCRIPTION:Net 6ix and Chill vs. Goldfish Crackers FCMore info: #598
X-ALT-DESC;FMTTYPE=text/html:<!DOCTYPE HTML PUBLIC "-//W3C//DTD HTML 3.2//E
	N">\n<HTML>\n<HEAD>\n<TITLE></TITLE>\n</HEAD>\n<BODY>\n<h3>Net 6ix and Chil
	l vs. Goldfish Crackers FC</h3>More info: <a href="https://www.golnetwork.c
	om/game/v/120075/">#598</a>\n\n</BODY>\n</HTML>
STATUS:CONFIRMED
CLASS:PUBLIC
URL:https://www.golnetwork.com/game/v/120075/
X-MICROSOFT-CDO-BUSYSTATUS:BUSY
X-MICROSOFT-CDO-IMPORTANCE:1
END:VEVENT
BEGIN:VEVENT
UID:gc84a@games.golnetwork.com
LOCATION:Lamport Stadium - Field 1
GEO:43.6390028;-79.4232104
CREATED:20180129T200633Z
DTSTART:20180228T000000Z
DTEND:20180228T010000Z
DTSTAMP:20260422T194431Z
SUMMARY:Radioactive Smurfs vs. Net 6ix and Chill
DESCRIPTION:Net 6ix and Chill vs. Radioactive SmurfsMore info: #594
X-ALT-DESC;FMTTYPE=text/html:<!DOCTYPE HTML PUBLIC "-//W3C//DTD HTML 3.2//E
	N">\n<HTML>\n<HEAD>\n<TITLE></TITLE>\n</HEAD>\n<BODY>\n<h3>Net 6ix and Chil
	l vs. Radioactive Smurfs</h3>More info: <a href="https://www.golnetwork.com
	/game/v/120074/">#594</a>\n\n</BODY>\n</HTML>
STATUS:CONFIRMED
CLASS:PUBLIC
URL:https://www.golnetwork.com/game/v/120074/
X-MICROSOFT-CDO-BUSYSTATUS:BUSY
X-MICROSOFT-CDO-IMPORTANCE:1
END:VEVENT
BEGIN:VEVENT
UID:gc83n@games.golnetwork.com
LOCATION:Lamport Stadium - Field 3
GEO:43.6390028;-79.4232104
CREATED:20180129T200513Z
DTSTART:20180220T230000Z
DTEND:20180221T000000Z
DTSTAMP:20260422T194431Z
SUMMARY:Net 6ix and Chill vs. Sundowns
DESCRIPTION:Sundowns vs. Net 6ix and ChillMore info: #512
X-ALT-DESC;FMTTYPE=text/html:<!DOCTYPE HTML PUBLIC "-//W3C//DTD HTML 3.2//E
	N">\n<HTML>\n<HEAD>\n<TITLE></TITLE>\n</HEAD>\n<BODY>\n<h3>Sundowns vs. Net
	 6ix and Chill</h3>More info: <a href="https://www.golnetwork.com/game/v/12
	0067/">#512</a>\n\n</BODY>\n</HTML>
STATUS:CONFIRMED
CLASS:PUBLIC
URL:https://www.golnetwork.com/game/v/120067/
X-MICROSOFT-CDO-BUSYSTATUS:BUSY
X-MICROSOFT-CDO-IMPORTANCE:1
END:VEVENT
BEGIN:VEVENT
UID:gc83d@games.golnetwork.com
LOCATION:Lamport Stadium - Field 3
GEO:43.6390028;-79.4232104
CREATED:20180129T200417Z
DTSTART:20180214T030000Z
DTEND:20180214T040000Z
DTSTAMP:20260422T194431Z
SUMMARY:The Apes vs. Net 6ix and Chill
DESCRIPTION:Net 6ix and Chill vs. The ApesMore info: #463
X-ALT-DESC;FMTTYPE=text/html:<!DOCTYPE HTML PUBLIC "-//W3C//DTD HTML 3.2//E
	N">\n<HTML>\n<HEAD>\n<TITLE></TITLE>\n</HEAD>\n<BODY>\n<h3>Net 6ix and Chil
	l vs. The Apes</h3>More info: <a href="https://www.golnetwork.com/game/v/12
	0062/">#463</a>\n\n</BODY>\n</HTML>
STATUS:CONFIRMED
CLASS:PUBLIC
URL:https://www.golnetwork.com/game/v/120062/
X-MICROSOFT-CDO-BUSYSTATUS:BUSY
X-MICROSOFT-CDO-IMPORTANCE:1
END:VEVENT
BEGIN:VEVENT
UID:gc833@games.golnetwork.com
LOCATION:Lamport Stadium - Field 2
GEO:43.6390028;-79.4232104
CREATED:20180129T200226Z
DTSTART:20180207T020000Z
DTEND:20180207T030000Z
DTSTAMP:20260422T194431Z
SUMMARY:Purple Drank vs. Net 6ix and Chill
DESCRIPTION:Net 6ix and Chill vs. Purple DrankMore info: #373
X-ALT-DESC;FMTTYPE=text/html:<!DOCTYPE HTML PUBLIC "-//W3C//DTD HTML 3.2//E
	N">\n<HTML>\n<HEAD>\n<TITLE></TITLE>\n</HEAD>\n<BODY>\n<h3>Net 6ix and Chil
	l vs. Purple Drank</h3>More info: <a href="https://www.golnetwork.com/game/
	v/120057/">#373</a>\n\n</BODY>\n</HTML>
STATUS:CONFIRMED
CLASS:PUBLIC
URL:https://www.golnetwork.com/game/v/120057/
X-MICROSOFT-CDO-BUSYSTATUS:BUSY
X-MICROSOFT-CDO-IMPORTANCE:1
END:VEVENT
BEGIN:VEVENT
UID:gc82q@games.golnetwork.com
LOCATION:Lamport Stadium - Field 2
GEO:43.6390028;-79.4232104
CREATED:20180129T200201Z
DTSTART:20180207T010000Z
DTEND:20180207T020000Z
DTSTAMP:20260422T194431Z
SUMMARY:Leicester City vs. Net 6ix and Chill
DESCRIPTION:Net 6ix and Chill vs. Leicester CityMore info: #369
X-ALT-DESC;FMTTYPE=text/html:<!DOCTYPE HTML PUBLIC "-//W3C//DTD HTML 3.2//E
	N">\n<HTML>\n<HEAD>\n<TITLE></TITLE>\n</HEAD>\n<BODY>\n<h3>Net 6ix and Chil
	l vs. Leicester City</h3>More info: <a href="https://www.golnetwork.com/gam
	e/v/120055/">#369</a>\n\n</BODY>\n</HTML>
STATUS:CONFIRMED
CLASS:PUBLIC
URL:https://www.golnetwork.com/game/v/120055/
X-MICROSOFT-CDO-BUSYSTATUS:BUSY
X-MICROSOFT-CDO-IMPORTANCE:1
END:VEVENT
BEGIN:VEVENT
UID:gc7le@games.golnetwork.com
LOCATION:Lamport Stadium - Field 1
GEO:43.6390028;-79.4232104
CREATED:20180124T143101Z
DTSTART:20180131T040000Z
DTEND:20180131T050000Z
DTSTAMP:20260422T194431Z
SUMMARY:Net 6ix and Chill vs. Agave FC
DESCRIPTION:Agave FC vs. Net 6ix and ChillMore info: #296
X-ALT-DESC;FMTTYPE=text/html:<!DOCTYPE HTML PUBLIC "-//W3C//DTD HTML 3.2//E
	N">\n<HTML>\n<HEAD>\n<TITLE></TITLE>\n</HEAD>\n<BODY>\n<h3>Agave FC vs. Net
	 6ix and Chill</h3>More info: <a href="https://www.golnetwork.com/game/v/11
	9941/">#296</a>\n\n</BODY>\n</HTML>
STATUS:CONFIRMED
CLASS:PUBLIC
URL:https://www.golnetwork.com/game/v/119941/
X-MICROSOFT-CDO-BUSYSTATUS:BUSY
X-MICROSOFT-CDO-IMPORTANCE:1
END:VEVENT
END:VCALENDAR
