BEGIN:VCALENDAR
PRODID:-//gdesolutions.com//MV Framework 1.0.0.1607 Calendar//EN
VERSION:2.0
METHOD:PUBLISH
CALSCALE:GREGORIAN
BEGIN:VEVENT
UID:gcb69@games.golnetwork.com
LOCATION:Central Tech - Field 3
CREATED:20180308T222442Z
DTSTART:20180516T010000Z
DTEND:20180516T020000Z
DTSTAMP:20260419T222412Z
SUMMARY:TFO FC vs. Gucci Dreamz
DESCRIPTION:Gucci Dreamz vs. TFO FCMore info: #440
X-ALT-DESC;FMTTYPE=text/html:<!DOCTYPE HTML PUBLIC "-//W3C//DTD HTML 3.2//E
	N">\n<HTML>\n<HEAD>\n<TITLE></TITLE>\n</HEAD>\n<BODY>\n<h3>Gucci Dreamz vs.
	 TFO FC</h3>More info: <a href="https://www.golnetwork.com/game/v/121194/">
	#440</a>\n\n</BODY>\n</HTML>
STATUS:CONFIRMED
CLASS:PUBLIC
URL:https://www.golnetwork.com/game/v/121194/
X-MICROSOFT-CDO-BUSYSTATUS:BUSY
X-MICROSOFT-CDO-IMPORTANCE:1
END:VEVENT
BEGIN:VEVENT
UID:gcb65@games.golnetwork.com
LOCATION:Central Tech - Field 2
GEO:43.6637272;-79.4087613
CREATED:20180308T222442Z
DTSTART:20180509T000000Z
DTEND:20180509T010000Z
DTSTAMP:20260419T222412Z
SUMMARY:The GWLGs vs. Gucci Dreamz
DESCRIPTION:Gucci Dreamz vs. The GWLGsMore info: #412
X-ALT-DESC;FMTTYPE=text/html:<!DOCTYPE HTML PUBLIC "-//W3C//DTD HTML 3.2//E
	N">\n<HTML>\n<HEAD>\n<TITLE></TITLE>\n</HEAD>\n<BODY>\n<h3>Gucci Dreamz vs.
	 The GWLGs</h3>More info: <a href="https://www.golnetwork.com/game/v/121192
	/">#412</a>\n\n</BODY>\n</HTML>
STATUS:CONFIRMED
CLASS:PUBLIC
URL:https://www.golnetwork.com/game/v/121192/
X-MICROSOFT-CDO-BUSYSTATUS:BUSY
X-MICROSOFT-CDO-IMPORTANCE:1
END:VEVENT
END:VCALENDAR
