BEGIN:VCALENDAR
PRODID:-//gdesolutions.com//MV Framework 1.0.0.1607 Calendar//EN
VERSION:2.0
METHOD:PUBLISH
CALSCALE:GREGORIAN
BEGIN:VEVENT
UID:gf1k8@games.golnetwork.com
LOCATION:Canoe Landing - Field 1
GEO:43.6396144;-79.3970577
CREATED:20190711T145712Z
DTSTART:20190829T003000Z
DTEND:20190829T013000Z
DTSTAMP:20260423T012745Z
SUMMARY:XTSC City Strikers vs. RSA FC
DESCRIPTION:RSA FC vs. XTSC City StrikersMore info: #425
X-ALT-DESC;FMTTYPE=text/html:<!DOCTYPE HTML PUBLIC "-//W3C//DTD HTML 3.2//E
	N">\n<HTML>\n<HEAD>\n<TITLE></TITLE>\n</HEAD>\n<BODY>\n<h3>RSA FC vs. XTSC 
	City Strikers</h3>More info: <a href="https://www.golnetwork.com/game/v/147
	262/">#425</a>\n\n</BODY>\n</HTML>
STATUS:CONFIRMED
CLASS:PUBLIC
URL:https://www.golnetwork.com/game/v/147262/
X-MICROSOFT-CDO-BUSYSTATUS:BUSY
X-MICROSOFT-CDO-IMPORTANCE:1
END:VEVENT
BEGIN:VEVENT
UID:gf1jp@games.golnetwork.com
LOCATION:Canoe Landing  - Field 3
CREATED:20190711T145631Z
DTSTART:20190821T223000Z
DTEND:20190821T233000Z
DTSTAMP:20260423T012745Z
SUMMARY:vodaQUAD vs. RSA FC
DESCRIPTION:RSA FC vs. vodaQUADMore info: #374
X-ALT-DESC;FMTTYPE=text/html:<!DOCTYPE HTML PUBLIC "-//W3C//DTD HTML 3.2//E
	N">\n<HTML>\n<HEAD>\n<TITLE></TITLE>\n</HEAD>\n<BODY>\n<h3>RSA FC vs. vodaQ
	UAD</h3>More info: <a href="https://www.golnetwork.com/game/v/147257/">#374
	</a>\n\n</BODY>\n</HTML>
STATUS:CONFIRMED
CLASS:PUBLIC
URL:https://www.golnetwork.com/game/v/147257/
X-MICROSOFT-CDO-BUSYSTATUS:BUSY
X-MICROSOFT-CDO-IMPORTANCE:1
END:VEVENT
BEGIN:VEVENT
UID:gf1jl@games.golnetwork.com
LOCATION:Canoe Landing - Field 1
GEO:43.6396144;-79.3970577
CREATED:20190711T145613Z
DTSTART:20190814T233000Z
DTEND:20190815T003000Z
DTSTAMP:20260423T012745Z
SUMMARY:RSA FC vs. T.W.GOAAALL
DESCRIPTION:T.W.GOAAALL vs. RSA FCMore info: #329
X-ALT-DESC;FMTTYPE=text/html:<!DOCTYPE HTML PUBLIC "-//W3C//DTD HTML 3.2//E
	N">\n<HTML>\n<HEAD>\n<TITLE></TITLE>\n</HEAD>\n<BODY>\n<h3>T.W.GOAAALL vs. 
	RSA FC</h3>More info: <a href="https://www.golnetwork.com/game/v/147255/">#
	329</a>\n\n</BODY>\n</HTML>
STATUS:CONFIRMED
CLASS:PUBLIC
URL:https://www.golnetwork.com/game/v/147255/
X-MICROSOFT-CDO-BUSYSTATUS:BUSY
X-MICROSOFT-CDO-IMPORTANCE:1
END:VEVENT
BEGIN:VEVENT
UID:gf1jf@games.golnetwork.com
LOCATION:Canoe Landing  - Field 3
CREATED:20190711T145549Z
DTSTART:20190807T233000Z
DTEND:20190808T003000Z
DTSTAMP:20260423T012745Z
SUMMARY:RSA FC vs. Brown Bag FC
DESCRIPTION:Brown Bag FC vs. RSA FCMore info: #277
X-ALT-DESC;FMTTYPE=text/html:<!DOCTYPE HTML PUBLIC "-//W3C//DTD HTML 3.2//E
	N">\n<HTML>\n<HEAD>\n<TITLE></TITLE>\n</HEAD>\n<BODY>\n<h3>Brown Bag FC vs.
	 RSA FC</h3>More info: <a href="https://www.golnetwork.com/game/v/147252/">
	#277</a>\n\n</BODY>\n</HTML>
STATUS:CONFIRMED
CLASS:PUBLIC
URL:https://www.golnetwork.com/game/v/147252/
X-MICROSOFT-CDO-BUSYSTATUS:BUSY
X-MICROSOFT-CDO-IMPORTANCE:1
END:VEVENT
BEGIN:VEVENT
UID:gf1jb@games.golnetwork.com
LOCATION:Canoe Landing  - Field 3
CREATED:20190711T145531Z
DTSTART:20190801T003000Z
DTEND:20190801T013000Z
DTSTAMP:20260423T012745Z
SUMMARY:RSA FC vs. XTSC Landers
DESCRIPTION:XTSC Landers vs. RSA FCMore info: #229
X-ALT-DESC;FMTTYPE=text/html:<!DOCTYPE HTML PUBLIC "-//W3C//DTD HTML 3.2//E
	N">\n<HTML>\n<HEAD>\n<TITLE></TITLE>\n</HEAD>\n<BODY>\n<h3>XTSC Landers vs.
	 RSA FC</h3>More info: <a href="https://www.golnetwork.com/game/v/147250/">
	#229</a>\n\n</BODY>\n</HTML>
STATUS:CONFIRMED
CLASS:PUBLIC
URL:https://www.golnetwork.com/game/v/147250/
X-MICROSOFT-CDO-BUSYSTATUS:BUSY
X-MICROSOFT-CDO-IMPORTANCE:1
END:VEVENT
BEGIN:VEVENT
UID:gf1j3@games.golnetwork.com
LOCATION:Canoe Landing  - Field 3
CREATED:20190711T145502Z
DTSTART:20190724T233000Z
DTEND:20190725T003000Z
DTSTAMP:20260423T012745Z
SUMMARY:XTSC City Strikers vs. RSA FC
DESCRIPTION:RSA FC vs. XTSC City StrikersMore info: #163
X-ALT-DESC;FMTTYPE=text/html:<!DOCTYPE HTML PUBLIC "-//W3C//DTD HTML 3.2//E
	N">\n<HTML>\n<HEAD>\n<TITLE></TITLE>\n</HEAD>\n<BODY>\n<h3>RSA FC vs. XTSC 
	City Strikers</h3>More info: <a href="https://www.golnetwork.com/game/v/147
	246/">#163</a>\n\n</BODY>\n</HTML>
STATUS:CONFIRMED
CLASS:PUBLIC
URL:https://www.golnetwork.com/game/v/147246/
X-MICROSOFT-CDO-BUSYSTATUS:BUSY
X-MICROSOFT-CDO-IMPORTANCE:1
END:VEVENT
BEGIN:VEVENT
UID:gf1im@games.golnetwork.com
LOCATION:Canoe Landing  - Field 3
CREATED:20190711T145418Z
DTSTART:20190717T223000Z
DTEND:20190717T233000Z
DTSTAMP:20260423T012745Z
SUMMARY:vodaQUAD vs. RSA FC
DESCRIPTION:RSA FC vs. vodaQUADMore info: #102
X-ALT-DESC;FMTTYPE=text/html:<!DOCTYPE HTML PUBLIC "-//W3C//DTD HTML 3.2//E
	N">\n<HTML>\n<HEAD>\n<TITLE></TITLE>\n</HEAD>\n<BODY>\n<h3>RSA FC vs. vodaQ
	UAD</h3>More info: <a href="https://www.golnetwork.com/game/v/147242/">#102
	</a>\n\n</BODY>\n</HTML>
STATUS:CONFIRMED
CLASS:PUBLIC
URL:https://www.golnetwork.com/game/v/147242/
X-MICROSOFT-CDO-BUSYSTATUS:BUSY
X-MICROSOFT-CDO-IMPORTANCE:1
END:VEVENT
END:VCALENDAR
