BEGIN:VCALENDAR
PRODID:-//gdesolutions.com//MV Framework 1.0.0.1607 Calendar//EN
VERSION:2.0
METHOD:PUBLISH
CALSCALE:GREGORIAN
BEGIN:VEVENT
UID:gcp5a@games.golnetwork.com
LOCATION:Lamport Stadium - Field 2
GEO:43.6390028;-79.4232104
CREATED:20180711T154146Z
DTSTART:20180820T003000Z
DTEND:20180820T013000Z
DTSTAMP:20260420T023622Z
SUMMARY:Toros vs. XTSC Fury
DESCRIPTION:XTSC Fury vs. TorosMore info: #27
X-ALT-DESC;FMTTYPE=text/html:<!DOCTYPE HTML PUBLIC "-//W3C//DTD HTML 3.2//E
	N">\n<HTML>\n<HEAD>\n<TITLE></TITLE>\n</HEAD>\n<BODY>\n<h3>XTSC Fury vs. To
	ros</h3>More info: <a href="https://www.golnetwork.com/game/v/126284/">#27<
	/a>\n\n</BODY>\n</HTML>
STATUS:CONFIRMED
CLASS:PUBLIC
URL:https://www.golnetwork.com/game/v/126284/
X-MICROSOFT-CDO-BUSYSTATUS:BUSY
X-MICROSOFT-CDO-IMPORTANCE:1
END:VEVENT
BEGIN:VEVENT
UID:gcp58@games.golnetwork.com
LOCATION:Lamport Stadium - Field 2
GEO:43.6390028;-79.4232104
CREATED:20180711T154139Z
DTSTART:20180819T232000Z
DTEND:20180820T002000Z
DTSTAMP:20260420T023622Z
SUMMARY:Turfettes vs. XTSC Fury
DESCRIPTION:XTSC Fury vs. TurfettesMore info: #26
X-ALT-DESC;FMTTYPE=text/html:<!DOCTYPE HTML PUBLIC "-//W3C//DTD HTML 3.2//E
	N">\n<HTML>\n<HEAD>\n<TITLE></TITLE>\n</HEAD>\n<BODY>\n<h3>XTSC Fury vs. Tu
	rfettes</h3>More info: <a href="https://www.golnetwork.com/game/v/126283/">
	#26</a>\n\n</BODY>\n</HTML>
STATUS:CONFIRMED
CLASS:PUBLIC
URL:https://www.golnetwork.com/game/v/126283/
X-MICROSOFT-CDO-BUSYSTATUS:BUSY
X-MICROSOFT-CDO-IMPORTANCE:1
END:VEVENT
BEGIN:VEVENT
UID:gcp50@games.golnetwork.com
LOCATION:Lamport Stadium - Field 2
GEO:43.6390028;-79.4232104
CREATED:20180711T154106Z
DTSTART:20180812T221000Z
DTEND:20180812T231000Z
DTSTAMP:20260420T023622Z
SUMMARY:XTSC Bombshells vs. XTSC Fury
DESCRIPTION:XTSC Fury vs. XTSC BombshellsMore info: #20
X-ALT-DESC;FMTTYPE=text/html:<!DOCTYPE HTML PUBLIC "-//W3C//DTD HTML 3.2//E
	N">\n<HTML>\n<HEAD>\n<TITLE></TITLE>\n</HEAD>\n<BODY>\n<h3>XTSC Fury vs. XT
	SC Bombshells</h3>More info: <a href="https://www.golnetwork.com/game/v/126
	279/">#20</a>\n\n</BODY>\n</HTML>
STATUS:CONFIRMED
CLASS:PUBLIC
URL:https://www.golnetwork.com/game/v/126279/
X-MICROSOFT-CDO-BUSYSTATUS:BUSY
X-MICROSOFT-CDO-IMPORTANCE:1
END:VEVENT
BEGIN:VEVENT
UID:gcp4p@games.golnetwork.com
LOCATION:Lamport Stadium - Field 2
GEO:43.6390028;-79.4232104
CREATED:20180711T154052Z
DTSTART:20180722T210000Z
DTEND:20180722T220000Z
DTSTAMP:20260420T023622Z
SUMMARY:XTSC Fury vs. Toros
DESCRIPTION:Toros vs. XTSC FuryMore info: #13
X-ALT-DESC;FMTTYPE=text/html:<!DOCTYPE HTML PUBLIC "-//W3C//DTD HTML 3.2//E
	N">\n<HTML>\n<HEAD>\n<TITLE></TITLE>\n</HEAD>\n<BODY>\n<h3>Toros vs. XTSC F
	ury</h3>More info: <a href="https://www.golnetwork.com/game/v/126278/">#13<
	/a>\n\n</BODY>\n</HTML>
STATUS:CONFIRMED
CLASS:PUBLIC
URL:https://www.golnetwork.com/game/v/126278/
X-MICROSOFT-CDO-BUSYSTATUS:BUSY
X-MICROSOFT-CDO-IMPORTANCE:1
END:VEVENT
BEGIN:VEVENT
UID:gcp4l@games.golnetwork.com
LOCATION:Lamport Stadium - Field 2
GEO:43.6390028;-79.4232104
CREATED:20180711T154033Z
DTSTART:20180715T230000Z
DTEND:20180716T000000Z
DTSTAMP:20260420T023622Z
SUMMARY:Turfettes vs. XTSC Fury
DESCRIPTION:XTSC Fury vs. TurfettesMore info: #9
X-ALT-DESC;FMTTYPE=text/html:<!DOCTYPE HTML PUBLIC "-//W3C//DTD HTML 3.2//E
	N">\n<HTML>\n<HEAD>\n<TITLE></TITLE>\n</HEAD>\n<BODY>\n<h3>XTSC Fury vs. Tu
	rfettes</h3>More info: <a href="https://www.golnetwork.com/game/v/126276/">
	#9</a>\n\n</BODY>\n</HTML>
STATUS:CONFIRMED
CLASS:PUBLIC
URL:https://www.golnetwork.com/game/v/126276/
X-MICROSOFT-CDO-BUSYSTATUS:BUSY
X-MICROSOFT-CDO-IMPORTANCE:1
END:VEVENT
BEGIN:VEVENT
UID:gco4o@games.golnetwork.com
LOCATION:Lamport Stadium - Field 2
GEO:43.6390028;-79.4232104
CREATED:20180703T205041Z
DTSTART:20180709T000000Z
DTEND:20180709T010000Z
DTSTAMP:20260420T023622Z
SUMMARY:XTSC Fury vs. XTSC Bombshells
DESCRIPTION:XTSC Bombshells vs. XTSC FuryMore info: #3
X-ALT-DESC;FMTTYPE=text/html:<!DOCTYPE HTML PUBLIC "-//W3C//DTD HTML 3.2//E
	N">\n<HTML>\n<HEAD>\n<TITLE></TITLE>\n</HEAD>\n<BODY>\n<h3>XTSC Bombshells 
	vs. XTSC Fury</h3>More info: <a href="https://www.golnetwork.com/game/v/125
	913/">#3</a>\n\n</BODY>\n</HTML>
STATUS:CONFIRMED
CLASS:PUBLIC
URL:https://www.golnetwork.com/game/v/125913/
X-MICROSOFT-CDO-BUSYSTATUS:BUSY
X-MICROSOFT-CDO-IMPORTANCE:1
END:VEVENT
END:VCALENDAR
