BEGIN:VCALENDAR
PRODID:-//gdesolutions.com//MV Framework 1.0.0.1607 Calendar//EN
VERSION:2.0
METHOD:PUBLISH
CALSCALE:GREGORIAN
BEGIN:VEVENT
UID:gdkd8@games.golnetwork.com
LOCATION:CVM - Court #1
GEO:45.5146585;-73.5658635
CREATED:20181022T141414Z
DTSTART:20190409T233000Z
DTEND:20190410T003000Z
DTSTAMP:20260421T175422Z
SUMMARY:TRANSAT TEAM vs. MONSIEUR MADAME
DESCRIPTION:MONSIEUR MADAME vs. TRANSAT TEAMMore info: #78
X-ALT-DESC;FMTTYPE=text/html:<!DOCTYPE HTML PUBLIC "-//W3C//DTD HTML 3.2//E
	N">\n<HTML>\n<HEAD>\n<TITLE></TITLE>\n</HEAD>\n<BODY>\n<h3>MONSIEUR MADAME 
	vs. TRANSAT TEAM</h3>More info: <a href="https://www.golnetwork.com/game/v/
	134410/">#78</a>\n\n</BODY>\n</HTML>
STATUS:CONFIRMED
CLASS:PUBLIC
URL:https://www.golnetwork.com/game/v/134410/
X-MICROSOFT-CDO-BUSYSTATUS:BUSY
X-MICROSOFT-CDO-IMPORTANCE:1
END:VEVENT
BEGIN:VEVENT
UID:gdkdi@games.golnetwork.com
LOCATION:CVM - Court #1
GEO:45.5146585;-73.5658635
CREATED:20181022T141604Z
DTSTART:20190403T233000Z
DTEND:20190404T003000Z
DTSTAMP:20260421T175422Z
SUMMARY:TRANSAT TEAM vs. NATIONAL BANK
DESCRIPTION:NATIONAL BANK vs. TRANSAT TEAMMore info: #77
X-ALT-DESC;FMTTYPE=text/html:<!DOCTYPE HTML PUBLIC "-//W3C//DTD HTML 3.2//E
	N">\n<HTML>\n<HEAD>\n<TITLE></TITLE>\n</HEAD>\n<BODY>\n<h3>NATIONAL BANK vs
	. TRANSAT TEAM</h3>More info: <a href="https://www.golnetwork.com/game/v/13
	4415/">#77</a>\n\n</BODY>\n</HTML>
STATUS:CONFIRMED
CLASS:PUBLIC
URL:https://www.golnetwork.com/game/v/134415/
X-MICROSOFT-CDO-BUSYSTATUS:BUSY
X-MICROSOFT-CDO-IMPORTANCE:1
END:VEVENT
END:VCALENDAR
