BEGIN:VCALENDAR
PRODID:-//gdesolutions.com//MV Framework 1.0.0.1607 Calendar//EN
VERSION:2.0
METHOD:PUBLISH
CALSCALE:GREGORIAN
BEGIN:VEVENT
UID:gecj1@games.golnetwork.com
LOCATION:St Patrick - Field 4
CREATED:20190319T211157Z
DTSTART:20190514T020000Z
DTEND:20190514T030000Z
DTSTAMP:20260421T001713Z
SUMMARY:XTSC Monday Madness vs. Relax Max
DESCRIPTION:Relax Max vs. XTSC Monday MadnessMore info: #508
X-ALT-DESC;FMTTYPE=text/html:<!DOCTYPE HTML PUBLIC "-//W3C//DTD HTML 3.2//E
	N">\n<HTML>\n<HEAD>\n<TITLE></TITLE>\n</HEAD>\n<BODY>\n<h3>Relax Max vs. XT
	SC Monday Madness</h3>More info: <a href="https://www.golnetwork.com/game/v
	/141413/">#508</a>\n\n</BODY>\n</HTML>
STATUS:CONFIRMED
CLASS:PUBLIC
URL:https://www.golnetwork.com/game/v/141413/
X-MICROSOFT-CDO-BUSYSTATUS:BUSY
X-MICROSOFT-CDO-IMPORTANCE:1
END:VEVENT
BEGIN:VEVENT
UID:geciq@games.golnetwork.com
LOCATION:St Patrick - Field 4
CREATED:20190319T211153Z
DTSTART:20190514T010000Z
DTEND:20190514T020000Z
DTSTAMP:20260421T001713Z
SUMMARY:Brick Squad vs. Relax Max
DESCRIPTION:Relax Max vs. Brick SquadMore info: #504
X-ALT-DESC;FMTTYPE=text/html:<!DOCTYPE HTML PUBLIC "-//W3C//DTD HTML 3.2//E
	N">\n<HTML>\n<HEAD>\n<TITLE></TITLE>\n</HEAD>\n<BODY>\n<h3>Relax Max vs. Br
	ick Squad</h3>More info: <a href="https://www.golnetwork.com/game/v/141412/
	">#504</a>\n\n</BODY>\n</HTML>
STATUS:CONFIRMED
CLASS:PUBLIC
URL:https://www.golnetwork.com/game/v/141412/
X-MICROSOFT-CDO-BUSYSTATUS:BUSY
X-MICROSOFT-CDO-IMPORTANCE:1
END:VEVENT
BEGIN:VEVENT
UID:gecik@games.golnetwork.com
LOCATION:St Patrick - Field 4
CREATED:20190319T211103Z
DTSTART:20190430T020000Z
DTEND:20190430T030000Z
DTSTAMP:20260421T001713Z
SUMMARY:Relax Max vs. Brick Squad
DESCRIPTION:Brick Squad vs. Relax MaxMore info: #392
X-ALT-DESC;FMTTYPE=text/html:<!DOCTYPE HTML PUBLIC "-//W3C//DTD HTML 3.2//E
	N">\n<HTML>\n<HEAD>\n<TITLE></TITLE>\n</HEAD>\n<BODY>\n<h3>Brick Squad vs. 
	Relax Max</h3>More info: <a href="https://www.golnetwork.com/game/v/141409/
	">#392</a>\n\n</BODY>\n</HTML>
STATUS:CONFIRMED
CLASS:PUBLIC
URL:https://www.golnetwork.com/game/v/141409/
X-MICROSOFT-CDO-BUSYSTATUS:BUSY
X-MICROSOFT-CDO-IMPORTANCE:1
END:VEVENT
BEGIN:VEVENT
UID:gecia@games.golnetwork.com
LOCATION:St Patrick - Field 4
CREATED:20190319T211010Z
DTSTART:20190423T010000Z
DTEND:20190423T020000Z
DTSTAMP:20260421T001713Z
SUMMARY:XTSC Monday Madness vs. Relax Max
DESCRIPTION:Relax Max vs. XTSC Monday MadnessMore info: #329
X-ALT-DESC;FMTTYPE=text/html:<!DOCTYPE HTML PUBLIC "-//W3C//DTD HTML 3.2//E
	N">\n<HTML>\n<HEAD>\n<TITLE></TITLE>\n</HEAD>\n<BODY>\n<h3>Relax Max vs. XT
	SC Monday Madness</h3>More info: <a href="https://www.golnetwork.com/game/v
	/141404/">#329</a>\n\n</BODY>\n</HTML>
STATUS:CONFIRMED
CLASS:PUBLIC
URL:https://www.golnetwork.com/game/v/141404/
X-MICROSOFT-CDO-BUSYSTATUS:BUSY
X-MICROSOFT-CDO-IMPORTANCE:1
END:VEVENT
BEGIN:VEVENT
UID:geci6@games.golnetwork.com
LOCATION:St Patrick - Field 4
CREATED:20190319T210950Z
DTSTART:20190423T000000Z
DTEND:20190423T010000Z
DTSTAMP:20260421T001713Z
SUMMARY:Relegation Favourites vs. Relax Max
DESCRIPTION:Relax Max vs. Relegation FavouritesMore info: #326
X-ALT-DESC;FMTTYPE=text/html:<!DOCTYPE HTML PUBLIC "-//W3C//DTD HTML 3.2//E
	N">\n<HTML>\n<HEAD>\n<TITLE></TITLE>\n</HEAD>\n<BODY>\n<h3>Relax Max vs. Re
	legation Favourites</h3>More info: <a href="https://www.golnetwork.com/game
	/v/141402/">#326</a>\n\n</BODY>\n</HTML>
STATUS:CONFIRMED
CLASS:PUBLIC
URL:https://www.golnetwork.com/game/v/141402/
X-MICROSOFT-CDO-BUSYSTATUS:BUSY
X-MICROSOFT-CDO-IMPORTANCE:1
END:VEVENT
BEGIN:VEVENT
UID:geci0@games.golnetwork.com
LOCATION:Monarch Park Stadium - Field 4
GEO:43.6792789;-79.3234873
CREATED:20190319T210905Z
DTSTART:20190416T010000Z
DTEND:20190416T020000Z
DTSTAMP:20260421T001713Z
SUMMARY:Relax Max vs. The Business
DESCRIPTION:The Business vs. Relax MaxMore info: #286
X-ALT-DESC;FMTTYPE=text/html:<!DOCTYPE HTML PUBLIC "-//W3C//DTD HTML 3.2//E
	N">\n<HTML>\n<HEAD>\n<TITLE></TITLE>\n</HEAD>\n<BODY>\n<h3>The Business vs.
	 Relax Max</h3>More info: <a href="https://www.golnetwork.com/game/v/141399
	/">#286</a>\n\n</BODY>\n</HTML>
STATUS:CONFIRMED
CLASS:PUBLIC
URL:https://www.golnetwork.com/game/v/141399/
X-MICROSOFT-CDO-BUSYSTATUS:BUSY
X-MICROSOFT-CDO-IMPORTANCE:1
END:VEVENT
BEGIN:VEVENT
UID:gechn@games.golnetwork.com
LOCATION:Monarch Park Stadium - Field 4
GEO:43.6792789;-79.3234873
CREATED:20190319T210840Z
DTSTART:20190409T030000Z
DTEND:20190409T040000Z
DTSTAMP:20260421T001713Z
SUMMARY:Net Six and Chill vs. Relax Max
DESCRIPTION:Relax Max vs. Net Six and ChillMore info: #230
X-ALT-DESC;FMTTYPE=text/html:<!DOCTYPE HTML PUBLIC "-//W3C//DTD HTML 3.2//E
	N">\n<HTML>\n<HEAD>\n<TITLE></TITLE>\n</HEAD>\n<BODY>\n<h3>Relax Max vs. Ne
	t Six and Chill</h3>More info: <a href="https://www.golnetwork.com/game/v/1
	41397/">#230</a>\n\n</BODY>\n</HTML>
STATUS:CONFIRMED
CLASS:PUBLIC
URL:https://www.golnetwork.com/game/v/141397/
X-MICROSOFT-CDO-BUSYSTATUS:BUSY
X-MICROSOFT-CDO-IMPORTANCE:1
END:VEVENT
BEGIN:VEVENT
UID:gech9@games.golnetwork.com
LOCATION:Monarch Park Stadium - Field 4
GEO:43.6792789;-79.3234873
CREATED:20190319T210739Z
DTSTART:20190402T000000Z
DTEND:20190402T010000Z
DTSTAMP:20260421T001713Z
SUMMARY:Brick Squad vs. Relax Max
DESCRIPTION:Relax Max vs. Brick SquadMore info: #160
X-ALT-DESC;FMTTYPE=text/html:<!DOCTYPE HTML PUBLIC "-//W3C//DTD HTML 3.2//E
	N">\n<HTML>\n<HEAD>\n<TITLE></TITLE>\n</HEAD>\n<BODY>\n<h3>Relax Max vs. Br
	ick Squad</h3>More info: <a href="https://www.golnetwork.com/game/v/141390/
	">#160</a>\n\n</BODY>\n</HTML>
STATUS:CONFIRMED
CLASS:PUBLIC
URL:https://www.golnetwork.com/game/v/141390/
X-MICROSOFT-CDO-BUSYSTATUS:BUSY
X-MICROSOFT-CDO-IMPORTANCE:1
END:VEVENT
BEGIN:VEVENT
UID:gech7@games.golnetwork.com
LOCATION:Monarch Park Stadium - Field 4
GEO:43.6792789;-79.3234873
CREATED:20190319T210729Z
DTSTART:20190326T030000Z
DTEND:20190326T040000Z
DTSTAMP:20260421T001713Z
SUMMARY:Relax Max vs. Carlton Street Kickers
DESCRIPTION:Carlton Street Kickers vs. Relax MaxMore info: #107
X-ALT-DESC;FMTTYPE=text/html:<!DOCTYPE HTML PUBLIC "-//W3C//DTD HTML 3.2//E
	N">\n<HTML>\n<HEAD>\n<TITLE></TITLE>\n</HEAD>\n<BODY>\n<h3>Carlton Street K
	ickers vs. Relax Max</h3>More info: <a href="https://www.golnetwork.com/gam
	e/v/141389/">#107</a>\n\n</BODY>\n</HTML>
STATUS:CONFIRMED
CLASS:PUBLIC
URL:https://www.golnetwork.com/game/v/141389/
X-MICROSOFT-CDO-BUSYSTATUS:BUSY
X-MICROSOFT-CDO-IMPORTANCE:1
END:VEVENT
END:VCALENDAR
