BEGIN:VCALENDAR
PRODID:-//gdesolutions.com//MV Framework 1.0.0.1607 Calendar//EN
VERSION:2.0
METHOD:PUBLISH
CALSCALE:GREGORIAN
BEGIN:VEVENT
UID:gf6ml@games.golnetwork.com
LOCATION:Lees Turf Field #4
GEO:45.4162609;-75.6694854
CREATED:20190822T184432Z
DTSTART:20190827T230000Z
DTEND:20190828T003000Z
DTSTAMP:20260419T161155Z
SUMMARY:Get Messi vs. Not Fast Just Furious
DESCRIPTION:Not Fast Just Furious vs. Get MessiMore info: #39
X-ALT-DESC;FMTTYPE=text/html:<!DOCTYPE HTML PUBLIC "-//W3C//DTD HTML 3.2//E
	N">\n<HTML>\n<HEAD>\n<TITLE></TITLE>\n</HEAD>\n<BODY>\n<h3>Not Fast Just Fu
	rious vs. Get Messi</h3>More info: <a href="https://www.golnetwork.com/game
	/v/149118/">#39</a>\n\n</BODY>\n</HTML>
STATUS:CONFIRMED
CLASS:PUBLIC
URL:https://www.golnetwork.com/game/v/149118/
X-MICROSOFT-CDO-BUSYSTATUS:BUSY
X-MICROSOFT-CDO-IMPORTANCE:1
END:VEVENT
BEGIN:VEVENT
UID:gf61c@games.golnetwork.com
LOCATION:Lees Turf Field #3
CREATED:20190814T042528Z
DTSTART:20190820T230000Z
DTEND:20190821T003000Z
DTSTAMP:20260419T161155Z
SUMMARY:Lixar FC vs. Not Fast Just Furious
DESCRIPTION:Not Fast Just Furious vs. Lixar FCMore info: #33
X-ALT-DESC;FMTTYPE=text/html:<!DOCTYPE HTML PUBLIC "-//W3C//DTD HTML 3.2//E
	N">\n<HTML>\n<HEAD>\n<TITLE></TITLE>\n</HEAD>\n<BODY>\n<h3>Not Fast Just Fu
	rious vs. Lixar FC</h3>More info: <a href="https://www.golnetwork.com/game/
	v/148830/">#33</a>\n\n</BODY>\n</HTML>
STATUS:CONFIRMED
CLASS:PUBLIC
URL:https://www.golnetwork.com/game/v/148830/
X-MICROSOFT-CDO-BUSYSTATUS:BUSY
X-MICROSOFT-CDO-IMPORTANCE:1
END:VEVENT
BEGIN:VEVENT
UID:gf593@games.golnetwork.com
LOCATION:Lees Turf Field #3
CREATED:20190811T154201Z
DTSTART:20190813T230000Z
DTEND:20190814T003000Z
DTSTAMP:20260419T161155Z
SUMMARY:Barra Brava vs. Not Fast Just Furious
DESCRIPTION:Not Fast Just Furious vs. Barra BravaMore info: #29
X-ALT-DESC;FMTTYPE=text/html:<!DOCTYPE HTML PUBLIC "-//W3C//DTD HTML 3.2//E
	N">\n<HTML>\n<HEAD>\n<TITLE></TITLE>\n</HEAD>\n<BODY>\n<h3>Not Fast Just Fu
	rious vs. Barra Brava</h3>More info: <a href="https://www.golnetwork.com/ga
	me/v/148569/">#29</a>\n\n</BODY>\n</HTML>
STATUS:CONFIRMED
CLASS:PUBLIC
URL:https://www.golnetwork.com/game/v/148569/
X-MICROSOFT-CDO-BUSYSTATUS:BUSY
X-MICROSOFT-CDO-IMPORTANCE:1
END:VEVENT
BEGIN:VEVENT
UID:gf3co@games.golnetwork.com
LOCATION:Lees Turf Field #1
GEO:45.415776;-75.6684899
CREATED:20190725T175626Z
DTSTART:20190807T003000Z
DTEND:20190807T020000Z
DTSTAMP:20260419T161155Z
SUMMARY:Rot-Weiss Soccer moms vs. Not Fast Just Furious
DESCRIPTION:Not Fast Just Furious vs. Rot-Weiss Soccer momsMore info: #26
X-ALT-DESC;FMTTYPE=text/html:<!DOCTYPE HTML PUBLIC "-//W3C//DTD HTML 3.2//E
	N">\n<HTML>\n<HEAD>\n<TITLE></TITLE>\n</HEAD>\n<BODY>\n<h3>Not Fast Just Fu
	rious vs. Rot-Weiss Soccer moms</h3>More info: <a href="https://www.golnetw
	ork.com/game/v/147891/">#26</a>\n\n</BODY>\n</HTML>
STATUS:CONFIRMED
CLASS:PUBLIC
URL:https://www.golnetwork.com/game/v/147891/
X-MICROSOFT-CDO-BUSYSTATUS:BUSY
X-MICROSOFT-CDO-IMPORTANCE:1
END:VEVENT
BEGIN:VEVENT
UID:gf3ca@games.golnetwork.com
LOCATION:Lees Turf Field #1
GEO:45.415776;-75.6684899
CREATED:20190725T175241Z
DTSTART:20190730T230000Z
DTEND:20190731T003000Z
DTSTAMP:20260419T161155Z
SUMMARY:Not Fast Just Furious vs. Crystal Phallus
DESCRIPTION:Crystal Phallus vs. Not Fast Just FuriousMore info: #17
X-ALT-DESC;FMTTYPE=text/html:<!DOCTYPE HTML PUBLIC "-//W3C//DTD HTML 3.2//E
	N">\n<HTML>\n<HEAD>\n<TITLE></TITLE>\n</HEAD>\n<BODY>\n<h3>Crystal Phallus 
	vs. Not Fast Just Furious</h3>More info: <a href="https://www.golnetwork.co
	m/game/v/147884/">#17</a>\n\n</BODY>\n</HTML>
STATUS:CONFIRMED
CLASS:PUBLIC
URL:https://www.golnetwork.com/game/v/147884/
X-MICROSOFT-CDO-BUSYSTATUS:BUSY
X-MICROSOFT-CDO-IMPORTANCE:1
END:VEVENT
BEGIN:VEVENT
UID:gf10g@games.golnetwork.com
LOCATION:Lees Turf Field #4
GEO:45.4162609;-75.6694854
CREATED:20190704T182242Z
DTSTART:20190723T230000Z
DTEND:20190724T003000Z
DTSTAMP:20260419T161155Z
SUMMARY:Barra Brava vs. Not Fast Just Furious
DESCRIPTION:Not Fast Just Furious vs. Barra BravaMore info: #16
X-ALT-DESC;FMTTYPE=text/html:<!DOCTYPE HTML PUBLIC "-//W3C//DTD HTML 3.2//E
	N">\n<HTML>\n<HEAD>\n<TITLE></TITLE>\n</HEAD>\n<BODY>\n<h3>Not Fast Just Fu
	rious vs. Barra Brava</h3>More info: <a href="https://www.golnetwork.com/ga
	me/v/146996/">#16</a>\n\n</BODY>\n</HTML>
STATUS:CONFIRMED
CLASS:PUBLIC
URL:https://www.golnetwork.com/game/v/146996/
X-MICROSOFT-CDO-BUSYSTATUS:BUSY
X-MICROSOFT-CDO-IMPORTANCE:1
END:VEVENT
BEGIN:VEVENT
UID:gf106@games.golnetwork.com
LOCATION:Lees Turf Field #3
CREATED:20190704T182040Z
DTSTART:20190716T230000Z
DTEND:20190717T003000Z
DTSTAMP:20260419T161155Z
SUMMARY:Lixar FC vs. Not Fast Just Furious
DESCRIPTION:Not Fast Just Furious vs. Lixar FCMore info: #11
X-ALT-DESC;FMTTYPE=text/html:<!DOCTYPE HTML PUBLIC "-//W3C//DTD HTML 3.2//E
	N">\n<HTML>\n<HEAD>\n<TITLE></TITLE>\n</HEAD>\n<BODY>\n<h3>Not Fast Just Fu
	rious vs. Lixar FC</h3>More info: <a href="https://www.golnetwork.com/game/
	v/146991/">#11</a>\n\n</BODY>\n</HTML>
STATUS:CONFIRMED
CLASS:PUBLIC
URL:https://www.golnetwork.com/game/v/146991/
X-MICROSOFT-CDO-BUSYSTATUS:BUSY
X-MICROSOFT-CDO-IMPORTANCE:1
END:VEVENT
BEGIN:VEVENT
UID:gf100@games.golnetwork.com
LOCATION:Lees Turf Field #4
GEO:45.4162609;-75.6694854
CREATED:20190704T181859Z
DTSTART:20190709T230000Z
DTEND:20190710T003000Z
DTSTAMP:20260419T161155Z
SUMMARY:Buenos Nachos vs. Not Fast Just Furious
DESCRIPTION:Not Fast Just Furious vs. Buenos NachosMore info: #8
X-ALT-DESC;FMTTYPE=text/html:<!DOCTYPE HTML PUBLIC "-//W3C//DTD HTML 3.2//E
	N">\n<HTML>\n<HEAD>\n<TITLE></TITLE>\n</HEAD>\n<BODY>\n<h3>Not Fast Just Fu
	rious vs. Buenos Nachos</h3>More info: <a href="https://www.golnetwork.com/
	game/v/146988/">#8</a>\n\n</BODY>\n</HTML>
STATUS:CONFIRMED
CLASS:PUBLIC
URL:https://www.golnetwork.com/game/v/146988/
X-MICROSOFT-CDO-BUSYSTATUS:BUSY
X-MICROSOFT-CDO-IMPORTANCE:1
END:VEVENT
BEGIN:VEVENT
UID:gf0gb@games.golnetwork.com
LOCATION:Lees Turf Field #2
GEO:45.415776;-75.6684899
CREATED:20190624T173802Z
DTSTART:20190702T230000Z
DTEND:20190703T003000Z
DTSTAMP:20260419T161155Z
SUMMARY:Not Fast Just Furious vs. Individuals 1
DESCRIPTION:Individuals 1 vs. Not Fast Just FuriousMore info: #2
X-ALT-DESC;FMTTYPE=text/html:<!DOCTYPE HTML PUBLIC "-//W3C//DTD HTML 3.2//E
	N">\n<HTML>\n<HEAD>\n<TITLE></TITLE>\n</HEAD>\n<BODY>\n<h3>Individuals 1 vs
	. Not Fast Just Furious</h3>More info: <a href="https://www.golnetwork.com/
	game/v/146845/">#2</a>\n\n</BODY>\n</HTML>
STATUS:CONFIRMED
CLASS:PUBLIC
URL:https://www.golnetwork.com/game/v/146845/
X-MICROSOFT-CDO-BUSYSTATUS:BUSY
X-MICROSOFT-CDO-IMPORTANCE:1
END:VEVENT
END:VCALENDAR
