BEGIN:VCALENDAR
PRODID:-//gdesolutions.com//MV Framework 1.0.0.1607 Calendar//EN
VERSION:2.0
METHOD:PUBLISH
CALSCALE:GREGORIAN
BEGIN:VEVENT
UID:gfi0j@games.golnetwork.com
LOCATION:Hornet's Nest #3
GEO:45.4428309;-75.575268
CREATED:20191118T221415Z
DTSTART:20191122T023000Z
DTEND:20191122T032000Z
DTSTAMP:20260423T035157Z
SUMMARY:individuals vs. JFC
DESCRIPTION:JFC vs. individualsMore info: #111
X-ALT-DESC;FMTTYPE=text/html:<!DOCTYPE HTML PUBLIC "-//W3C//DTD HTML 3.2//E
	N">\n<HTML>\n<HEAD>\n<TITLE></TITLE>\n</HEAD>\n<BODY>\n<h3>JFC vs. individu
	als</h3>More info: <a href="https://www.golnetwork.com/game/v/153194/">#111
	</a>\n\n</BODY>\n</HTML>
STATUS:CONFIRMED
CLASS:PUBLIC
URL:https://www.golnetwork.com/game/v/153194/
X-MICROSOFT-CDO-BUSYSTATUS:BUSY
X-MICROSOFT-CDO-IMPORTANCE:1
END:VEVENT
BEGIN:VEVENT
UID:gfce5@games.golnetwork.com
LOCATION:Hornet's Nest #1
GEO:45.4428309;-75.575268
CREATED:20191028T182847Z
DTSTART:20191101T010000Z
DTEND:20191101T015000Z
DTSTAMP:20260423T035157Z
SUMMARY:individuals vs. Arsenanal FC
DESCRIPTION:Arsenanal FC vs. individualsMore info: #79
X-ALT-DESC;FMTTYPE=text/html:<!DOCTYPE HTML PUBLIC "-//W3C//DTD HTML 3.2//E
	N">\n<HTML>\n<HEAD>\n<TITLE></TITLE>\n</HEAD>\n<BODY>\n<h3>Arsenanal FC vs.
	 individuals</h3>More info: <a href="https://www.golnetwork.com/game/v/1511
	89/">#79</a>\n\n</BODY>\n</HTML>
STATUS:CONFIRMED
CLASS:PUBLIC
URL:https://www.golnetwork.com/game/v/151189/
X-MICROSOFT-CDO-BUSYSTATUS:BUSY
X-MICROSOFT-CDO-IMPORTANCE:1
END:VEVENT
BEGIN:VEVENT
UID:gfc0b@games.golnetwork.com
LOCATION:Louis Riel #2
GEO:45.4410208;-75.5715394
CREATED:20191019T195002Z
DTSTART:20191025T013000Z
DTEND:20191025T022000Z
DTSTAMP:20260423T035157Z
SUMMARY:Winded FC vs. individuals
DESCRIPTION:individuals vs. Winded FCMore info: #68
X-ALT-DESC;FMTTYPE=text/html:<!DOCTYPE HTML PUBLIC "-//W3C//DTD HTML 3.2//E
	N">\n<HTML>\n<HEAD>\n<TITLE></TITLE>\n</HEAD>\n<BODY>\n<h3>individuals vs. 
	Winded FC</h3>More info: <a href="https://www.golnetwork.com/game/v/151003/
	">#68</a>\n\n</BODY>\n</HTML>
STATUS:CONFIRMED
CLASS:PUBLIC
URL:https://www.golnetwork.com/game/v/151003/
X-MICROSOFT-CDO-BUSYSTATUS:BUSY
X-MICROSOFT-CDO-IMPORTANCE:1
END:VEVENT
BEGIN:VEVENT
UID:gfbcm@games.golnetwork.com
LOCATION:Louis Riel #1
GEO:45.4410208;-75.5715394
CREATED:20191014T054508Z
DTSTART:20191018T013000Z
DTEND:20191018T022000Z
DTSTAMP:20260423T035157Z
SUMMARY:individuals vs. Strikers
DESCRIPTION:Strikers vs. individualsMore info: #55
X-ALT-DESC;FMTTYPE=text/html:<!DOCTYPE HTML PUBLIC "-//W3C//DTD HTML 3.2//E
	N">\n<HTML>\n<HEAD>\n<TITLE></TITLE>\n</HEAD>\n<BODY>\n<h3>Strikers vs. ind
	ividuals</h3>More info: <a href="https://www.golnetwork.com/game/v/150806/"
	>#55</a>\n\n</BODY>\n</HTML>
STATUS:CONFIRMED
CLASS:PUBLIC
URL:https://www.golnetwork.com/game/v/150806/
X-MICROSOFT-CDO-BUSYSTATUS:BUSY
X-MICROSOFT-CDO-IMPORTANCE:1
END:VEVENT
BEGIN:VEVENT
UID:gfa29@games.golnetwork.com
LOCATION:Hornet's Nest #2
GEO:45.4428309;-75.575268
CREATED:20190924T071342Z
DTSTART:20191010T223000Z
DTEND:20191010T232000Z
DTSTAMP:20260423T035157Z
SUMMARY:Cornerstone FC vs. individuals
DESCRIPTION:individuals vs. Cornerstone FCMore info: #38
X-ALT-DESC;FMTTYPE=text/html:<!DOCTYPE HTML PUBLIC "-//W3C//DTD HTML 3.2//E
	N">\n<HTML>\n<HEAD>\n<TITLE></TITLE>\n</HEAD>\n<BODY>\n<h3>individuals vs. 
	Cornerstone FC</h3>More info: <a href="https://www.golnetwork.com/game/v/15
	0300/">#38</a>\n\n</BODY>\n</HTML>
STATUS:CONFIRMED
CLASS:PUBLIC
URL:https://www.golnetwork.com/game/v/150300/
X-MICROSOFT-CDO-BUSYSTATUS:BUSY
X-MICROSOFT-CDO-IMPORTANCE:1
END:VEVENT
BEGIN:VEVENT
UID:gfa12@games.golnetwork.com
LOCATION:Louis Riel #2
GEO:45.4410208;-75.5715394
CREATED:20190924T070420Z
DTSTART:20191003T233000Z
DTEND:20191004T002000Z
DTSTAMP:20260423T035157Z
SUMMARY:Arsenanal FC vs. individuals
DESCRIPTION:individuals vs. Arsenanal FCMore info: #30
X-ALT-DESC;FMTTYPE=text/html:<!DOCTYPE HTML PUBLIC "-//W3C//DTD HTML 3.2//E
	N">\n<HTML>\n<HEAD>\n<TITLE></TITLE>\n</HEAD>\n<BODY>\n<h3>individuals vs. 
	Arsenanal FC</h3>More info: <a href="https://www.golnetwork.com/game/v/1502
	83/">#30</a>\n\n</BODY>\n</HTML>
STATUS:CONFIRMED
CLASS:PUBLIC
URL:https://www.golnetwork.com/game/v/150283/
X-MICROSOFT-CDO-BUSYSTATUS:BUSY
X-MICROSOFT-CDO-IMPORTANCE:1
END:VEVENT
BEGIN:VEVENT
UID:gf9qe@games.golnetwork.com
LOCATION:Louis Riel #2
GEO:45.4410208;-75.5715394
CREATED:20190924T010832Z
DTSTART:20190927T003000Z
DTEND:20190927T012000Z
DTSTAMP:20260423T035157Z
SUMMARY:Sock-it Rockets vs. individuals
DESCRIPTION:individuals vs. Sock-it RocketsMore info: #25
X-ALT-DESC;FMTTYPE=text/html:<!DOCTYPE HTML PUBLIC "-//W3C//DTD HTML 3.2//E
	N">\n<HTML>\n<HEAD>\n<TITLE></TITLE>\n</HEAD>\n<BODY>\n<h3>individuals vs. 
	Sock-it Rockets</h3>More info: <a href="https://www.golnetwork.com/game/v/1
	50262/">#25</a>\n\n</BODY>\n</HTML>
STATUS:CONFIRMED
CLASS:PUBLIC
URL:https://www.golnetwork.com/game/v/150262/
X-MICROSOFT-CDO-BUSYSTATUS:BUSY
X-MICROSOFT-CDO-IMPORTANCE:1
END:VEVENT
BEGIN:VEVENT
UID:gf9c2@games.golnetwork.com
LOCATION:Louis Riel #2
GEO:45.4410208;-75.5715394
CREATED:20190916T164822Z
DTSTART:20190920T003000Z
DTEND:20190920T012000Z
DTSTAMP:20260423T035157Z
SUMMARY:individuals vs. JFC
DESCRIPTION:JFC vs. individualsMore info: #16
X-ALT-DESC;FMTTYPE=text/html:<!DOCTYPE HTML PUBLIC "-//W3C//DTD HTML 3.2//E
	N">\n<HTML>\n<HEAD>\n<TITLE></TITLE>\n</HEAD>\n<BODY>\n<h3>JFC vs. individu
	als</h3>More info: <a href="https://www.golnetwork.com/game/v/150067/">#16<
	/a>\n\n</BODY>\n</HTML>
STATUS:CONFIRMED
CLASS:PUBLIC
URL:https://www.golnetwork.com/game/v/150067/
X-MICROSOFT-CDO-BUSYSTATUS:BUSY
X-MICROSOFT-CDO-IMPORTANCE:1
END:VEVENT
END:VCALENDAR
